{"text_format":"1","workbook":"xlsx","n_sheets":7,"sheets":["e-216","Exhibit 1","HS WS","MC WS","PC WS","NC WS","BC WS"],"not_rendered":{"charts":0,"images":0,"macros":1,"external_links":0,"defined_names":12,"comments":6,"pivot_tables":0},"unopened":[],"bounds":{"document_bytes":16777216,"sheet_cells":100000,"rows_first":2000,"rows_last":500,"rows_between":2000,"halvings":0,"cell_chars":16384,"cell_head_chars":4096},"cells_cut":0,"cells_raw":0,"read":"whole","date_system":"1900"}

{"sheet":"e-216","index":0,"n_rows":5010,"n_cols":105,"rows_kept":562,"cut":true,"hidden":false,"merged":[[5,0,5,1],[8,6,8,14],[8,20,8,21],[7,5,7,6],[7,7,7,13],[6,20,6,21],[7,20,7,21],[8,3,8,5],[6,6,6,12],[5,6,5,12],[4,20,4,21],[4,6,4,12],[3,6,3,12],[5,20,5,21],[5,2,5,4],[1,20,1,21],[2,6,2,11],[0,20,0,21],[2,20,2,21],[3,20,3,21]],"bounds":{"rows_first":250,"rows_last":62,"rows_between":250,"halvings":3}}
[null,null,null,null,null,null,null,"2024 REMITTANCE ADVICE (FORM e-216)",null,null,null,null,null,null,null,"Carrier Code",{"$f":"IF(AL9=\"IER\",\" \",AL9)","v":" "},"Receipt Date","Receipt Date",null,null,null,null,"V1.0.7",null,null,0.26,null,null,null,null,null,null,null,"Current Value","Opening Value",null,null,null,"Static NOW","PreOpening Date",null,null,"Ending Credit Balance Calaulations",null,null,null,null,null,null,null,null,null,null,null,null,null,null,null,null,null,null,null,null,null,null,null,null,null,0]
["216 Date:","Completion Date",null,null,null,null,null,{"$f":"\"For remitting coverage that incepted or renewed in \"&LEFT(H1,4)&\" only\"","v":"For remitting coverage that incepted or renewed in 2024 only"},null,null,null,null,null,null,null,"Check/EFT #",null,"Count","Transaction Count",{"$f":"COUNT(O11:O8953)","v":0},{"$f":"COUNTA(M11:M5010)","v":0},null,null,null,null,null,null,null,null,null,null,null,null,null,0,{"$f":"SUM(C:W)","v":0},0,null,null,"2020-01-21T10:08:00","Completion Date",null,{"$f":"IF(U2>0,IF(B2=\"Enter Today's Date\",NOW(),B2),\"\")","v":""},null,null,null,null,null,null,null,null,null,null,null,null,null,null,null,null,null,null,null,null,null,null,null,null,null,null,0]
[null,null,null,null,null,null,"Please Select Primary Carrier",null,null,null,null,null,null,null,null,"Check / EFT Amount",null,"Policy Exam.","Coverage Specialist",null,null,null,null,null,null,null,null,null,null,null,null,null,null,null,null,0,null,null,null,null,null,null,null,{"$f":"SUM(Q6+Q7)","v":0},null,null,null,null,null,null,null,null,null,null,null,null,null,null,null,null,null,null,null,null,null,null,null,null,null,0]
["Related #:",null,null,null,null,null,"Contact Person's Name",null,null,null,null,null,null,null,null,null,null,"Contact Code","Contact Code",null,null,null,null,null,null,null,null,null,null,null,null,null,null,null,null,null,null,null,null,null,null,null,null,{"$f":"SUM(Q5+Q6)","v":0},null,null,null,null,null,null,null,null,null,null,null,null,null,null,null,null,null,null,null,null,1,2,3,4,5,6,7]
["Entity Name:",null,null,null,null,null,"Contact Person's Address",null,null,null,null,null,null,null," ","Assessment Total",{"$f":"SUM(S11:S5010)","v":0},null,null,null,null,null,null,null,null,null,null,null,null,null,null,null,null,null,null,null,null,null,null,null,null,null,null,null,null,null,null,null,null,null,null,null,null,null,null,null,null,null,null,null,null,null,null,null,4243,2309,2703,3324,3573,2838,3324]
["Basic Insurance Coverage Limit:",null,"$500,000/$2,500,000 Hospital",null,null,null,"Contact Person's Telephone #",null,null,null,null,null,null,null,null,"Beginning Crdt Bal",0,"From e216 dated:","From e-216 dated:",null,null,null,null,null,null,null,null,null,null,null,null,null,null,null,null,null,null,null,null,null,null,null,null,null,null,null,null,null,null,null,null,null,null,null,null,null,null,null,null,null,null,null,null,null,8310,4099,4956,6309,6851,5249,6221]
[null,null,"$500,000/$1,500,000 All Others",null,null,null,"Contact Person's Email",null,null,null,null,null,null,null," ","Crdt Bal Used",0,null,null,null,null,null,null,null,null,null,null,null,null,null,null,null,null,null,null,null,null,null,null,null,{"$f":"IF(P2=\"Select Payment Type\",AK9,P2)","v":"Check/EFT #"},null,null,null,null,null,null,null,null,null,null,null,null,null,null,null,null,null,null,null,null,null,null,null,14812,6960,8558,11082,12092,9105,11082]
[null,null,null,null,null,"Email completed e-216 to:",null,"ra-in-remittance@pa.gov",null,null,null,null,null,null,null,"Ending Crdt Bal",{"$f":"IF(Q5>0,AR3,AR4)","v":0},"To e216 dated:","To e-216 dated:",null,null,null,null,null,null,null,null,null,null,null,null,null,null,null,"DocuShare","DocuShare",null,"Insurer Cde","Official e-216","Run Date","Check # Text","Check",null,"DocuShare Email Agent Collection"]
[null,null,null,"Email subject line should be",null,null,{"$f":"Q1&AK9&AM9&AK9&TEXT(AN9,\"mm/dd/yy\")&AK9&AO9&AK9&Q2&AK9","v":"  Official e-216      "},null,null,null,null,null,null,null,null,"Amount Due",{"$f":"SUM(Q5-Q7)","v":0},null,null,null,"",null,null,null,null,null,null,null,null,null,null,null,null,null,{"$f":"IF(B2=\"Completion Date\",\" \",\"<To:Mcare216>\")","v":" "},">"," ",{"$f":"RIGHT(G3,3)","v":"ier"},{"$f":"IF(B2=\"Enter Today's Date\",\" \",\"Official e-216\")","v":"Official e-216"},{"$f":"IF(B2=\"Completion Date\",\" \",B2)","v":" "},{"$f":"IF(Q2>0,\"Check/EFT No.\",AK9)","v":" "},{"$f":"IF(Q2>0,Q2,\"N/A \")","v":"N/A "}," √316",null,null,null,null,null,null,null,null,null,null,null,null,null,null,null,null,null,null,null,null,null,null,null,null,null,null,null,null,null,null,null,null,null,null,null,null,null,null,null,null,null,null,null,null,null,null,null,null,null,null,"*"]
["License or Assigned Number","Name\nLast, First, M.I.","From\nDate","To\nDate","Cancel\nDate","Retro\nDate","Carrier's Policy #","Policy Type","F.T.E. Factor","Part-Time","Resident/Fellow/ New Doctor","Policy Modifier","County Code","Specialty Code","Primary Carrier's Premium","Prevailing Primary Premium","Full Assessment","2009 Abatement %","Remitted Assessment",null,"Comment","Related License or Assigned Number","FOR MCARE'S OFFICIAL USE ONLY","Additional Identification","Slot Identification #","Work Address Street 1","Work Address Street 2","Work Address City","Work Address Zip","Zip +4",null,null,"Return Surcharge","Surcharge Payment","# of Days","# of Cncl Days","Daily rate","Adjusted PPP","Adjusted F.T.E.","Adjusted P/T","Adjusted New/Res",null,null,null,"P08","P16","P24","PT        Total",null,"Res/New R","Res/New 1","Res/New 2","Res/New 3","Res/New Total",null,"DX Terr 1","DX Terr 2","DX Terr 3","DX Terr 4","DX Terr 5","DX Terr 6","DX Total",null,null,10682,5143,6270,8051,8763,6656,8051,"Class Code","Territory 1","Territory 2","Territory 3","Territory 4","Territory 5","Territory 6","Territory 7","Territory ",null,null,null,"100% Abatement","50% Abatement","0% Abatement","Abated Assessment","Class Code","Unabated Assessment","Assessment","No Rating of Tail","New Retro Coverage","Add \"-\" to Policy #","New Retro Policy #",null,null,"Slot Specialty ","Slot Position","Is Slot Rating OK",null,"$$$\nMoney Auditor",null,null,null,"USER NOTES"]
[null,null,null,null,null,null,null,null,null,null,null,null,null,null,null,{"$f":"IF(M11>0,INDEX($BM$1:$BS$903,BT11,CB11),0)","v":0},{"$f":"IF(AND(NOT(ISBLANK(I11)),I11=0),0,CM11)","v":0},null,{"$f":"IF(OR(H11=\"ERP\",H11=\"PA\",H11=\"SAT\",H11=\"IT\"),CM11,Q11*(100%-R11)+T11)","v":0},null,null,{"$f":"IF(AND($B$4>\"BC-\",M11>0),$B$4,\"\")","v":""},null,null," ",null,null,null,null,null,null,null,{"$f":"VALUE(AJ11)*((AO11+BJ11)*$AA$1)/AI11","v":{"$error":"#DIV/0!"}},{"$f":"((AO11+BJ11)*$AA$1)","v":0},{"$f":"IF(AND(C11<45351,D11>45351),(D11-C11)-1,D11-C11)","v":0},{"$f":"IF(AND(C11<45351,D11>45351,E11<45351),(E11-D11)+1,(E11-D11))","v":0},{"$f":"P11/365","v":0},{"$f":"AI11*AK11","v":0},{"$f":"AL11*AP11","v":0},{"$f":"AW11*AM11","v":0},{"$f":"BC11*AN11","v":0},{"$f":"IF(OR(I11=1,I11=0),\"100%\",I11)","v":"100%"},null,null,{"$f":"IF(J11=8,50%,0)","v":0},{"$f":"IF(J11=16,65%,0)","v":0},{"$f":"IF(J11=24,80%,0)","v":0},{"$f":"SUM(AS11:AU11)","v":0},{"$f":"IF(AV11=0,100%,AV11)","v":1},{"$f":"IF(OR(K11=\"R\", K11=\"F\"),50%,0)","v":0},{"$f":"IF(K11=\"Y1\",25%,0)","v":0},{"$f":"IF(K11=\"Y2\",50%,0)","v":0},{"$f":"IF(K11=\"Y3\",75%,0)","v":0},{"$f":"SUM(AX11:BA11)","v":0},{"$f":"IF(BB11=0,100%,BB11)","v":1},{"$f":"IF(AND(L11=\"DX\",N11<\"02001\"),IF(OR(M11=51),10106),\"0\")","v":"0"},{"$f":"IF(AND(L11=\"DX\",N11<\"02001\",M11<>23,M11<>51,M11<>2,M11<>43,M11<>63,M11<>65,M11<>9,M11<>46,M11<>54,M11<>15,M11<>35,M11<>45,M11<>6,M11<>7,M11<>21,M11<>22,M11<>25,M11<>39,M11<>40,M11<>48,M11<>67),5558,\"0\")","v":"0"},{"$f":"IF(AND(L11=\"DX\",N11<\"02001\"),IF(OR(M11=2,M11=3,M11=22,M11=33,M11=63,M11=65),6063),\"0\")","v":"0"},{"$f":"IF(AND(L11=\"DX\",N11<\"02001\"),IF(OR(M11=9,M11=26,M11=35,M11=40,M11=43,M11=46),8591),\"0\")","v":"0"},{"$f":"IF(AND(L11=\"DX\",N11<\"02001\"),IF(OR(M11=23),8591),\"0\")","v":"0"},{"$f":"IF(AND(L11=\"DX\",N11<\"02001\"),IF(OR(M11=7,M11=15,M11=19,M11=20,M11=25,M11=37,M11=45,M11=48,M11=54),6063),\"0\")","v":"0"},{"$f":"SUM(BD11:BI11)","v":0},null,null,0,0,0,0,0,0,null,{"$f":"LEFT(CD11,3)","v":"0"},{"$f":"IF(OR(M11=51),1,\"0\")","v":"0"},{"$f":"IF(OR(M11=4,M11=13,M11=17,M11=3,M11=33,M11=23,M11=51,M11=2,M11=26,M11=37,M11=63,M11=65,M11=9,M11=35,M11=46,M11=15,M11=45,M11=7,M11=19,M11=20,M11=22,M11=25,M11=39,M11=40,M11=43,M11=48, M11=54,M11=0),0,\"2\")","v":0},{"$f":"IF(OR(M11=2,M11=3,M11=4,M11=13,M11=17,M11=22,M11=33,M11=63),3,\"0\")","v":"0"},{"$f":"IF(OR(M11=23,M11=26,M11=40,M11=43),4,\"0\")","v":"0"},{"$f":"IF(OR(M11=35),5,\"0\")","v":"0"},{"$f":"IF(OR(M11=9,M11=15,M11=19,M11=20,M11=25,M11=37,M11=39,M11=45,M11=46,M11=48,M11=54,M11=65),6,\"0\")","v":"0"},{"$f":"IF(M11=7,7,0)","v":0},{"$f":"SUM(BU11+BV11+BW11+BX11+BY11+BZ11+CA11+CC11)","v":8},{"$f":"IF(M11=0,8,0)","v":8},{"$f":"IF(N11=\"00651\",\"00551\",IF(AND(N11=\"80993\"),\"12093\",IF(AND(N11=\"80994\"),\"13094\",N11)))","v":0},null,{"$f":"IF(OR(CJ11=70, CJ11=80, CJ11=90, CJ11=100, CJ11=801),CK11*0%,\"0\")","v":"0"},{"$f":"IF(OR(CJ11=6,CJ11=7,CJ11=10,CJ11=12,CJ11=15,CJ11=20,CJ11=22,CJ11=30,CJ11=35,CJ11=50,CJ11=60),CK11*50%,\"0\")","v":"0"},{"$f":"IF(OR(CJ11=120,CJ11=130),CK11,\"0\")","v":"0"},{"$f":"SUM(CF11:CH11)","v":0},{"$f":"VALUE(BT11)","v":0},{"$f":"ROUND(IF(E11>1,VALUE(AG11),VALUE(AH11)),0)","v":0},{"$f":"IF(OR(CJ11=120,CJ11=130),CK11,CK11)","v":0},{"$f":"IF(OR(H11=\"ERP\",H11=\"PA\",H11=\"SAT\",H11=\"IT\"),\"0\",CL11)","v":0},{"$f":"IF(AND(U11=\"New\",F11<C11),\"Yes\",\"No\")","v":"No"},{"$f":"IF(AND(U11=\"New\",F11=C11),\"Yes\",\"No\")","v":"No"},{"$f":"IF(CO11=\"Yes\",CQ11,G11)","v":0},{"$f":"CONCATENATE(G11,$CP$9)","v":"*"},null,{"$f":"IF(OR(N11=\"02083\",N11=\"01520\",N11=\"07043\",N11=\"00508\",N11=\"01522\"),\"Yes\",\"No\")","v":"No"},{"$f":"IF(L11=\"S\",\"Yes\",\"No\")","v":"No"},{"$f":"IF(AND(CS11=\"Yes\", CT11=\"Yes\"),\"Yes\",\"No\")","v":"No"},null,{"$f":"IF(OR(H11=\"ERP\",H11=\"PA\",H11=\"SAT\"),CM11,Q11*(100%-R11)+T11)","v":0}]
[null,null,null,null,null,null,null,null,null,null,null,null,null,null,null,{"$f":"IF(M12>0,INDEX($BM$1:$BS$903,BT12,CB12),0)","v":0},0,null,{"$f":"IF(OR(H12=\"ERP\",H12=\"PA\",H12=\"SAT\",H12=\"IT\"),CM12,Q12*(100%-R12)+T12)","v":0},null,null,{"$f":"IF(AND($B$4>\"BC-\",M12>0),$B$4,\"\")","v":""},null,null," ",null,null,null,null,null,null,null,{"$f":"VALUE(AJ12)*((AO12+BJ12)*$AA$1)/AI12","v":{"$error":"#DIV/0!"}},{"$f":"((AO12+BJ12)*$AA$1)","v":0},0,0,{"$f":"P12/365","v":0},{"$f":"AI12*AK12","v":0},{"$f":"AL12*AP12","v":0},{"$f":"AW12*AM12","v":0},{"$f":"BC12*AN12","v":0},{"$f":"IF(OR(I12=1,I12=0),\"100%\",I12)","v":"100%"},null,null,{"$f":"IF(J12=8,50%,0)","v":0},{"$f":"IF(J12=16,65%,0)","v":0},{"$f":"IF(J12=24,80%,0)","v":0},{"$f":"SUM(AS12:AU12)","v":0},{"$f":"IF(AV12=0,100%,AV12)","v":1},{"$f":"IF(OR(K12=\"R\", K12=\"F\"),50%,0)","v":0},{"$f":"IF(K12=\"Y1\",25%,0)","v":0},{"$f":"IF(K12=\"Y2\",50%,0)","v":0},{"$f":"IF(K12=\"Y3\",75%,0)","v":0},{"$f":"SUM(AX12:BA12)","v":0},{"$f":"IF(BB12=0,100%,BB12)","v":1},{"$f":"IF(AND(L12=\"DX\",N12<\"02001\"),IF(OR(M12=51),10106),\"0\")","v":"0"},{"$f":"IF(AND(L12=\"DX\",N12<\"02001\",M12<>23,M12<>51,M12<>2,M12<>43,M12<>63,M12<>65,M12<>9,M12<>46,M12<>54,M12<>15,M12<>35,M12<>45,M12<>6,M12<>7,M12<>21,M12<>22,M12<>25,M12<>39,M12<>40,M12<>48,M12<>67),5558,\"0\")","v":"0"},{"$f":"IF(AND(L12=\"DX\",N12<\"02001\"),IF(OR(M12=2,M12=3,M12=22,M12=33,M12=63,M12=65),6063),\"0\")","v":"0"},{"$f":"IF(AND(L12=\"DX\",N12<\"02001\"),IF(OR(M12=9,M12=26,M12=35,M12=40,M12=43,M12=46),8591),\"0\")","v":"0"},{"$f":"IF(AND(L12=\"DX\",N12<\"02001\"),IF(OR(M12=23),8591),\"0\")","v":"0"},{"$f":"IF(AND(L12=\"DX\",N12<\"02001\"),IF(OR(M12=7,M12=15,M12=19,M12=20,M12=25,M12=37,M12=45,M12=48,M12=54),6063),\"0\")","v":"0"},{"$f":"SUM(BD12:BI12)","v":0},null,null,30762,13978,17395,22790,24948,18564,21404,{"$f":"LEFT(CD12,3)","v":"0"},{"$f":"IF(OR(M12=51),1,\"0\")","v":"0"},{"$f":"IF(OR(M12=4,M12=13,M12=17,M12=3,M12=33,M12=23,M12=51,M12=2,M12=26,M12=37,M12=63,M12=65,M12=9,M12=35,M12=46,M12=15,M12=45,M12=7,M12=19,M12=20,M12=22,M12=25,M12=39,M12=40,M12=43,M12=48, M12=54,M12=0),0,\"2\")","v":0},{"$f":"IF(OR(M12=2,M12=3,M12=4,M12=13,M12=17,M12=22,M12=33,M12=63),3,\"0\")","v":"0"},{"$f":"IF(OR(M12=23,M12=26,M12=40,M12=43),4,\"0\")","v":"0"},{"$f":"IF(OR(M12=35),5,\"0\")","v":"0"},{"$f":"IF(OR(M12=9,M12=15,M12=19,M12=20,M12=25,M12=37,M12=39,M12=45,M12=46,M12=48,M12=54,M12=65),6,\"0\")","v":"0"},{"$f":"IF(M12=7,7,0)","v":0},{"$f":"SUM(BU12+BV12+BW12+BX12+BY12+BZ12+CA12+CC12)","v":8},{"$f":"IF(M12=0,8,0)","v":8},{"$f":"IF(N12=\"00651\",\"00551\",IF(AND(N12=\"80993\"),\"12093\",IF(AND(N12=\"80994\"),\"13094\",N12)))","v":0},null,{"$f":"IF(OR(CJ12=70, CJ12=80, CJ12=90, CJ12=100, CJ12=801),CK12*0%,\"0\")","v":"0"},{"$f":"IF(OR(CJ12=6,CJ12=7,CJ12=10,CJ12=12,CJ12=15,CJ12=20,CJ12=22,CJ12=30,CJ12=35,CJ12=50,CJ12=60),CK12*50%,\"0\")","v":"0"},{"$f":"IF(OR(CJ12=120,CJ12=130),CK12,\"0\")","v":"0"},{"$f":"SUM(CF12:CH12)","v":0},{"$f":"VALUE(BT12)","v":0},{"$f":"ROUND(IF(E12>1,VALUE(AG12),VALUE(AH12)),0)","v":0},0,{"$f":"IF(OR(H12=\"ERP\",H12=\"PA\",H12=\"SAT\",H12=\"IT\"),\"0\",CL12)","v":0},{"$f":"IF(AND(U12=\"New\",F12<C12),\"Yes\",\"No\")","v":"No"},{"$f":"IF(AND(U12=\"New\",F12=C12),\"Yes\",\"No\")","v":"No"},{"$f":"IF(CO12=\"Yes\",CQ12,G12)","v":0},{"$f":"CONCATENATE(G12,$CP$9)","v":"*"},null,{"$f":"IF(OR(N12=\"02083\",N12=\"01520\",N12=\"07043\",N12=\"00508\",N12=\"01522\"),\"Yes\",\"No\")","v":"No"},{"$f":"IF(L12=\"S\",\"Yes\",\"No\")","v":"No"},{"$f":"IF(AND(CS12=\"Yes\", CT12=\"Yes\"),\"Yes\",\"No\")","v":"No"},null,{"$f":"IF(OR(H12=\"ERP\",H12=\"PA\",H12=\"SAT\"),CM12,Q12*(100%-R12)+T12)","v":0}]
[null,null,null,null,null,null,null,null,null,null,null,null,null,null,null,0,0,null,0,null,null,{"$f":"IF(AND($B$4>\"BC-\",M13>0),$B$4,\"\")","v":""},null,null," ",null,null,null,null,null,null,null,{"$error":"#DIV/0!"},0,0,0,0,0,0,0,0,"100%",null,null,0,{"$f":"IF(J13=16,65%,0)","v":0},{"$f":"IF(J13=24,80%,0)","v":0},0,1,0,0,0,0,0,1,"0","0","0","0","0","0",0,null,null,null,null,null,null,null,null,null,"0","0",0,"0","0","0","0",0,8,8,0,null,"0","0","0",0,0,0,0,0,"No","No",0,"*",null,"No","No","No",null,{"$f":"IF(OR(H13=\"ERP\",H13=\"PA\",H13=\"SAT\"),CM13,Q13*(100%-R13)+T13)","v":0}]
[null,null,null,null,null,null,null,null,null,null,null,null,null,null,null,0,0,null,0,null,null,{"$f":"IF(AND($B$4>\"BC-\",M14>0),$B$4,\"\")","v":""},null,null," ",null,null,null,null,null,null,null,{"$error":"#DIV/0!"},0,0,0,0,0,0,0,0,"100%",null,null,0,{"$f":"IF(J14=16,65%,0)","v":0},{"$f":"IF(J14=24,80%,0)","v":0},0,1,0,0,0,0,0,1,"0","0","0","0","0","0",0,null,null,null,null,null,null,null,null,null,"0","0",0,"0","0","0","0",0,8,8,0,null,"0","0","0",0,0,0,0,0,"No","No",0,"*",null,"No","No","No",null,0]
[null,null,null,null,null,null,null,null,null,null,null,null,null,null,null,0,0,null,0,null,null,{"$f":"IF(AND($B$4>\"BC-\",M15>0),$B$4,\"\")","v":""},null,null," ",null,null,null,null,null,null,null,{"$error":"#DIV/0!"},0,0,0,0,0,0,0,0,"100%",null,null,0,{"$f":"IF(J15=16,65%,0)","v":0},{"$f":"IF(J15=24,80%,0)","v":0},0,1,0,0,0,0,0,1,"0","0","0","0","0","0",0,null,null,21972,10110,12525,16337,17862,13351,15616,"0","0",0,"0","0","0","0",0,8,8,0,null,"0","0","0",0,0,0,0,0,"No","No",0,"*",null,"No","No","No",null,0]
[null,null,null,null,null,null,null,null,null,null,null,null,null,null,null,0,0,null,0,null,null,{"$f":"IF(AND($B$4>\"BC-\",M16>0),$B$4,\"\")","v":""},null,null," ",null,null,null,null,null,null,null,{"$error":"#DIV/0!"},0,0,0,0,0,0,0,0,"100%",null,null,0,0,0,0,1,0,0,0,0,0,1,"0","0","0","0","0","0",0,null,null,null,null,null,null,null,null,null,"0","0",0,"0","0","0","0",0,8,8,0,null,"0","0","0",0,0,0,0,0,"No","No",0,"*",null,"No","No","No",null,0]
[null,null,null,null,null,null,null,null,null,null,null,null,null,null,null,0,0,null,0,null,null,{"$f":"IF(AND($B$4>\"BC-\",M17>0),$B$4,\"\")","v":""},null,null," ",null,null,null,null,null,null,null,{"$error":"#DIV/0!"},0,0,0,0,0,0,0,0,"100%",null,null,0,0,0,0,1,0,0,0,0,0,1,"0","0","0","0","0","0",0,null,null,21506,9905,12267,15995,17487,13074,15853,"0","0",0,"0","0","0","0",0,8,8,0,null,"0","0","0",0,0,0,0,0,"No","No",0,"*",null,"No","No","No",null,0]
[null,null,null,null,null,null,null,null,null,null,null,null,null,null,null,0,0,null,0,null,null,{"$f":"IF(AND($B$4>\"BC-\",M18>0),$B$4,\"\")","v":""},null,null," ",null,null,null,null,null,null,null,{"$error":"#DIV/0!"},0,0,0,0,0,0,0,0,"100%",null,null,0,0,0,0,1,0,0,0,0,0,1,"0","0","0","0","0","0",0,null,null,null,null,null,null,null,null,null,"0","0",0,"0","0","0","0",0,8,8,0,null,"0","0","0",0,0,0,0,0,"No","No",0,"*",null,"No","No","No",null,0]
[null,null,null,null,null,null,null,null,null,null,null,null,null,null,null,0,0,null,0,null,null,{"$f":"IF(AND($B$4>\"BC-\",M19>0),$B$4,\"\")","v":""},null,null," ",null,null,null,null,null,null,null,{"$error":"#DIV/0!"},0,0,0,0,0,0,0,0,"100%",null,null,0,0,0,0,1,0,0,0,0,0,1,"0","0","0","0","0","0",0,null,null,null,null,null,null,null,null,null,"0","0",0,"0","0","0","0",0,8,8,0,null,"0","0","0",0,0,0,0,0,"No","No",0,"*",null,"No","No","No",null,0]
[null,null,null,null,null,null,null,null,null,null,null,null,null,null,null,0,0,null,0,null,null,{"$f":"IF(AND($B$4>\"BC-\",M20>0),$B$4,\"\")","v":""},null,null," ",null,null,null,null,null,null,null,{"$error":"#DIV/0!"},0,0,0,0,0,0,0,0,"100%",null,null,0,0,0,0,1,0,0,0,0,0,1,"0","0","0","0","0","0",0,null,null,24916,11405,14156,18498,20236,15097,17252,"0","0",0,"0","0","0","0",0,8,8,0,null,"0","0","0",0,0,0,0,0,"No","No",0,"*",null,"No","No","No",null,0]
[null,null,null,null,null,null,null,null,null,null,null,null,null,null,null,0,0,null,0,null,null,{"$f":"IF(AND($B$4>\"BC-\",M21>0),$B$4,\"\")","v":""},null,null," ",null,null,null,null,null,null,null,{"$error":"#DIV/0!"},0,0,0,0,0,0,0,0,"100%",null,null,0,0,0,0,1,0,0,0,0,0,1,"0","0","0","0","0","0",0,null,null,null,null,null,null,null,null,null,"0","0",0,"0","0","0","0",0,8,8,0,null,"0","0","0",0,0,0,0,0,"No","No",0,"*",null,"No","No","No",null,0]
[null,null,null,null,null,null,null,null,null,null,null,null,null,null,null,0,0,null,0,null,null,{"$f":"IF(AND($B$4>\"BC-\",M22>0),$B$4,\"\")","v":""},null,null," ",null,null,null,null,null,null,null,{"$error":"#DIV/0!"},0,0,0,0,0,0,0,0,"100%",null,null,0,0,0,0,1,0,0,0,0,0,1,"0","0","0","0","0","0",0,null,null,34532,15637,19483,25557,27986,20799,23481,"0","0",0,"0","0","0","0",0,8,8,0,null,"0","0","0",0,0,0,0,0,"No","No",0,"*",null,"No","No","No",null,0]
[null,null,null,null,null,null,null,null,null,null,null,null,null,null,null,0,0,null,0,null,null,{"$f":"IF(AND($B$4>\"BC-\",M23>0),$B$4,\"\")","v":""},null,null," ",null,null,null,null,null,null,null,{"$error":"#DIV/0!"},0,0,0,0,0,0,0,0,"100%",null,null,0,0,0,0,1,0,0,0,0,0,1,"0","0","0","0","0","0",0,null,null,null,null,null,null,null,null,null,"0","0",0,"0","0","0","0",0,8,8,0,null,"0","0","0",0,0,0,0,0,"No","No",0,"*",null,"No","No","No",null,0]
[null,null,null,null,null,null,null,null,null,null,null,null,null,null,null,0,0,null,0,null,null,{"$f":"IF(AND($B$4>\"BC-\",M24>0),$B$4,\"\")","v":""},null,null," ",null,null,null,null,null,null,null,{"$error":"#DIV/0!"},0,0,0,0,0,0,0,0,"100%",null,null,0,0,0,0,1,0,0,0,0,0,1,"0","0","0","0","0","0",0,null,null,null,null,null,null,null,null,null,"0","0",0,"0","0","0","0",0,8,8,0,null,"0","0","0",0,0,0,0,0,"No","No",0,"*",null,"No","No","No",null,0]
[null,null,null,null,null,null,null,null,null,null,null,null,null,null,null,0,0,null,0,null,null,{"$f":"IF(AND($B$4>\"BC-\",M25>0),$B$4,\"\")","v":""},null,null," ",null,null,null,null,null,null,null,{"$error":"#DIV/0!"},0,0,0,0,0,0,0,0,"100%",null,null,0,0,0,0,1,0,0,0,0,0,1,"0","0","0","0","0","0",0,null,null,37519,16951,21138,27749,28893,22570,24468,"0","0",0,"0","0","0","0",0,8,8,0,null,"0","0","0",0,0,0,0,0,"No","No",0,"*",null,"No","No","No",null,0]
[null,null,null,null,null,null,null,null,null,null,null,null,null,null,null,0,0,null,0,null,null,{"$f":"IF(AND($B$4>\"BC-\",M26>0),$B$4,\"\")","v":""},null,null," ",null,null,null,null,null,null,null,{"$error":"#DIV/0!"},0,0,0,0,0,0,0,0,"100%",null,null,0,0,0,0,1,0,0,0,0,0,1,"0","0","0","0","0","0",0,null,null,null,null,null,null,null,null,null,"0","0",0,"0","0","0","0",0,8,8,0,null,"0","0","0",0,0,0,0,0,"No","No",0,"*",null,"No","No","No",null,0]
[null,null,null,null,null,null,null,null,null,null,null,null,null,null,null,0,0,null,0,null,null,{"$f":"IF(AND($B$4>\"BC-\",M27>0),$B$4,\"\")","v":""},null,null," ",null,null,null,null,null,null,null,{"$error":"#DIV/0!"},0,0,0,0,0,0,0,0,"100%",null,null,0,0,0,0,1,0,0,0,0,0,1,"0","0","0","0","0","0",0,null,null,null,null,null,null,null,null,null,"0","0",0,"0","0","0","0",0,8,8,0,null,"0","0","0",0,0,0,0,0,"No","No",0,"*",null,"No","No","No",null,0]
[null,null,null,null,null,null,null,null,null,null,null,null,null,null,null,0,0,null,0,null,null,{"$f":"IF(AND($B$4>\"BC-\",M28>0),$B$4,\"\")","v":""},null,null," ",null,null,null,null,null,null,null,{"$error":"#DIV/0!"},0,0,0,0,0,0,0,0,"100%",null,null,0,0,0,0,1,0,0,0,0,0,1,"0","0","0","0","0","0",0,null,null,null,null,null,null,null,null,null,"0","0",0,"0","0","0","0",0,8,8,0,null,"0","0","0",0,0,0,0,0,"No","No",0,"*",null,"No","No","No",null,0]
[null,null,null,null,null,null,null,null,null,null,null,null,null,null,null,0,0,null,0,null,null,{"$f":"IF(AND($B$4>\"BC-\",M29>0),$B$4,\"\")","v":""},null,null," ",null,null,null,null,null,null,null,{"$error":"#DIV/0!"},0,0,0,0,0,0,0,0,"100%",null,null,0,0,0,0,1,0,0,0,0,0,1,"0","0","0","0","0","0",0,null,null,null,null,null,null,null,null,null,"0","0",0,"0","0","0","0",0,8,8,0,null,"0","0","0",0,0,0,0,0,"No","No",0,"*",null,"No","No","No",null,0]
[null,null,null,null,null,null,null,null,null,null,null,null,null,null,null,0,0,null,0,null,null,{"$f":"IF(AND($B$4>\"BC-\",M30>0),$B$4,\"\")","v":""},null,null," ",null,null,null,null,null,null,null,{"$error":"#DIV/0!"},0,0,0,0,0,0,0,0,"100%",null,null,0,0,0,0,1,0,0,0,0,0,1,"0","0","0","0","0","0",0,null,null,34109,15450,19249,25246,27645,20548,23938,"0","0",0,"0","0","0","0",0,8,8,0,null,"0","0","0",0,0,0,0,0,"No","No",0,"*",null,"No","No","No",null,0]
[null,null,null,null,null,null,null,null,null,null,null,null,null,null,null,0,0,null,0,null,null,{"$f":"IF(AND($B$4>\"BC-\",M31>0),$B$4,\"\")","v":""},null,null," ",null,null,null,null,null,null,null,{"$error":"#DIV/0!"},0,0,0,0,0,0,0,0,"100%",null,null,0,0,0,0,1,0,0,0,0,0,1,"0","0","0","0","0","0",0,null,null,null,null,null,null,null,null,null,"0","0",0,"0","0","0","0",0,8,8,0,null,"0","0","0",0,0,0,0,0,"No","No",0,"*",null,"No","No","No",null,0]
[null,null,null,null,null,null,null,null,null,null,null,null,null,null,null,0,0,null,0,null,null,{"$f":"IF(AND($B$4>\"BC-\",M32>0),$B$4,\"\")","v":""},null,null," ",null,null,null,null,null,null,null,{"$error":"#DIV/0!"},0,0,0,0,0,0,0,0,"100%",null,null,0,0,0,0,1,0,0,0,0,0,1,"0","0","0","0","0","0",0,null,null,null,null,null,null,null,null,null,"0","0",0,"0","0","0","0",0,8,8,0,null,"0","0","0",0,0,0,0,0,"No","No",0,"*",null,"No","No","No",null,0]
[null,null,null,null,null,null,null,null,null,null,null,null,null,null,null,0,0,null,0,null,null,{"$f":"IF(AND($B$4>\"BC-\",M33>0),$B$4,\"\")","v":""},null,null," ",null,null,null,null,null,null,null,{"$error":"#DIV/0!"},0,0,0,0,0,0,0,0,"100%",null,null,0,0,0,0,1,0,0,0,0,0,1,"0","0","0","0","0","0",0,null,null,null,null,null,null,null,null,null,"0","0",0,"0","0","0","0",0,8,8,0,null,"0","0","0",0,0,0,0,0,"No","No",0,"*",null,"No","No","No",null,0]
[null,null,null,null,null,null,null,null,null,null,null,null,null,null,null,0,0,null,0,null,null,{"$f":"IF(AND($B$4>\"BC-\",M34>0),$B$4,\"\")","v":""},null,null," ",null,null,null,null,null,null,null,{"$error":"#DIV/0!"},0,0,0,0,0,0,0,0,"100%",null,null,0,0,0,0,1,0,0,0,0,0,1,"0","0","0","0","0","0",0,null,null,null,null,null,null,null,null,null,"0","0",0,"0","0","0","0",0,8,8,0,null,"0","0","0",0,0,0,0,0,"No","No",0,"*",null,"No","No","No",null,0]
[null,null,null,null,null,null,null,null,null,null,null,null,null,null,null,0,0,null,0,null,null,{"$f":"IF(AND($B$4>\"BC-\",M35>0),$B$4,\"\")","v":""},null,null," ",null,null,null,null,null,null,null,{"$error":"#DIV/0!"},0,0,0,0,0,0,0,0,"100%",null,null,0,0,0,0,1,0,0,0,0,0,1,"0","0","0","0","0","0",0,null,null,51478,23093,28871,37995,41265,30848,34246,"0","0",0,"0","0","0","0",0,8,8,0,null,"0","0","0",0,0,0,0,0,"No","No",0,"*",null,"No","No","No",null,0]
[null,null,null,null,null,null,null,null,null,null,null,null,null,null,null,0,0,null,0,null,null,{"$f":"IF(AND($B$4>\"BC-\",M36>0),$B$4,\"\")","v":""},null,null," ",null,null,null,null,null,null,null,{"$error":"#DIV/0!"},0,0,0,0,0,0,0,0,"100%",null,null,0,0,0,0,1,0,0,0,0,0,1,"0","0","0","0","0","0",0,null,null,null,null,null,null,null,null,null,"0","0",0,"0","0","0","0",0,8,8,0,null,"0","0","0",0,0,0,0,0,"No","No",0,"*",null,"No","No","No",null,{"$f":"IF(OR(H36=\"ERP\",H36=\"PA\",H36=\"SAT\"),CM36,Q36*(100%-R36)+T36)","v":0}]
[null,null,null,null,null,null,null,null,null,null,null,null,null,null,null,0,0,null,0,null,null,{"$f":"IF(AND($B$4>\"BC-\",M37>0),$B$4,\"\")","v":""},null,null," ",null,null,null,null,null,null,null,{"$error":"#DIV/0!"},0,0,0,0,0,0,0,0,"100%",null,null,0,0,0,0,1,0,0,0,0,0,1,"0","0","0","0","0","0",0,null,null,null,null,null,null,null,null,null,"0","0",0,"0","0","0","0",0,8,8,0,null,"0","0","0",0,0,0,0,0,"No","No",0,"*",null,"No","No","No",null,0]
[null,null,null,null,null,null,null,null,null,null,null,null,null,null,null,0,0,null,0,null,null,{"$f":"IF(AND($B$4>\"BC-\",M38>0),$B$4,\"\")","v":""},null,null," ",null,null,null,null,null,null,null,{"$error":"#DIV/0!"},0,0,0,0,0,0,0,0,"100%",null,null,0,0,0,0,1,0,0,0,0,0,1,"0","0","0","0","0","0",0,null,null,null,null,null,null,null,null,null,"0","0",0,"0","0","0","0",0,8,8,0,null,"0","0","0",0,0,0,0,0,"No","No",0,"*",null,"No","No","No",null,0]
[null,null,null,null,null,null,null,null,null,null,null,null,null,null,null,0,0,null,0,null,null,{"$f":"IF(AND($B$4>\"BC-\",M39>0),$B$4,\"\")","v":""},null,null," ",null,null,null,null,null,null,null,{"$error":"#DIV/0!"},0,0,0,0,0,0,0,0,"100%",null,null,0,0,0,0,1,0,0,0,0,0,1,"0","0","0","0","0","0",0,null,null,null,null,null,null,null,null,null,"0","0",0,"0","0","0","0",0,8,8,0,null,"0","0","0",0,0,0,0,0,"No","No",0,"*",null,"No","No","No",null,0]
[null,null,null,null,null,null,null,null,null,null,null,null,null,null,null,0,0,null,0,null,null,{"$f":"IF(AND($B$4>\"BC-\",M40>0),$B$4,\"\")","v":""},null,null," ",null,null,null,null,null,null,null,{"$error":"#DIV/0!"},0,0,0,0,0,0,0,0,"100%",null,null,0,0,0,0,1,0,0,0,0,0,1,"0","0","0","0","0","0",0,null,null,null,null,null,null,null,null,null,"0","0",0,"0","0","0","0",0,8,8,0,null,"0","0","0",0,0,0,0,0,"No","No",0,"*",null,"No","No","No",null,0]
[null,null,null,null,null,null,null,null,null,null,null,null,null,null,null,0,0,null,0,null,null,{"$f":"IF(AND($B$4>\"BC-\",M41>0),$B$4,\"\")","v":""},null,null," ",null,null,null,null,null,null,null,{"$error":"#DIV/0!"},0,0,0,0,0,0,0,0,"100%",null,null,0,0,0,0,1,0,0,0,0,0,1,"0","0","0","0","0","0",0,null,null,null,null,null,null,null,null,null,"0","0",0,"0","0","0","0",0,8,8,0,null,"0","0","0",0,0,0,0,0,"No","No",0,"*",null,"No","No","No",null,0]
[null,null,null,null,null,null,null,null,null,null,null,null,null,null,null,0,0,null,0,null,null,{"$f":"IF(AND($B$4>\"BC-\",M42>0),$B$4,\"\")","v":""},null,null," ",null,null,null,null,null,null,null,{"$error":"#DIV/0!"},0,0,0,0,0,0,0,0,"100%",null,null,0,0,0,0,1,0,0,0,0,0,1,"0","0","0","0","0","0",0,null,null,null,null,null,null,null,null,null,"0","0",0,"0","0","0","0",0,8,8,0,null,"0","0","0",0,0,0,0,0,"No","No",0,"*",null,"No","No","No",null,0]
[null,null,null,null,null,null,null,null,null,null,null,null,null,null,null,0,0,null,0,null,null,{"$f":"IF(AND($B$4>\"BC-\",M43>0),$B$4,\"\")","v":""},null,null," ",null,null,null,null,null,null,null,{"$error":"#DIV/0!"},0,0,0,0,0,0,0,0,"100%",null,null,0,0,0,0,1,0,0,0,0,0,1,"0","0","0","0","0","0",0,null,null,null,null,null,null,null,null,null,"0","0",0,"0","0","0","0",0,8,8,0,null,"0","0","0",0,0,0,0,0,"No","No",0,"*",null,"No","No","No",null,0]
[null,null,null,null,null,null,null,null,null,null,null,null,null,null,null,0,0,null,0,null,null,{"$f":"IF(AND($B$4>\"BC-\",M44>0),$B$4,\"\")","v":""},null,null," ",null,null,null,null,null,null,null,{"$error":"#DIV/0!"},0,0,0,0,0,0,0,0,"100%",null,null,0,0,0,0,1,0,0,0,0,0,1,"0","0","0","0","0","0",0,null,null,null,null,null,null,null,null,null,"0","0",0,"0","0","0","0",0,8,8,0,null,"0","0","0",0,0,0,0,0,"No","No",0,"*",null,"No","No","No",null,0]
[null,null,null,null,null,null,null,null,null,null,null,null,null,null,null,0,0,null,0,null,null,{"$f":"IF(AND($B$4>\"BC-\",M45>0),$B$4,\"\")","v":""},null,null," ",null,null,null,null,null,null,null,{"$error":"#DIV/0!"},0,0,0,0,0,0,0,0,"100%",null,null,0,0,0,0,1,0,0,0,0,0,1,"0","0","0","0","0","0",0,null,null,null,null,null,null,null,null,null,"0","0",0,"0","0","0","0",0,8,8,0,null,"0","0","0",0,0,0,0,0,"No","No",0,"*",null,"No","No","No",null,0]
[null,null,null,null,null,null,null,null,null,null,null,null,null,null,null,0,0,null,0,null,null,{"$f":"IF(AND($B$4>\"BC-\",M46>0),$B$4,\"\")","v":""},null,null," ",null,null,null,null,null,null,null,{"$error":"#DIV/0!"},0,0,0,0,0,0,0,0,"100%",null,null,0,0,0,0,1,0,0,0,0,0,1,"0","0","0","0","0","0",0,null,null,null,null,null,null,null,null,null,"0","0",0,"0","0","0","0",0,8,8,0,null,"0","0","0",0,0,0,0,0,"No","No",0,"*",null,"No","No","No",null,0]
[null,null,null,null,null,null,null,null,null,null,null,null,null,null,null,0,0,null,0,null,null,{"$f":"IF(AND($B$4>\"BC-\",M47>0),$B$4,\"\")","v":""},null,null," ",null,null,null,null,null,null,null,{"$error":"#DIV/0!"},0,0,0,0,0,0,0,0,"100%",null,null,0,0,0,0,1,0,0,0,0,0,1,"0","0","0","0","0","0",0,null,null,null,null,null,null,null,null,null,"0","0",0,"0","0","0","0",0,8,8,0,null,"0","0","0",0,0,0,0,0,"No","No",0,"*",null,"No","No","No",null,0]
[null,null,null,null,null,null,null,null,null,null,null,null,null,null,null,0,0,null,0,null,null,{"$f":"IF(AND($B$4>\"BC-\",M48>0),$B$4,\"\")","v":""},null,null," ",null,null,null,null,null,null,null,{"$error":"#DIV/0!"},0,0,0,0,0,0,0,0,"100%",null,null,0,0,0,0,1,0,0,0,0,0,1,"0","0","0","0","0","0",0,null,null,null,null,null,null,null,null,null,"0","0",0,"0","0","0","0",0,8,8,0,null,"0","0","0",0,0,0,0,0,"No","No",0,"*",null,"No","No","No",null,0]
[null,null,null,null,null,null,null,null,null,null,null,null,null,null,null,0,0,null,0,null,null,{"$f":"IF(AND($B$4>\"BC-\",M49>0),$B$4,\"\")","v":""},null,null," ",null,null,null,null,null,null,null,{"$error":"#DIV/0!"},0,0,0,0,0,0,0,0,"100%",null,null,0,0,0,0,1,0,0,0,0,0,1,"0","0","0","0","0","0",0,null,null,null,null,null,null,null,null,null,"0","0",0,"0","0","0","0",0,8,8,0,null,"0","0","0",0,0,0,0,0,"No","No",0,"*",null,"No","No","No",null,0]
[null,null,null,null,null,null,null,null,null,null,null,null,null,null,null,0,0,null,0,null,null,{"$f":"IF(AND($B$4>\"BC-\",M50>0),$B$4,\"\")","v":""},null,null," ",null,null,null,null,null,null,null,{"$error":"#DIV/0!"},0,0,0,0,0,0,0,0,"100%",null,null,0,0,0,0,1,0,0,0,0,0,1,"0","0","0","0","0","0",0,null,null,44678,20101,25104,33004,36164,26816,32523,"0","0",0,"0","0","0","0",0,8,8,0,null,"0","0","0",0,0,0,0,0,"No","No",0,"*",null,"No","No","No",null,0]
[null,null,null,null,null,null,null,null,null,null,null,null,null,null,null,0,0,null,0,null,null,{"$f":"IF(AND($B$4>\"BC-\",M51>0),$B$4,\"\")","v":""},null,null," ",null,null,null,null,null,null,null,{"$error":"#DIV/0!"},0,0,0,0,0,0,0,0,"100%",null,null,0,0,0,0,1,0,0,0,0,0,1,"0","0","0","0","0","0",0,null,null,null,null,null,null,null,null,null,"0","0",0,"0","0","0","0",0,8,8,0,null,"0","0","0",0,0,0,0,0,"No","No",0,"*",null,"No","No","No",null,0]
[null,null,null,null,null,null,null,null,null,null,null,null,null,null,null,0,0,null,0,null,null,{"$f":"IF(AND($B$4>\"BC-\",M52>0),$B$4,\"\")","v":""},null,null," ",null,null,null,null,null,null,null,{"$error":"#DIV/0!"},0,0,0,0,0,0,0,0,"100%",null,null,0,0,0,0,1,0,0,0,0,0,1,"0","0","0","0","0","0",0,null,null,null,null,null,null,null,null,null,"0","0",0,"0","0","0","0",0,8,8,0,null,"0","0","0",0,0,0,0,0,"No","No",0,"*",null,"No","No","No",null,0]
[null,null,null,null,null,null,null,null,null,null,null,null,null,null,null,0,0,null,0,null,null,{"$f":"IF(AND($B$4>\"BC-\",M53>0),$B$4,\"\")","v":""},null,null," ",null,null,null,null,null,null,null,{"$error":"#DIV/0!"},0,0,0,0,0,0,0,0,"100%",null,null,0,0,0,0,1,0,0,0,0,0,1,"0","0","0","0","0","0",0,null,null,null,null,null,null,null,null,null,"0","0",0,"0","0","0","0",0,8,8,0,null,"0","0","0",0,0,0,0,0,"No","No",0,"*",null,"No","No","No",null,0]
[null,null,null,null,null,null,null,null,null,null,null,null,null,null,null,0,0,null,0,null,null,{"$f":"IF(AND($B$4>\"BC-\",M54>0),$B$4,\"\")","v":""},null,null," ",null,null,null,null,null,null,null,{"$error":"#DIV/0!"},0,0,0,0,0,0,0,0,"100%",null,null,0,0,0,0,1,0,0,0,0,0,1,"0","0","0","0","0","0",0,null,null,null,null,null,null,null,null,null,"0","0",0,"0","0","0","0",0,8,8,0,null,"0","0","0",0,0,0,0,0,"No","No",0,"*",null,"No","No","No",null,0]
[null,null,null,null,null,null,null,null,null,null,null,null,null,null,null,0,0,null,0,null,null,{"$f":"IF(AND($B$4>\"BC-\",M55>0),$B$4,\"\")","v":""},null,null," ",null,null,null,null,null,null,null,{"$error":"#DIV/0!"},0,0,0,0,0,0,0,0,"100%",null,null,0,0,0,0,1,0,0,0,0,0,1,"0","0","0","0","0","0",0,null,null,null,null,null,null,null,null,null,"0","0",0,"0","0","0","0",0,8,8,0,null,"0","0","0",0,0,0,0,0,"No","No",0,"*",null,"No","No","No",null,0]
[null,null,null,null,null,null,null,null,null,null,null,null,null,null,null,0,0,null,0,null,null,{"$f":"IF(AND($B$4>\"BC-\",M56>0),$B$4,\"\")","v":""},null,null," ",null,null,null,null,null,null,null,{"$error":"#DIV/0!"},0,0,0,0,0,0,0,0,"100%",null,null,0,0,0,0,1,0,0,0,0,0,1,"0","0","0","0","0","0",0,null,null,null,null,null,null,null,null,null,"0","0",0,"0","0","0","0",0,8,8,0,null,"0","0","0",0,0,0,0,0,"No","No",0,"*",null,"No","No","No",null,0]
[null,null,null,null,null,null,null,null,null,null,null,null,null,null,null,0,0,null,0,null,null,{"$f":"IF(AND($B$4>\"BC-\",M57>0),$B$4,\"\")","v":""},null,null," ",null,null,null,null,null,null,null,{"$error":"#DIV/0!"},0,0,0,0,0,0,0,0,"100%",null,null,0,0,0,0,1,0,0,0,0,0,1,"0","0","0","0","0","0",0,null,null,null,null,null,null,null,null,null,"0","0",0,"0","0","0","0",0,8,8,0,null,"0","0","0",0,0,0,0,0,"No","No",0,"*",null,"No","No","No",null,0]
[null,null,null,null,null,null,null,null,null,null,null,null,null,null,null,0,0,null,0,null,null,{"$f":"IF(AND($B$4>\"BC-\",M58>0),$B$4,\"\")","v":""},null,null," ",null,null,null,null,null,null,null,{"$error":"#DIV/0!"},0,0,0,0,0,0,0,0,"100%",null,null,0,0,0,0,1,0,0,0,0,0,1,"0","0","0","0","0","0",0,null,null,null,null,null,null,null,null,null,"0","0",0,"0","0","0","0",0,8,8,0,null,"0","0","0",0,0,0,0,0,"No","No",0,"*",null,"No","No","No",null,0]
[null,null,null,null,null,null,null,null,null,null,null,null,null,null,null,0,0,null,0,null,null,{"$f":"IF(AND($B$4>\"BC-\",M59>0),$B$4,\"\")","v":""},null,null," ",null,null,null,null,null,null,null,{"$error":"#DIV/0!"},0,0,0,0,0,0,0,0,"100%",null,null,0,0,0,0,1,0,0,0,0,0,1,"0","0","0","0","0","0",0,null,null,null,null,null,null,null,null,null,"0","0",0,"0","0","0","0",0,8,8,0,null,"0","0","0",0,0,0,0,0,"No","No",0,"*",null,"No","No","No",null,0]
[null,null,null,null,null,null,null,null,null,null,null,null,null,null,null,0,0,null,0,null,null,{"$f":"IF(AND($B$4>\"BC-\",M60>0),$B$4,\"\")","v":""},null,null," ",null,null,null,null,null,null,null,{"$error":"#DIV/0!"},0,0,0,0,0,0,0,0,"100%",null,null,0,0,0,0,1,0,0,0,0,0,1,"0","0","0","0","0","0",0,null,null,52092,23363,29211,38446,42139,31212,38267,"0","0",0,"0","0","0","0",0,8,8,0,null,"0","0","0",0,0,0,0,0,"No","No",0,"*",null,"No","No","No",null,0]
[null,null,null,null,null,null,null,null,null,null,null,null,null,null,null,0,0,null,0,null,null,{"$f":"IF(AND($B$4>\"BC-\",M61>0),$B$4,\"\")","v":""},null,null," ",null,null,null,null,null,null,null,{"$error":"#DIV/0!"},0,0,0,0,0,0,0,0,"100%",null,null,0,0,0,0,1,0,0,0,0,0,1,"0","0","0","0","0","0",0,null,null,null,null,null,null,null,null,null,"0","0",0,"0","0","0","0",0,8,8,0,null,"0","0","0",0,0,0,0,0,"No","No",0,"*",null,"No","No","No",null,0]
[null,null,null,null,null,null,null,null,null,null,null,null,null,null,null,0,0,null,0,null,null,{"$f":"IF(AND($B$4>\"BC-\",M62>0),$B$4,\"\")","v":""},null,null," ",null,null,null,null,null,null,null,{"$error":"#DIV/0!"},0,0,0,0,0,0,0,0,"100%",null,null,0,0,0,0,1,0,0,0,0,0,1,"0","0","0","0","0","0",0,null,null,null,null,null,null,null,null,null,"0","0",0,"0","0","0","0",0,8,8,0,null,"0","0","0",0,0,0,0,0,"No","No",0,"*",null,"No","No","No",null,0]
[null,null,null,null,null,null,null,null,null,null,null,null,null,null,null,0,0,null,0,null,null,{"$f":"IF(AND($B$4>\"BC-\",M63>0),$B$4,\"\")","v":""},null,null," ",null,null,null,null,null,null,null,{"$error":"#DIV/0!"},0,0,0,0,0,0,0,0,"100%",null,null,0,0,0,0,1,0,0,0,0,0,1,"0","0","0","0","0","0",0,null,null,null,null,null,null,null,null,null,"0","0",0,"0","0","0","0",0,8,8,0,null,"0","0","0",0,0,0,0,0,"No","No",0,"*",null,"No","No","No",null,0]
[null,null,null,null,null,null,null,null,null,null,null,null,null,null,null,0,0,null,0,null,null,{"$f":"IF(AND($B$4>\"BC-\",M64>0),$B$4,\"\")","v":""},null,null," ",null,null,null,null,null,null,null,{"$error":"#DIV/0!"},0,0,0,0,0,0,0,0,"100%",null,null,0,0,0,0,1,0,0,0,0,0,1,"0","0","0","0","0","0",0,null,null,null,null,null,null,null,null,null,"0","0",0,"0","0","0","0",0,8,8,0,null,"0","0","0",0,0,0,0,0,"No","No",0,"*",null,"No","No","No",null,0]
[null,null,null,null,null,null,null,null,null,null,null,null,null,null,null,0,0,null,0,null,null,{"$f":"IF(AND($B$4>\"BC-\",M65>0),$B$4,\"\")","v":""},null,null," ",null,null,null,null,null,null,null,{"$error":"#DIV/0!"},0,0,0,0,0,0,0,0,"100%",null,null,0,0,0,0,1,0,0,0,0,0,1,"0","0","0","0","0","0",0,null,null,null,null,null,null,null,null,null,"0","0",0,"0","0","0","0",0,8,8,0,null,"0","0","0",0,0,0,0,0,"No","No",0,"*",null,"No","No","No",null,0]
[null,null,null,null,null,null,null,null,null,null,null,null,null,null,null,0,0,null,0,null,null,{"$f":"IF(AND($B$4>\"BC-\",M66>0),$B$4,\"\")","v":""},null,null," ",null,null,null,null,null,null,null,{"$error":"#DIV/0!"},0,0,0,0,0,0,0,0,"100%",null,null,0,0,0,0,1,0,0,0,0,0,1,"0","0","0","0","0","0",0,null,null,null,null,null,null,null,null,null,"0","0",0,"0","0","0","0",0,8,8,0,null,"0","0","0",0,0,0,0,0,"No","No",0,"*",null,"No","No","No",null,0]
[null,null,null,null,null,null,null,null,null,null,null,null,null,null,null,0,0,null,0,null,null,{"$f":"IF(AND($B$4>\"BC-\",M67>0),$B$4,\"\")","v":""},null,null," ",null,null,null,null,null,null,null,{"$error":"#DIV/0!"},0,0,0,0,0,0,0,0,"100%",null,null,0,0,0,0,1,0,0,0,0,0,1,"0","0","0","0","0","0",0,null,null,null,null,null,null,null,null,null,"0","0",0,"0","0","0","0",0,8,8,0,null,"0","0","0",0,0,0,0,0,"No","No",0,"*",null,"No","No","No",null,0]
[null,null,null,null,null,null,null,null,null,null,null,null,null,null,null,0,0,null,0,null,null,{"$f":"IF(AND($B$4>\"BC-\",M68>0),$B$4,\"\")","v":""},null,null," ",null,null,null,null,null,null,null,{"$error":"#DIV/0!"},0,0,0,0,0,0,0,0,"100%",null,null,0,0,0,0,1,0,0,0,0,0,1,"0","0","0","0","0","0",0,null,null,null,null,null,null,null,null,null,"0","0",0,"0","0","0","0",0,8,8,0,null,"0","0","0",0,0,0,0,0,"No","No",0,"*",null,"No","No","No",null,0]
[null,null,null,null,null,null,null,null,null,null,null,null,null,null,null,0,0,null,0,null,null,{"$f":"IF(AND($B$4>\"BC-\",M69>0),$B$4,\"\")","v":""},null,null," ",null,null,null,null,null,null,null,{"$error":"#DIV/0!"},0,0,0,0,0,0,0,0,"100%",null,null,0,0,0,0,1,0,0,0,0,0,1,"0","0","0","0","0","0",0,null,null,null,null,null,null,null,null,null,"0","0",0,"0","0","0","0",0,8,8,0,null,"0","0","0",0,0,0,0,0,"No","No",0,"*",null,"No","No","No",null,0]
[null,null,null,null,null,null,null,null,null,null,null,null,null,null,null,0,0,null,0,null,null,{"$f":"IF(AND($B$4>\"BC-\",M70>0),$B$4,\"\")","v":""},null,null," ",null,null,null,null,null,null,null,{"$error":"#DIV/0!"},0,0,0,0,0,0,0,0,"100%",null,null,0,0,0,0,1,0,0,0,0,0,1,"0","0","0","0","0","0",0,null,null,82509,36746,46062,60772,66655,49249,58428,"0","0",0,"0","0","0","0",0,8,8,0,null,"0","0","0",0,0,0,0,0,"No","No",0,"*",null,"No","No","No",null,0]
[null,null,null,null,null,null,null,null,null,null,null,null,null,null,null,0,0,null,0,null,null,{"$f":"IF(AND($B$4>\"BC-\",M71>0),$B$4,\"\")","v":""},null,null," ",null,null,null,null,null,null,null,{"$error":"#DIV/0!"},0,0,0,0,0,0,0,0,"100%",null,null,0,0,0,0,1,0,0,0,0,0,1,"0","0","0","0","0","0",0,null,null,null,null,null,null,null,null,null,"0","0",0,"0","0","0","0",0,8,8,0,null,"0","0","0",0,0,0,0,0,"No","No",0,"*",null,"No","No","No",null,0]
[null,null,null,null,null,null,null,null,null,null,null,null,null,null,null,0,0,null,0,null,null,{"$f":"IF(AND($B$4>\"BC-\",M72>0),$B$4,\"\")","v":""},null,null," ",null,null,null,null,null,null,null,{"$error":"#DIV/0!"},0,0,0,0,0,0,0,0,"100%",null,null,0,0,0,0,1,0,0,0,0,0,1,"0","0","0","0","0","0",0,null,null,null,null,null,null,null,null,null,"0","0",0,"0","0","0","0",0,8,8,0,null,"0","0","0",0,0,0,0,0,"No","No",0,"*",null,"No","No","No",null,0]
[null,null,null,null,null,null,null,null,null,null,null,null,null,null,null,0,0,null,0,null,null,{"$f":"IF(AND($B$4>\"BC-\",M73>0),$B$4,\"\")","v":""},null,null," ",null,null,null,null,null,null,null,{"$error":"#DIV/0!"},0,0,0,0,0,0,0,0,"100%",null,null,0,0,0,0,1,0,0,0,0,0,1,"0","0","0","0","0","0",0,null,null,null,null,null,null,null,null,null,"0","0",0,"0","0","0","0",0,8,8,0,null,"0","0","0",0,0,0,0,0,"No","No",0,"*",null,"No","No","No",null,0]
[null,null,null,null,null,null,null,null,null,null,null,null,null,null,null,0,0,null,0,null,null,{"$f":"IF(AND($B$4>\"BC-\",M74>0),$B$4,\"\")","v":""},null,null," ",null,null,null,null,null,null,null,{"$error":"#DIV/0!"},0,0,0,0,0,0,0,0,"100%",null,null,0,0,0,0,1,0,0,0,0,0,1,"0","0","0","0","0","0",0,null,null,null,null,null,null,null,null,null,"0","0",0,"0","0","0","0",0,8,8,0,null,"0","0","0",0,0,0,0,0,"No","No",0,"*",null,"No","No","No",null,0]
[null,null,null,null,null,null,null,null,null,null,null,null,null,null,null,{"$f":"IF(M75>0,INDEX($BM$1:$BS$903,BT75,CB75),0)","v":0},{"$f":"IF(AND(NOT(ISBLANK(I75)),I75=0),0,CM75)","v":0},null,0,null,null,{"$f":"IF(AND($B$4>\"BC-\",M75>0),$B$4,\"\")","v":""},null,null," ",null,null,null,null,null,null,null,{"$error":"#DIV/0!"},0,{"$f":"IF(AND(C75<45351,D75>45351),(D75-C75)-1,D75-C75)","v":0},{"$f":"IF(AND(C75<45351,D75>45351,E75<45351),(E75-D75)+1,(E75-D75))","v":0},0,0,0,0,0,"100%",null,null,0,0,0,0,1,0,0,0,0,0,1,"0","0","0","0","0","0",0,null,null,null,null,null,null,null,null,null,"0","0",0,"0","0","0","0",0,8,8,0,null,"0","0","0",0,0,0,{"$f":"IF(OR(CJ75=120,CJ75=130),CK75,CK75)","v":0},0,"No","No",0,"*",null,"No","No","No",null,0]
[null,null,null,null,null,null,null,null,null,null,null,null,null,null,null,0,0,null,{"$f":"IF(OR(H76=\"ERP\",H76=\"PA\",H76=\"SAT\",H76=\"IT\"),CM76,Q76*(100%-R76)+T76)","v":0},null,null,{"$f":"IF(AND($B$4>\"BC-\",M76>0),$B$4,\"\")","v":""},null,null," ",null,null,null,null,null,null,null,{"$f":"VALUE(AJ76)*((AO76+BJ76)*$AA$1)/AI76","v":{"$error":"#DIV/0!"}},{"$f":"((AO76+BJ76)*$AA$1)","v":0},0,0,{"$f":"P76/365","v":0},{"$f":"AI76*AK76","v":0},{"$f":"AL76*AP76","v":0},{"$f":"AW76*AM76","v":0},{"$f":"BC76*AN76","v":0},{"$f":"IF(OR(I76=1,I76=0),\"100%\",I76)","v":"100%"},null,null,{"$f":"IF(J76=8,50%,0)","v":0},0,0,{"$f":"SUM(AS76:AU76)","v":0},{"$f":"IF(AV76=0,100%,AV76)","v":1},{"$f":"IF(OR(K76=\"R\", K76=\"F\"),50%,0)","v":0},{"$f":"IF(K76=\"Y1\",25%,0)","v":0},{"$f":"IF(K76=\"Y2\",50%,0)","v":0},{"$f":"IF(K76=\"Y3\",75%,0)","v":0},{"$f":"SUM(AX76:BA76)","v":0},{"$f":"IF(BB76=0,100%,BB76)","v":1},{"$f":"IF(AND(L76=\"DX\",N76<\"02001\"),IF(OR(M76=51),10106),\"0\")","v":"0"},{"$f":"IF(AND(L76=\"DX\",N76<\"02001\",M76<>23,M76<>51,M76<>2,M76<>43,M76<>63,M76<>65,M76<>9,M76<>46,M76<>54,M76<>15,M76<>35,M76<>45,M76<>6,M76<>7,M76<>21,M76<>22,M76<>25,M76<>39,M76<>40,M76<>48,M76<>67),5558,\"0\")","v":"0"},{"$f":"IF(AND(L76=\"DX\",N76<\"02001\"),IF(OR(M76=2,M76=3,M76=22,M76=33,M76=63,M76=65),6063),\"0\")","v":"0"},{"$f":"IF(AND(L76=\"DX\",N76<\"02001\"),IF(OR(M76=9,M76=26,M76=35,M76=40,M76=43,M76=46),8591),\"0\")","v":"0"},{"$f":"IF(AND(L76=\"DX\",N76<\"02001\"),IF(OR(M76=23),8591),\"0\")","v":"0"},{"$f":"IF(AND(L76=\"DX\",N76<\"02001\"),IF(OR(M76=7,M76=15,M76=19,M76=20,M76=25,M76=37,M76=45,M76=48,M76=54),6063),\"0\")","v":"0"},{"$f":"SUM(BD76:BI76)","v":0},null,null,null,null,null,null,null,null,null,{"$f":"LEFT(CD76,3)","v":"0"},{"$f":"IF(OR(M76=51),1,\"0\")","v":"0"},{"$f":"IF(OR(M76=4,M76=13,M76=17,M76=3,M76=33,M76=23,M76=51,M76=2,M76=26,M76=37,M76=63,M76=65,M76=9,M76=35,M76=46,M76=15,M76=45,M76=7,M76=19,M76=20,M76=22,M76=25,M76=39,M76=40,M76=43,M76=48, M76=54,M76=0),0,\"2\")","v":0},{"$f":"IF(OR(M76=2,M76=3,M76=4,M76=13,M76=17,M76=22,M76=33,M76=63),3,\"0\")","v":"0"},{"$f":"IF(OR(M76=23,M76=26,M76=40,M76=43),4,\"0\")","v":"0"},{"$f":"IF(OR(M76=35),5,\"0\")","v":"0"},{"$f":"IF(OR(M76=9,M76=15,M76=19,M76=20,M76=25,M76=37,M76=39,M76=45,M76=46,M76=48,M76=54,M76=65),6,\"0\")","v":"0"},{"$f":"IF(M76=7,7,0)","v":0},{"$f":"SUM(BU76+BV76+BW76+BX76+BY76+BZ76+CA76+CC76)","v":8},{"$f":"IF(M76=0,8,0)","v":8},{"$f":"IF(N76=\"00651\",\"00551\",IF(AND(N76=\"80993\"),\"12093\",IF(AND(N76=\"80994\"),\"13094\",N76)))","v":0},null,{"$f":"IF(OR(CJ76=70, CJ76=80, CJ76=90, CJ76=100, CJ76=801),CK76*0%,\"0\")","v":"0"},{"$f":"IF(OR(CJ76=6,CJ76=7,CJ76=10,CJ76=12,CJ76=15,CJ76=20,CJ76=22,CJ76=30,CJ76=35,CJ76=50,CJ76=60),CK76*50%,\"0\")","v":"0"},{"$f":"IF(OR(CJ76=120,CJ76=130),CK76,\"0\")","v":"0"},{"$f":"SUM(CF76:CH76)","v":0},{"$f":"VALUE(BT76)","v":0},{"$f":"ROUND(IF(E76>1,VALUE(AG76),VALUE(AH76)),0)","v":0},0,{"$f":"IF(OR(H76=\"ERP\",H76=\"PA\",H76=\"SAT\",H76=\"IT\"),\"0\",CL76)","v":0},{"$f":"IF(AND(U76=\"New\",F76<C76),\"Yes\",\"No\")","v":"No"},{"$f":"IF(AND(U76=\"New\",F76=C76),\"Yes\",\"No\")","v":"No"},{"$f":"IF(CO76=\"Yes\",CQ76,G76)","v":0},{"$f":"CONCATENATE(G76,$CP$9)","v":"*"},null,{"$f":"IF(OR(N76=\"02083\",N76=\"01520\",N76=\"07043\",N76=\"00508\",N76=\"01522\"),\"Yes\",\"No\")","v":"No"},{"$f":"IF(L76=\"S\",\"Yes\",\"No\")","v":"No"},{"$f":"IF(AND(CS76=\"Yes\", CT76=\"Yes\"),\"Yes\",\"No\")","v":"No"},null,0]
[null,null,null,null,null,null,null,null,null,null,null,null,null,null,null,0,0,null,0,null,null,{"$f":"IF(AND($B$4>\"BC-\",M77>0),$B$4,\"\")","v":""},null,null," ",null,null,null,null,null,null,null,{"$error":"#DIV/0!"},0,0,0,0,0,0,0,0,"100%",null,null,0,0,0,0,1,0,0,0,0,0,1,"0","0","0","0","0","0",0,null,null,null,null,null,null,null,null,null,"0","0",0,"0","0","0","0",0,8,8,0,null,"0","0","0",0,0,0,0,0,"No","No",0,"*",null,"No","No","No",null,{"$f":"IF(OR(H77=\"ERP\",H77=\"PA\",H77=\"SAT\"),CM77,Q77*(100%-R77)+T77)","v":0}]
[null,null,null,null,null,null,null,null,null,null,null,null,null,null,null,0,0,null,0,null,null,{"$f":"IF(AND($B$4>\"BC-\",M78>0),$B$4,\"\")","v":""},null,null," ",null,null,null,null,null,null,null,{"$error":"#DIV/0!"},0,0,0,0,0,0,0,0,"100%",null,null,0,0,0,0,1,0,0,0,0,0,1,"0","0","0","0","0","0",0,null,null,null,null,null,null,null,null,null,"0","0",0,"0","0","0","0",0,8,8,0,null,"0","0","0",0,0,0,0,0,"No","No",0,"*",null,"No","No","No",null,0]
[null,null,null,null,null,null,null,null,null,null,null,null,null,null,null,0,0,null,0,null,null,{"$f":"IF(AND($B$4>\"BC-\",M79>0),$B$4,\"\")","v":""},null,null," ",null,null,null,null,null,null,null,{"$error":"#DIV/0!"},0,0,0,0,0,0,0,0,"100%",null,null,0,{"$f":"IF(J79=16,65%,0)","v":0},{"$f":"IF(J79=24,80%,0)","v":0},0,1,0,0,0,0,0,1,"0","0","0","0","0","0",0,null,null,null,null,null,null,null,null,null,"0","0",0,"0","0","0","0",0,8,8,0,null,"0","0","0",0,0,0,0,0,"No","No",0,"*",null,"No","No","No",null,0]
[null,null,null,null,null,null,null,null,null,null,null,null,null,null,null,0,0,null,0,null,null,{"$f":"IF(AND($B$4>\"BC-\",M80>0),$B$4,\"\")","v":""},null,null," ",null,null,null,null,null,null,null,{"$error":"#DIV/0!"},0,0,0,0,0,0,0,0,"100%",null,null,0,0,0,0,1,0,0,0,0,0,1,"0","0","0","0","0","0",0,null,null,102525,45554,57151,75464,82789,61119,69988,"0","0",0,"0","0","0","0",0,8,8,0,null,"0","0","0",0,0,0,0,0,"No","No",0,"*",null,"No","No","No",null,0]
[null,null,null,null,null,null,null,null,null,null,null,null,null,null,null,0,0,null,0,null,null,{"$f":"IF(AND($B$4>\"BC-\",M81>0),$B$4,\"\")","v":""},null,null," ",null,null,null,null,null,null,null,{"$error":"#DIV/0!"},0,0,0,0,0,0,0,0,"100%",null,null,0,0,0,0,1,0,0,0,0,0,1,"0","0","0","0","0","0",0,null,null,null,null,null,null,null,null,null,"0","0",0,"0","0","0","0",0,8,8,0,null,"0","0","0",0,0,0,0,0,"No","No",0,"*",null,"No","No","No",null,0]
[null,null,null,null,null,null,null,null,null,null,null,null,null,null,null,0,0,null,0,null,null,{"$f":"IF(AND($B$4>\"BC-\",M82>0),$B$4,\"\")","v":""},null,null," ",null,null,null,null,null,null,null,{"$error":"#DIV/0!"},0,0,0,0,0,0,0,0,"100%",null,null,0,0,0,0,1,0,0,0,0,0,1,"0","0","0","0","0","0",0,null,null,null,null,null,null,null,null,null,"0","0",0,"0","0","0","0",0,8,8,0,null,"0","0","0",0,0,0,0,0,"No","No",0,"*",null,"No","No","No",null,0]
[null,null,null,null,null,null,null,null,null,null,null,null,null,null,null,0,0,null,0,null,null,{"$f":"IF(AND($B$4>\"BC-\",M83>0),$B$4,\"\")","v":""},null,null," ",null,null,null,null,null,null,null,{"$error":"#DIV/0!"},0,0,0,0,0,0,0,0,"100%",null,null,0,0,0,0,1,0,0,0,0,0,1,"0","0","0","0","0","0",0,null,null,null,null,null,null,null,null,null,"0","0",0,"0","0","0","0",0,8,8,0,null,"0","0","0",0,0,0,0,0,"No","No",0,"*",null,"No","No","No",null,0]
[null,null,null,null,null,null,null,null,null,null,null,null,null,null,null,0,0,null,0,null,null,{"$f":"IF(AND($B$4>\"BC-\",M84>0),$B$4,\"\")","v":""},null,null," ",null,null,null,null,null,null,null,{"$error":"#DIV/0!"},0,0,0,0,0,0,0,0,"100%",null,null,0,0,0,0,1,0,0,0,0,0,1,"0","0","0","0","0","0",0,null,null,null,null,null,null,null,null,null,"0","0",0,"0","0","0","0",0,8,8,0,null,"0","0","0",0,0,0,0,0,"No","No",0,"*",null,"No","No","No",null,0]
[null,null,null,null,null,null,null,null,null,null,null,null,null,null,null,0,0,null,0,null,null,{"$f":"IF(AND($B$4>\"BC-\",M85>0),$B$4,\"\")","v":""},null,null," ",null,null,null,null,null,null,null,{"$error":"#DIV/0!"},0,0,0,0,0,0,0,0,"100%",null,null,0,0,0,0,1,0,0,0,0,0,1,"0","0","0","0","0","0",0,null,null,null,null,null,null,null,null,null,"0","0",0,"0","0","0","0",0,8,8,0,null,"0","0","0",0,0,0,0,0,"No","No",0,"*",null,"No","No","No",null,0]
[null,null,null,null,null,null,null,null,null,null,null,null,null,null,null,0,0,null,0,null,null,{"$f":"IF(AND($B$4>\"BC-\",M86>0),$B$4,\"\")","v":""},null,null," ",null,null,null,null,null,null,null,{"$error":"#DIV/0!"},0,0,0,0,0,0,0,0,"100%",null,null,0,0,0,0,1,0,0,0,0,0,1,"0","0","0","0","0","0",0,null,null,null,null,null,null,null,null,null,"0","0",0,"0","0","0","0",0,8,8,0,null,"0","0","0",0,0,0,0,0,"No","No",0,"*",null,"No","No","No",null,0]
[null,null,null,null,null,null,null,null,null,null,null,null,null,null,null,0,0,null,0,null,null,{"$f":"IF(AND($B$4>\"BC-\",M87>0),$B$4,\"\")","v":""},null,null," ",null,null,null,null,null,null,null,{"$error":"#DIV/0!"},0,0,0,0,0,0,0,0,"100%",null,null,0,0,0,0,1,0,0,0,0,0,1,"0","0","0","0","0","0",0,null,null,null,null,null,null,null,null,null,"0","0",0,"0","0","0","0",0,8,8,0,null,"0","0","0",0,0,0,0,0,"No","No",0,"*",null,"No","No","No",null,0]
[null,null,null,null,null,null,null,null,null,null,null,null,null,null,null,0,0,null,0,null,null,{"$f":"IF(AND($B$4>\"BC-\",M88>0),$B$4,\"\")","v":""},null,null," ",null,null,null,null,null,null,null,{"$error":"#DIV/0!"},0,0,0,0,0,0,0,0,"100%",null,null,0,0,0,0,1,0,0,0,0,0,1,"0","0","0","0","0","0",0,null,null,null,null,null,null,null,null,null,"0","0",0,"0","0","0","0",0,8,8,0,null,"0","0","0",0,0,0,0,0,"No","No",0,"*",null,"No","No","No",null,0]
[null,null,null,null,null,null,null,null,null,null,null,null,null,null,null,0,0,null,0,null,null,{"$f":"IF(AND($B$4>\"BC-\",M89>0),$B$4,\"\")","v":""},null,null," ",null,null,null,null,null,null,null,{"$error":"#DIV/0!"},0,0,0,0,0,0,0,0,"100%",null,null,0,0,0,0,1,0,0,0,0,0,1,"0","0","0","0","0","0",0,null,null,null,null,null,null,null,null,null,"0","0",0,"0","0","0","0",0,8,8,0,null,"0","0","0",0,0,0,0,0,"No","No",0,"*",null,"No","No","No",null,0]
[null,null,null,null,null,null,null,null,null,null,null,null,null,null,null,0,0,null,0,null,null,{"$f":"IF(AND($B$4>\"BC-\",M90>0),$B$4,\"\")","v":""},null,null," ",null,null,null,null,null,null,null,{"$error":"#DIV/0!"},0,0,0,0,0,0,0,0,"100%",null,null,0,0,0,0,1,0,0,0,0,0,1,"0","0","0","0","0","0",0,null,null,55121,24696,30889,40669,44581,33008,40669,"0","0",0,"0","0","0","0",0,8,8,0,null,"0","0","0",0,0,0,0,0,"No","No",0,"*",null,"No","No","No",null,0]
[null,null,null,null,null,null,null,null,null,null,null,null,null,null,null,0,0,null,0,null,null,{"$f":"IF(AND($B$4>\"BC-\",M91>0),$B$4,\"\")","v":""},null,null," ",null,null,null,null,null,null,null,{"$error":"#DIV/0!"},0,0,0,0,0,0,0,0,"100%",null,null,0,0,0,0,1,0,0,0,0,0,1,"0","0","0","0","0","0",0,null,null,null,null,null,null,null,null,null,"0","0",0,"0","0","0","0",0,8,8,0,null,"0","0","0",0,0,0,0,0,"No","No",0,"*",null,"No","No","No",null,0]
[null,null,null,null,null,null,null,null,null,null,null,null,null,null,null,0,0,null,0,null,null,{"$f":"IF(AND($B$4>\"BC-\",M92>0),$B$4,\"\")","v":""},null,null," ",null,null,null,null,null,null,null,{"$error":"#DIV/0!"},0,0,0,0,0,0,0,0,"100%",null,null,0,0,0,0,1,0,0,0,0,0,1,"0","0","0","0","0","0",0,null,null,null,null,null,null,null,null,null,"0","0",0,"0","0","0","0",0,8,8,0,null,"0","0","0",0,0,0,0,0,"No","No",0,"*",null,"No","No","No",null,0]
[null,null,null,null,null,null,null,null,null,null,null,null,null,null,null,0,0,null,0,null,null,{"$f":"IF(AND($B$4>\"BC-\",M93>0),$B$4,\"\")","v":""},null,null," ",null,null,null,null,null,null,null,{"$error":"#DIV/0!"},0,0,0,0,0,0,0,0,"100%",null,null,0,0,0,0,1,0,0,0,0,0,1,"0","0","0","0","0","0",0,null,null,null,null,null,null,null,null,null,"0","0",0,"0","0","0","0",0,8,8,0,null,"0","0","0",0,0,0,0,0,"No","No",0,"*",null,"No","No","No",null,0]
[null,null,null,null,null,null,null,null,null,null,null,null,null,null,null,0,0,null,0,null,null,{"$f":"IF(AND($B$4>\"BC-\",M94>0),$B$4,\"\")","v":""},null,null," ",null,null,null,null,null,null,null,{"$error":"#DIV/0!"},0,0,0,0,0,0,0,0,"100%",null,null,0,0,0,0,1,0,0,0,0,0,1,"0","0","0","0","0","0",0,null,null,null,null,null,null,null,null,null,"0","0",0,"0","0","0","0",0,8,8,0,null,"0","0","0",0,0,0,0,0,"No","No",0,"*",null,"No","No","No",null,0]
[null,null,null,null,null,null,null,null,null,null,null,null,null,null,null,0,0,null,0,null,null,{"$f":"IF(AND($B$4>\"BC-\",M95>0),$B$4,\"\")","v":""},null,null," ",null,null,null,null,null,null,null,{"$error":"#DIV/0!"},0,0,0,0,0,0,0,0,"100%",null,null,0,0,0,0,1,0,0,0,0,0,1,"0","0","0","0","0","0",0,null,null,null,null,null,null,null,null,null,"0","0",0,"0","0","0","0",0,8,8,0,null,"0","0","0",0,0,0,0,0,"No","No",0,"*",null,"No","No","No",null,0]
[null,null,null,null,null,null,null,null,null,null,null,null,null,null,null,0,0,null,0,null,null,{"$f":"IF(AND($B$4>\"BC-\",M96>0),$B$4,\"\")","v":""},null,null," ",null,null,null,null,null,null,null,{"$error":"#DIV/0!"},0,0,0,0,0,0,0,0,"100%",null,null,0,0,0,0,1,0,0,0,0,0,1,"0","0","0","0","0","0",0,null,null,null,null,null,null,null,null,null,"0","0",0,"0","0","0","0",0,8,8,0,null,"0","0","0",0,0,0,0,0,"No","No",0,"*",null,"No","No","No",null,0]
[null,null,null,null,null,null,null,null,null,null,null,null,null,null,null,0,0,null,0,null,null,{"$f":"IF(AND($B$4>\"BC-\",M97>0),$B$4,\"\")","v":""},null,null," ",null,null,null,null,null,null,null,{"$error":"#DIV/0!"},0,0,0,0,0,0,0,0,"100%",null,null,0,0,0,0,1,0,0,0,0,0,1,"0","0","0","0","0","0",0,null,null,null,null,null,null,null,null,null,"0","0",0,"0","0","0","0",0,8,8,0,null,"0","0","0",0,0,0,0,0,"No","No",0,"*",null,"No","No","No",null,0]
[null,null,null,null,null,null,null,null,null,null,null,null,null,null,null,0,0,null,0,null,null,{"$f":"IF(AND($B$4>\"BC-\",M98>0),$B$4,\"\")","v":""},null,null," ",null,null,null,null,null,null,null,{"$error":"#DIV/0!"},0,0,0,0,0,0,0,0,"100%",null,null,0,0,0,0,1,0,0,0,0,0,1,"0","0","0","0","0","0",0,null,null,null,null,null,null,null,null,null,"0","0",0,"0","0","0","0",0,8,8,0,null,"0","0","0",0,0,0,0,0,"No","No",0,"*",null,"No","No","No",null,0]
[null,null,null,null,null,null,null,null,null,null,null,null,null,null,null,0,0,null,0,null,null,{"$f":"IF(AND($B$4>\"BC-\",M99>0),$B$4,\"\")","v":""},null,null," ",null,null,null,null,null,null,null,{"$error":"#DIV/0!"},0,0,0,0,0,0,0,0,"100%",null,null,0,0,0,0,1,0,0,0,0,0,1,"0","0","0","0","0","0",0,null,null,null,null,null,null,null,null,null,"0","0",0,"0","0","0","0",0,8,8,0,null,"0","0","0",0,0,0,0,0,"No","No",0,"*",null,"No","No","No",null,0]
[null,null,null,null,null,null,null,null,null,null,null,null,null,null,null,0,0,null,0,null,null,{"$f":"IF(AND($B$4>\"BC-\",M100>0),$B$4,\"\")","v":""},null,null," ",null,null,null,null,null,null,null,{"$error":"#DIV/0!"},0,0,0,0,0,0,0,0,"100%",null,null,0,0,0,0,1,0,0,0,0,0,1,"0","0","0","0","0","0",0,null,null,158466,70168,88143,116524,127877,94292,111901,"0","0",0,"0","0","0","0",0,8,8,0,null,"0","0","0",0,0,0,0,0,"No","No",0,"*",null,"No","No","No",null,0]
[null,null,null,null,null,null,null,null,null,null,null,null,null,null,null,0,0,null,0,null,null,{"$f":"IF(AND($B$4>\"BC-\",M101>0),$B$4,\"\")","v":""},null,null," ",null,null,null,null,null,null,null,{"$error":"#DIV/0!"},0,0,0,0,0,0,0,0,"100%",null,null,0,0,0,0,1,0,0,0,0,0,1,"0","0","0","0","0","0",0,null,null,null,null,null,null,null,null,null,"0","0",0,"0","0","0","0",0,8,8,0,null,"0","0","0",0,0,0,0,0,"No","No",0,"*",null,"No","No","No",null,0]
[null,null,null,null,null,null,null,null,null,null,null,null,null,null,null,0,0,null,0,null,null,{"$f":"IF(AND($B$4>\"BC-\",M102>0),$B$4,\"\")","v":""},null,null," ",null,null,null,null,null,null,null,{"$error":"#DIV/0!"},0,0,0,0,0,0,0,0,"100%",null,null,0,0,0,0,1,0,0,0,0,0,1,"0","0","0","0","0","0",0,null,null,null,null,null,null,null,null,null,"0","0",0,"0","0","0","0",0,8,8,0,null,"0","0","0",0,0,0,0,0,"No","No",0,"*",null,"No","No","No",null,0]
[null,null,null,null,null,null,null,null,null,null,null,null,null,null,null,0,0,null,0,null,null,{"$f":"IF(AND($B$4>\"BC-\",M103>0),$B$4,\"\")","v":""},null,null," ",null,null,null,null,null,null,null,{"$error":"#DIV/0!"},0,0,0,0,0,0,0,0,"100%",null,null,0,0,0,0,1,0,0,0,0,0,1,"0","0","0","0","0","0",0,null,null,null,null,null,null,null,null,null,"0","0",0,"0","0","0","0",0,8,8,0,null,"0","0","0",0,0,0,0,0,"No","No",0,"*",null,"No","No","No",null,0]
[null,null,null,null,null,null,null,null,null,null,null,null,null,null,null,0,0,null,0,null,null,{"$f":"IF(AND($B$4>\"BC-\",M104>0),$B$4,\"\")","v":""},null,null," ",null,null,null,null,null,null,null,{"$error":"#DIV/0!"},0,0,0,0,0,0,0,0,"100%",null,null,0,0,0,0,1,0,0,0,0,0,1,"0","0","0","0","0","0",0,null,null,null,null,null,null,null,null,null,"0","0",0,"0","0","0","0",0,8,8,0,null,"0","0","0",0,0,0,0,0,"No","No",0,"*",null,"No","No","No",null,0]
[null,null,null,null,null,null,null,null,null,null,null,null,null,null,null,0,0,null,0,null,null,{"$f":"IF(AND($B$4>\"BC-\",M105>0),$B$4,\"\")","v":""},null,null," ",null,null,null,null,null,null,null,{"$error":"#DIV/0!"},0,0,0,0,0,0,0,0,"100%",null,null,0,0,0,0,1,0,0,0,0,0,1,"0","0","0","0","0","0",0,null,null,null,null,null,null,null,null,null,"0","0",0,"0","0","0","0",0,8,8,0,null,"0","0","0",0,0,0,0,0,"No","No",0,"*",null,"No","No","No",null,0]
[null,null,null,null,null,null,null,null,null,null,null,null,null,null,null,0,0,null,0,null,null,{"$f":"IF(AND($B$4>\"BC-\",M106>0),$B$4,\"\")","v":""},null,null," ",null,null,null,null,null,null,null,{"$error":"#DIV/0!"},0,0,0,0,0,0,0,0,"100%",null,null,0,0,0,0,1,0,0,0,0,0,1,"0","0","0","0","0","0",0,null,null,null,null,null,null,null,null,null,"0","0",0,"0","0","0","0",0,8,8,0,null,"0","0","0",0,0,0,0,0,"No","No",0,"*",null,"No","No","No",null,0]
[null,null,null,null,null,null,null,null,null,null,null,null,null,null,null,0,0,null,0,null,null,{"$f":"IF(AND($B$4>\"BC-\",M107>0),$B$4,\"\")","v":""},null,null," ",null,null,null,null,null,null,null,{"$error":"#DIV/0!"},0,0,0,0,0,0,0,0,"100%",null,null,0,0,0,0,1,0,0,0,0,0,1,"0","0","0","0","0","0",0,null,null,null,null,null,null,null,null,null,"0","0",0,"0","0","0","0",0,8,8,0,null,"0","0","0",0,0,0,0,0,"No","No",0,"*",null,"No","No","No",null,0]
[null,null,null,null,null,null,null,null,null,null,null,null,null,null,null,0,0,null,0,null,null,{"$f":"IF(AND($B$4>\"BC-\",M108>0),$B$4,\"\")","v":""},null,null," ",null,null,null,null,null,null,null,{"$error":"#DIV/0!"},0,0,0,0,0,0,0,0,"100%",null,null,0,0,0,0,1,0,0,0,0,0,1,"0","0","0","0","0","0",0,null,null,null,null,null,null,null,null,null,"0","0",0,"0","0","0","0",0,8,8,0,null,"0","0","0",0,0,0,0,0,"No","No",0,"*",null,"No","No","No",null,0]
[null,null,null,null,null,null,null,null,null,null,null,null,null,null,null,0,0,null,0,null,null,{"$f":"IF(AND($B$4>\"BC-\",M109>0),$B$4,\"\")","v":""},null,null," ",null,null,null,null,null,null,null,{"$error":"#DIV/0!"},0,0,0,0,0,0,0,0,"100%",null,null,0,0,0,0,1,0,0,0,0,0,1,"0","0","0","0","0","0",0,null,null,null,null,null,null,null,null,null,"0","0",0,"0","0","0","0",0,8,8,0,null,"0","0","0",0,0,0,0,0,"No","No",0,"*",null,"No","No","No",null,0]
[null,null,null,null,null,null,null,null,null,null,null,null,null,null,null,0,0,null,0,null,null,{"$f":"IF(AND($B$4>\"BC-\",M110>0),$B$4,\"\")","v":""},null,null," ",null,null,null,null,null,null,null,{"$error":"#DIV/0!"},0,0,0,0,0,0,0,0,"100%",null,null,0,0,0,0,1,0,0,0,0,0,1,"0","0","0","0","0","0",0,null,null,null,null,null,null,null,null,null,"0","0",0,"0","0","0","0",0,8,8,0,null,"0","0","0",0,0,0,0,0,"No","No",0,"*",null,"No","No","No",null,0]
[null,null,null,null,null,null,null,null,null,null,null,null,null,null,null,0,0,null,0,null,null,{"$f":"IF(AND($B$4>\"BC-\",M111>0),$B$4,\"\")","v":""},null,null," ",null,null,null,null,null,null,null,{"$error":"#DIV/0!"},0,0,0,0,0,0,0,0,"100%",null,null,0,0,0,0,1,0,0,0,0,0,1,"0","0","0","0","0","0",0,null,null,null,null,null,null,null,null,null,"0","0",0,"0","0","0","0",0,8,8,0,null,"0","0","0",0,0,0,0,0,"No","No",0,"*",null,"No","No","No",null,0]
[null,null,null,null,null,null,null,null,null,null,null,null,null,null,null,0,0,null,0,null,null,{"$f":"IF(AND($B$4>\"BC-\",M112>0),$B$4,\"\")","v":""},null,null," ",null,null,null,null,null,null,null,{"$error":"#DIV/0!"},0,0,0,0,0,0,0,0,"100%",null,null,0,0,0,0,1,0,0,0,0,0,1,"0","0","0","0","0","0",0,null,null,null,null,null,null,null,null,null,"0","0",0,"0","0","0","0",0,8,8,0,null,"0","0","0",0,0,0,0,0,"No","No",0,"*",null,"No","No","No",null,0]
[null,null,null,null,null,null,null,null,null,null,null,null,null,null,null,0,0,null,0,null,null,{"$f":"IF(AND($B$4>\"BC-\",M113>0),$B$4,\"\")","v":""},null,null," ",null,null,null,null,null,null,null,{"$error":"#DIV/0!"},0,0,0,0,0,0,0,0,"100%",null,null,0,0,0,0,1,0,0,0,0,0,1,"0","0","0","0","0","0",0,null,null,null,null,null,null,null,null,null,"0","0",0,"0","0","0","0",0,8,8,0,null,"0","0","0",0,0,0,0,0,"No","No",0,"*",null,"No","No","No",null,0]
[null,null,null,null,null,null,null,null,null,null,null,null,null,null,null,0,0,null,0,null,null,{"$f":"IF(AND($B$4>\"BC-\",M114>0),$B$4,\"\")","v":""},null,null," ",null,null,null,null,null,null,null,{"$error":"#DIV/0!"},0,0,0,0,0,0,0,0,"100%",null,null,0,0,0,0,1,0,0,0,0,0,1,"0","0","0","0","0","0",0,null,null,null,null,null,null,null,null,null,"0","0",0,"0","0","0","0",0,8,8,0,null,"0","0","0",0,0,0,0,0,"No","No",0,"*",null,"No","No","No",null,0]
[null,null,null,null,null,null,null,null,null,null,null,null,null,null,null,0,0,null,0,null,null,{"$f":"IF(AND($B$4>\"BC-\",M115>0),$B$4,\"\")","v":""},null,null," ",null,null,null,null,null,null,null,{"$error":"#DIV/0!"},0,0,0,0,0,0,0,0,"100%",null,null,0,0,0,0,1,0,0,0,0,0,1,"0","0","0","0","0","0",0,null,null,null,null,null,null,null,null,null,"0","0",0,"0","0","0","0",0,8,8,0,null,"0","0","0",0,0,0,0,0,"No","No",0,"*",null,"No","No","No",null,0]
[null,null,null,null,null,null,null,null,null,null,null,null,null,null,null,0,0,null,0,null,null,{"$f":"IF(AND($B$4>\"BC-\",M116>0),$B$4,\"\")","v":""},null,null," ",null,null,null,null,null,null,null,{"$error":"#DIV/0!"},0,0,0,0,0,0,0,0,"100%",null,null,0,0,0,0,1,0,0,0,0,0,1,"0","0","0","0","0","0",0,null,null,null,null,null,null,null,null,null,"0","0",0,"0","0","0","0",0,8,8,0,null,"0","0","0",0,0,0,0,0,"No","No",0,"*",null,"No","No","No",null,0]
[null,null,null,null,null,null,null,null,null,null,null,null,null,null,null,0,0,null,0,null,null,{"$f":"IF(AND($B$4>\"BC-\",M117>0),$B$4,\"\")","v":""},null,null," ",null,null,null,null,null,null,null,{"$error":"#DIV/0!"},0,0,0,0,0,0,0,0,"100%",null,null,0,0,0,0,1,0,0,0,0,0,1,"0","0","0","0","0","0",0,null,null,null,null,null,null,null,null,null,"0","0",0,"0","0","0","0",0,8,8,0,null,"0","0","0",0,0,0,0,0,"No","No",0,"*",null,"No","No","No",null,0]
[null,null,null,null,null,null,null,null,null,null,null,null,null,null,null,0,0,null,0,null,null,{"$f":"IF(AND($B$4>\"BC-\",M118>0),$B$4,\"\")","v":""},null,null," ",null,null,null,null,null,null,null,{"$error":"#DIV/0!"},0,0,0,0,0,0,0,0,"100%",null,null,0,0,0,0,1,0,0,0,0,0,1,"0","0","0","0","0","0",0,null,null,null,null,null,null,null,null,null,"0","0",0,"0","0","0","0",0,8,8,0,null,"0","0","0",0,0,0,0,0,"No","No",0,"*",null,"No","No","No",null,0]
[null,null,null,null,null,null,null,null,null,null,null,null,null,null,null,0,0,null,0,null,null,{"$f":"IF(AND($B$4>\"BC-\",M119>0),$B$4,\"\")","v":""},null,null," ",null,null,null,null,null,null,null,{"$error":"#DIV/0!"},0,0,0,0,0,0,0,0,"100%",null,null,0,0,0,0,1,0,0,0,0,0,1,"0","0","0","0","0","0",0,null,null,null,null,null,null,null,null,null,"0","0",0,"0","0","0","0",0,8,8,0,null,"0","0","0",0,0,0,0,0,"No","No",0,"*",null,"No","No","No",null,0]
[null,null,null,null,null,null,null,null,null,null,null,null,null,null,null,0,0,null,0,null,null,{"$f":"IF(AND($B$4>\"BC-\",M120>0),$B$4,\"\")","v":""},null,null," ",null,null,null,null,null,null,null,{"$error":"#DIV/0!"},0,0,0,0,0,0,0,0,"100%",null,null,0,0,0,0,1,0,0,0,0,0,1,"0","0","0","0","0","0",0,null,null,4984,2635,3114,3868,4170,3277,3868,"0","0",0,"0","0","0","0",0,8,8,0,null,"0","0","0",0,0,0,0,0,"No","No",0,"*",null,"No","No","No",null,0]
[null,null,null,null,null,null,null,null,null,null,null,null,null,null,null,0,0,null,0,null,null,{"$f":"IF(AND($B$4>\"BC-\",M121>0),$B$4,\"\")","v":""},null,null," ",null,null,null,null,null,null,null,{"$error":"#DIV/0!"},0,0,0,0,0,0,0,0,"100%",null,null,0,0,0,0,1,0,0,0,0,0,1,"0","0","0","0","0","0",0,null,null,null,null,null,null,null,null,null,"0","0",0,"0","0","0","0",0,8,8,0,null,"0","0","0",0,0,0,0,0,"No","No",0,"*",null,"No","No","No",null,0]
[null,null,null,null,null,null,null,null,null,null,null,null,null,null,null,0,0,null,0,null,null,{"$f":"IF(AND($B$4>\"BC-\",M122>0),$B$4,\"\")","v":""},null,null," ",null,null,null,null,null,null,null,{"$error":"#DIV/0!"},0,0,0,0,0,0,0,0,"100%",null,null,0,0,0,0,1,0,0,0,0,0,1,"0","0","0","0","0","0",0,null,null,null,null,null,null,null,null,null,"0","0",0,"0","0","0","0",0,8,8,0,null,"0","0","0",0,0,0,0,0,"No","No",0,"*",null,"No","No","No",null,0]
[null,null,null,null,null,null,null,null,null,null,null,null,null,null,null,0,0,null,0,null,null,{"$f":"IF(AND($B$4>\"BC-\",M123>0),$B$4,\"\")","v":""},null,null," ",null,null,null,null,null,null,null,{"$error":"#DIV/0!"},0,0,0,0,0,0,0,0,"100%",null,null,0,0,0,0,1,0,0,0,0,0,1,"0","0","0","0","0","0",0,null,null,null,null,null,null,null,null,null,"0","0",0,"0","0","0","0",0,8,8,0,null,"0","0","0",0,0,0,0,0,"No","No",0,"*",null,"No","No","No",null,0]
[null,null,null,null,null,null,null,null,null,null,null,null,null,null,null,0,0,null,0,null,null,{"$f":"IF(AND($B$4>\"BC-\",M124>0),$B$4,\"\")","v":""},null,null," ",null,null,null,null,null,null,null,{"$error":"#DIV/0!"},0,0,0,0,0,0,0,0,"100%",null,null,0,0,0,0,1,0,0,0,0,0,1,"0","0","0","0","0","0",0,null,null,null,null,null,null,null,null,null,"0","0",0,"0","0","0","0",0,8,8,0,null,"0","0","0",0,0,0,0,0,"No","No",0,"*",null,"No","No","No",null,0]
[null,null,null,null,null,null,null,null,null,null,null,null,null,null,null,0,0,null,0,null,null,{"$f":"IF(AND($B$4>\"BC-\",M125>0),$B$4,\"\")","v":""},null,null," ",null,null,null,null,null,null,null,{"$error":"#DIV/0!"},0,0,0,0,0,0,0,0,"100%",null,null,0,0,0,0,1,0,0,0,0,0,1,"0","0","0","0","0","0",0,null,null,null,null,null,null,null,null,null,"0","0",0,"0","0","0","0",0,8,8,0,null,"0","0","0",0,0,0,0,0,"No","No",0,"*",null,"No","No","No",null,0]
[null,null,null,null,null,null,null,null,null,null,null,null,null,null,null,0,0,null,0,null,null,{"$f":"IF(AND($B$4>\"BC-\",M126>0),$B$4,\"\")","v":""},null,null," ",null,null,null,null,null,null,null,{"$error":"#DIV/0!"},0,0,0,0,0,0,0,0,"100%",null,null,0,0,0,0,1,0,0,0,0,0,1,"0","0","0","0","0","0",0,null,null,null,null,null,null,null,null,null,"0","0",0,"0","0","0","0",0,8,8,0,null,"0","0","0",0,0,0,0,0,"No","No",0,"*",null,"No","No","No",null,0]
[null,null,null,null,null,null,null,null,null,null,null,null,null,null,null,0,0,null,0,null,null,{"$f":"IF(AND($B$4>\"BC-\",M127>0),$B$4,\"\")","v":""},null,null," ",null,null,null,null,null,null,null,{"$error":"#DIV/0!"},0,0,0,0,0,0,0,0,"100%",null,null,0,0,0,0,1,0,0,0,0,0,1,"0","0","0","0","0","0",0,null,null,null,null,null,null,null,null,null,"0","0",0,"0","0","0","0",0,8,8,0,null,"0","0","0",0,0,0,0,0,"No","No",0,"*",null,"No","No","No",null,0]
[null,null,null,null,null,null,null,null,null,null,null,null,null,null,null,0,0,null,0,null,null,{"$f":"IF(AND($B$4>\"BC-\",M128>0),$B$4,\"\")","v":""},null,null," ",null,null,null,null,null,null,null,{"$error":"#DIV/0!"},0,0,0,0,0,0,0,0,"100%",null,null,0,0,0,0,1,0,0,0,0,0,1,"0","0","0","0","0","0",0,null,null,null,null,null,null,null,null,null,"0","0",0,"0","0","0","0",0,8,8,0,null,"0","0","0",0,0,0,0,0,"No","No",0,"*",null,"No","No","No",null,0]
[null,null,null,null,null,null,null,null,null,null,null,null,null,null,null,0,0,null,0,null,null,{"$f":"IF(AND($B$4>\"BC-\",M129>0),$B$4,\"\")","v":""},null,null," ",null,null,null,null,null,null,null,{"$error":"#DIV/0!"},0,0,0,0,0,0,0,0,"100%",null,null,0,0,0,0,1,0,0,0,0,0,1,"0","0","0","0","0","0",0,null,null,null,null,null,null,null,null,null,"0","0",0,"0","0","0","0",0,8,8,0,null,"0","0","0",0,0,0,0,0,"No","No",0,"*",null,"No","No","No",null,0]
[null,null,null,null,null,null,null,null,null,null,null,null,null,null,null,0,0,null,0,null,null,{"$f":"IF(AND($B$4>\"BC-\",M130>0),$B$4,\"\")","v":""},null,null," ",null,null,null,null,null,null,null,{"$error":"#DIV/0!"},0,0,0,0,0,0,0,0,"100%",null,null,0,0,0,0,1,0,0,0,0,0,1,"0","0","0","0","0","0",0,null,null,36058,16308,20328,26676,27683,21704,23024,"0","0",0,"0","0","0","0",0,8,8,0,null,"0","0","0",0,0,0,0,0,"No","No",0,"*",null,"No","No","No",null,0]
[null,null,null,null,null,null,null,null,null,null,null,null,null,null,null,0,0,null,0,null,null,{"$f":"IF(AND($B$4>\"BC-\",M131>0),$B$4,\"\")","v":""},null,null," ",null,null,null,null,null,null,null,{"$error":"#DIV/0!"},0,0,0,0,0,0,0,0,"100%",null,null,0,0,0,0,1,0,0,0,0,0,1,"0","0","0","0","0","0",0,null,null,null,null,null,null,null,null,null,"0","0",0,"0","0","0","0",0,8,8,0,null,"0","0","0",0,0,0,0,0,"No","No",0,"*",null,"No","No","No",null,0]
[null,null,null,null,null,null,null,null,null,null,null,null,null,null,null,0,0,null,0,null,null,{"$f":"IF(AND($B$4>\"BC-\",M132>0),$B$4,\"\")","v":""},null,null," ",null,null,null,null,null,null,null,{"$error":"#DIV/0!"},0,0,0,0,0,0,0,0,"100%",null,null,0,0,0,0,1,0,0,0,0,0,1,"0","0","0","0","0","0",0,null,null,null,null,null,null,null,null,null,"0","0",0,"0","0","0","0",0,8,8,0,null,"0","0","0",0,0,0,0,0,"No","No",0,"*",null,"No","No","No",null,0]
[null,null,null,null,null,null,null,null,null,null,null,null,null,null,null,0,0,null,0,null,null,{"$f":"IF(AND($B$4>\"BC-\",M133>0),$B$4,\"\")","v":""},null,null," ",null,null,null,null,null,null,null,{"$error":"#DIV/0!"},0,0,0,0,0,0,0,0,"100%",null,null,0,0,0,0,1,0,0,0,0,0,1,"0","0","0","0","0","0",0,null,null,null,null,null,null,null,null,null,"0","0",0,"0","0","0","0",0,8,8,0,null,"0","0","0",0,0,0,0,0,"No","No",0,"*",null,"No","No","No",null,0]
[null,null,null,null,null,null,null,null,null,null,null,null,null,null,null,0,0,null,0,null,null,{"$f":"IF(AND($B$4>\"BC-\",M134>0),$B$4,\"\")","v":""},null,null," ",null,null,null,null,null,null,null,{"$error":"#DIV/0!"},0,0,0,0,0,0,0,0,"100%",null,null,0,0,0,0,1,0,0,0,0,0,1,"0","0","0","0","0","0",0,null,null,null,null,null,null,null,null,null,"0","0",0,"0","0","0","0",0,8,8,0,null,"0","0","0",0,0,0,0,0,"No","No",0,"*",null,"No","No","No",null,0]
[null,null,null,null,null,null,null,null,null,null,null,null,null,null,null,0,0,null,0,null,null,{"$f":"IF(AND($B$4>\"BC-\",M135>0),$B$4,\"\")","v":""},null,null," ",null,null,null,null,null,null,null,{"$error":"#DIV/0!"},0,0,0,0,0,0,0,0,"100%",null,null,0,0,0,0,1,0,0,0,0,0,1,"0","0","0","0","0","0",0,null,null,null,null,null,null,null,null,null,"0","0",0,"0","0","0","0",0,8,8,0,null,"0","0","0",0,0,0,0,0,"No","No",0,"*",null,"No","No","No",null,0]
[null,null,null,null,null,null,null,null,null,null,null,null,null,null,null,0,0,null,0,null,null,{"$f":"IF(AND($B$4>\"BC-\",M136>0),$B$4,\"\")","v":""},null,null," ",null,null,null,null,null,null,null,{"$error":"#DIV/0!"},0,0,0,0,0,0,0,0,"100%",null,null,0,0,0,0,1,0,0,0,0,0,1,"0","0","0","0","0","0",0,null,null,null,null,null,null,null,null,null,"0","0",0,"0","0","0","0",0,8,8,0,null,"0","0","0",0,0,0,0,0,"No","No",0,"*",null,"No","No","No",null,0]
[null,null,null,null,null,null,null,null,null,null,null,null,null,null,null,0,0,null,0,null,null,{"$f":"IF(AND($B$4>\"BC-\",M137>0),$B$4,\"\")","v":""},null,null," ",null,null,null,null,null,null,null,{"$error":"#DIV/0!"},0,0,0,0,0,0,0,0,"100%",null,null,0,0,0,0,1,0,0,0,0,0,1,"0","0","0","0","0","0",0,null,null,null,null,null,null,null,null,null,"0","0",0,"0","0","0","0",0,8,8,0,null,"0","0","0",0,0,0,0,0,"No","No",0,"*",null,"No","No","No",null,0]
[null,null,null,null,null,null,null,null,null,null,null,null,null,null,null,0,0,null,0,null,null,{"$f":"IF(AND($B$4>\"BC-\",M138>0),$B$4,\"\")","v":""},null,null," ",null,null,null,null,null,null,null,{"$error":"#DIV/0!"},0,0,0,0,0,0,0,0,"100%",null,null,0,0,0,0,1,0,0,0,0,0,1,"0","0","0","0","0","0",0,null,null,null,null,null,null,null,null,null,"0","0",0,"0","0","0","0",0,8,8,0,null,"0","0","0",0,0,0,0,0,"No","No",0,"*",null,"No","No","No",null,0]
[null,null,null,null,null,null,null,null,null,null,null,null,null,null,null,{"$f":"IF(M139>0,INDEX($BM$1:$BS$903,BT139,CB139),0)","v":0},{"$f":"IF(AND(NOT(ISBLANK(I139)),I139=0),0,CM139)","v":0},null,0,null,null,{"$f":"IF(AND($B$4>\"BC-\",M139>0),$B$4,\"\")","v":""},null,null," ",null,null,null,null,null,null,null,{"$error":"#DIV/0!"},0,{"$f":"IF(AND(C139<45351,D139>45351),(D139-C139)-1,D139-C139)","v":0},{"$f":"IF(AND(C139<45351,D139>45351,E139<45351),(E139-D139)+1,(E139-D139))","v":0},0,0,0,0,0,"100%",null,null,0,0,0,0,1,0,0,0,0,0,1,"0","0","0","0","0","0",0,null,null,null,null,null,null,null,null,null,"0","0",0,"0","0","0","0",0,8,8,0,null,"0","0","0",0,0,0,{"$f":"IF(OR(CJ139=120,CJ139=130),CK139,CK139)","v":0},0,"No","No",0,"*",null,"No","No","No",null,0]
[null,null,null,null,null,null,null,null,null,null,null,null,null,null,null,0,0,null,{"$f":"IF(OR(H140=\"ERP\",H140=\"PA\",H140=\"SAT\",H140=\"IT\"),CM140,Q140*(100%-R140)+T140)","v":0},null,null,{"$f":"IF(AND($B$4>\"BC-\",M140>0),$B$4,\"\")","v":""},null,null," ",null,null,null,null,null,null,null,{"$f":"VALUE(AJ140)*((AO140+BJ140)*$AA$1)/AI140","v":{"$error":"#DIV/0!"}},{"$f":"((AO140+BJ140)*$AA$1)","v":0},0,0,{"$f":"P140/365","v":0},{"$f":"AI140*AK140","v":0},{"$f":"AL140*AP140","v":0},{"$f":"AW140*AM140","v":0},{"$f":"BC140*AN140","v":0},{"$f":"IF(OR(I140=1,I140=0),\"100%\",I140)","v":"100%"},null,null,{"$f":"IF(J140=8,50%,0)","v":0},0,0,{"$f":"SUM(AS140:AU140)","v":0},{"$f":"IF(AV140=0,100%,AV140)","v":1},{"$f":"IF(OR(K140=\"R\", K140=\"F\"),50%,0)","v":0},{"$f":"IF(K140=\"Y1\",25%,0)","v":0},{"$f":"IF(K140=\"Y2\",50%,0)","v":0},{"$f":"IF(K140=\"Y3\",75%,0)","v":0},{"$f":"SUM(AX140:BA140)","v":0},{"$f":"IF(BB140=0,100%,BB140)","v":1},{"$f":"IF(AND(L140=\"DX\",N140<\"02001\"),IF(OR(M140=51),10106),\"0\")","v":"0"},{"$f":"IF(AND(L140=\"DX\",N140<\"02001\",M140<>23,M140<>51,M140<>2,M140<>43,M140<>63,M140<>65,M140<>9,M140<>46,M140<>54,M140<>15,M140<>35,M140<>45,M140<>6,M140<>7,M140<>21,M140<>22,M140<>25,M140<>39,M140<>40,M140<>48,M140<>67),5558,\"0\")","v":"0"},{"$f":"IF(AND(L140=\"DX\",N140<\"02001\"),IF(OR(M140=2,M140=3,M140=22,M140=33,M140=63,M140=65),6063),\"0\")","v":"0"},{"$f":"IF(AND(L140=\"DX\",N140<\"02001\"),IF(OR(M140=9,M140=26,M140=35,M140=40,M140=43,M140=46),8591),\"0\")","v":"0"},{"$f":"IF(AND(L140=\"DX\",N140<\"02001\"),IF(OR(M140=23),8591),\"0\")","v":"0"},{"$f":"IF(AND(L140=\"DX\",N140<\"02001\"),IF(OR(M140=7,M140=15,M140=19,M140=20,M140=25,M140=37,M140=45,M140=48,M140=54),6063),\"0\")","v":"0"},{"$f":"SUM(BD140:BI140)","v":0},null,null,null,null,null,null,null,null,null,{"$f":"LEFT(CD140,3)","v":"0"},{"$f":"IF(OR(M140=51),1,\"0\")","v":"0"},{"$f":"IF(OR(M140=4,M140=13,M140=17,M140=3,M140=33,M140=23,M140=51,M140=2,M140=26,M140=37,M140=63,M140=65,M140=9,M140=35,M140=46,M140=15,M140=45,M140=7,M140=19,M140=20,M140=22,M140=25,M140=39,M140=40,M140=43,M140=48, M140=54,M140=0),0,\"2\")","v":0},{"$f":"IF(OR(M140=2,M140=3,M140=4,M140=13,M140=17,M140=22,M140=33,M140=63),3,\"0\")","v":"0"},{"$f":"IF(OR(M140=23,M140=26,M140=40,M140=43),4,\"0\")","v":"0"},{"$f":"IF(OR(M140=35),5,\"0\")","v":"0"},{"$f":"IF(OR(M140=9,M140=15,M140=19,M140=20,M140=25,M140=37,M140=39,M140=45,M140=46,M140=48,M140=54,M140=65),6,\"0\")","v":"0"},{"$f":"IF(M140=7,7,0)","v":0},{"$f":"SUM(BU140+BV140+BW140+BX140+BY140+BZ140+CA140+CC140)","v":8},{"$f":"IF(M140=0,8,0)","v":8},{"$f":"IF(N140=\"00651\",\"00551\",IF(AND(N140=\"80993\"),\"12093\",IF(AND(N140=\"80994\"),\"13094\",N140)))","v":0},null,{"$f":"IF(OR(CJ140=70, CJ140=80, CJ140=90, CJ140=100, CJ140=801),CK140*0%,\"0\")","v":"0"},{"$f":"IF(OR(CJ140=6,CJ140=7,CJ140=10,CJ140=12,CJ140=15,CJ140=20,CJ140=22,CJ140=30,CJ140=35,CJ140=50,CJ140=60),CK140*50%,\"0\")","v":"0"},{"$f":"IF(OR(CJ140=120,CJ140=130),CK140,\"0\")","v":"0"},{"$f":"SUM(CF140:CH140)","v":0},{"$f":"VALUE(BT140)","v":0},{"$f":"ROUND(IF(E140>1,VALUE(AG140),VALUE(AH140)),0)","v":0},0,{"$f":"IF(OR(H140=\"ERP\",H140=\"PA\",H140=\"SAT\",H140=\"IT\"),\"0\",CL140)","v":0},{"$f":"IF(AND(U140=\"New\",F140<C140),\"Yes\",\"No\")","v":"No"},{"$f":"IF(AND(U140=\"New\",F140=C140),\"Yes\",\"No\")","v":"No"},{"$f":"IF(CO140=\"Yes\",CQ140,G140)","v":0},{"$f":"CONCATENATE(G140,$CP$9)","v":"*"},null,{"$f":"IF(OR(N140=\"02083\",N140=\"01520\",N140=\"07043\",N140=\"00508\",N140=\"01522\"),\"Yes\",\"No\")","v":"No"},{"$f":"IF(L140=\"S\",\"Yes\",\"No\")","v":"No"},{"$f":"IF(AND(CS140=\"Yes\", CT140=\"Yes\"),\"Yes\",\"No\")","v":"No"},null,0]
[null,null,null,null,null,null,null,null,null,null,null,null,null,null,null,0,0,null,0,null,null,{"$f":"IF(AND($B$4>\"BC-\",M141>0),$B$4,\"\")","v":""},null,null," ",null,null,null,null,null,null,null,{"$error":"#DIV/0!"},0,0,0,0,0,0,0,0,"100%",null,null,0,0,0,0,1,0,0,0,0,0,1,"0","0","0","0","0","0",0,null,null,null,null,null,null,null,null,null,"0","0",0,"0","0","0","0",0,8,8,0,null,"0","0","0",0,0,0,0,0,"No","No",0,"*",null,"No","No","No",null,{"$f":"IF(OR(H141=\"ERP\",H141=\"PA\",H141=\"SAT\"),CM141,Q141*(100%-R141)+T141)","v":0}]
[null,null,null,null,null,null,null,null,null,null,null,null,null,null,null,0,0,null,0,null,null,{"$f":"IF(AND($B$4>\"BC-\",M142>0),$B$4,\"\")","v":""},null,null," ",null,null,null,null,null,null,null,{"$error":"#DIV/0!"},0,0,0,0,0,0,0,0,"100%",null,null,0,0,0,0,1,0,0,0,0,0,1,"0","0","0","0","0","0",0,null,null,null,null,null,null,null,null,null,"0","0",0,"0","0","0","0",0,8,8,0,null,"0","0","0",0,0,0,0,0,"No","No",0,"*",null,"No","No","No",null,0]
[null,null,null,null,null,null,null,null,null,null,null,null,null,null,null,0,0,null,0,null,null,{"$f":"IF(AND($B$4>\"BC-\",M143>0),$B$4,\"\")","v":""},null,null," ",null,null,null,null,null,null,null,{"$error":"#DIV/0!"},0,0,0,0,0,0,0,0,"100%",null,null,0,{"$f":"IF(J143=16,65%,0)","v":0},{"$f":"IF(J143=24,80%,0)","v":0},0,1,0,0,0,0,0,1,"0","0","0","0","0","0",0,null,null,null,null,null,null,null,null,null,"0","0",0,"0","0","0","0",0,8,8,0,null,"0","0","0",0,0,0,0,0,"No","No",0,"*",null,"No","No","No",null,0]
[null,null,null,null,null,null,null,null,null,null,null,null,null,null,null,0,0,null,0,null,null,{"$f":"IF(AND($B$4>\"BC-\",M144>0),$B$4,\"\")","v":""},null,null," ",null,null,null,null,null,null,null,{"$error":"#DIV/0!"},0,0,0,0,0,0,0,0,"100%",null,null,0,0,0,0,1,0,0,0,0,0,1,"0","0","0","0","0","0",0,null,null,null,null,null,null,null,null,null,"0","0",0,"0","0","0","0",0,8,8,0,null,"0","0","0",0,0,0,0,0,"No","No",0,"*",null,"No","No","No",null,0]
[null,null,null,null,null,null,null,null,null,null,null,null,null,null,null,0,0,null,0,null,null,{"$f":"IF(AND($B$4>\"BC-\",M145>0),$B$4,\"\")","v":""},null,null," ",null,null,null,null,null,null,null,{"$error":"#DIV/0!"},0,0,0,0,0,0,0,0,"100%",null,null,0,0,0,0,1,0,0,0,0,0,1,"0","0","0","0","0","0",0,null,null,null,null,null,null,null,null,null,"0","0",0,"0","0","0","0",0,8,8,0,null,"0","0","0",0,0,0,0,0,"No","No",0,"*",null,"No","No","No",null,0]
[null,null,null,null,null,null,null,null,null,null,null,null,null,null,null,0,0,null,0,null,null,{"$f":"IF(AND($B$4>\"BC-\",M146>0),$B$4,\"\")","v":""},null,null," ",null,null,null,null,null,null,null,{"$error":"#DIV/0!"},0,0,0,0,0,0,0,0,"100%",null,null,0,0,0,0,1,0,0,0,0,0,1,"0","0","0","0","0","0",0,null,null,null,null,null,null,null,null,null,"0","0",0,"0","0","0","0",0,8,8,0,null,"0","0","0",0,0,0,0,0,"No","No",0,"*",null,"No","No","No",null,0]
[null,null,null,null,null,null,null,null,null,null,null,null,null,null,null,0,0,null,0,null,null,{"$f":"IF(AND($B$4>\"BC-\",M147>0),$B$4,\"\")","v":""},null,null," ",null,null,null,null,null,null,null,{"$error":"#DIV/0!"},0,0,0,0,0,0,0,0,"100%",null,null,0,0,0,0,1,0,0,0,0,0,1,"0","0","0","0","0","0",0,null,null,null,null,null,null,null,null,null,"0","0",0,"0","0","0","0",0,8,8,0,null,"0","0","0",0,0,0,0,0,"No","No",0,"*",null,"No","No","No",null,0]
[null,null,null,null,null,null,null,null,null,null,null,null,null,null,null,0,0,null,0,null,null,{"$f":"IF(AND($B$4>\"BC-\",M148>0),$B$4,\"\")","v":""},null,null," ",null,null,null,null,null,null,null,{"$error":"#DIV/0!"},0,0,0,0,0,0,0,0,"100%",null,null,0,0,0,0,1,0,0,0,0,0,1,"0","0","0","0","0","0",0,null,null,null,null,null,null,null,null,null,"0","0",0,"0","0","0","0",0,8,8,0,null,"0","0","0",0,0,0,0,0,"No","No",0,"*",null,"No","No","No",null,0]
[null,null,null,null,null,null,null,null,null,null,null,null,null,null,null,0,0,null,0,null,null,{"$f":"IF(AND($B$4>\"BC-\",M149>0),$B$4,\"\")","v":""},null,null," ",null,null,null,null,null,null,null,{"$error":"#DIV/0!"},0,0,0,0,0,0,0,0,"100%",null,null,0,0,0,0,1,0,0,0,0,0,1,"0","0","0","0","0","0",0,null,null,null,null,null,null,null,null,null,"0","0",0,"0","0","0","0",0,8,8,0,null,"0","0","0",0,0,0,0,0,"No","No",0,"*",null,"No","No","No",null,0]
[null,null,null,null,null,null,null,null,null,null,null,null,null,null,null,0,0,null,0,null,null,{"$f":"IF(AND($B$4>\"BC-\",M150>0),$B$4,\"\")","v":""},null,null," ",null,null,null,null,null,null,null,{"$error":"#DIV/0!"},0,0,0,0,0,0,0,0,"100%",null,null,0,0,0,0,1,0,0,0,0,0,1,"0","0","0","0","0","0",0,null,null,null,null,null,null,null,null,null,"0","0",0,"0","0","0","0",0,8,8,0,null,"0","0","0",0,0,0,0,0,"No","No",0,"*",null,"No","No","No",null,0]
[null,null,null,null,null,null,null,null,null,null,null,null,null,null,null,0,0,null,0,null,null,{"$f":"IF(AND($B$4>\"BC-\",M151>0),$B$4,\"\")","v":""},null,null," ",null,null,null,null,null,null,null,{"$error":"#DIV/0!"},0,0,0,0,0,0,0,0,"100%",null,null,0,0,0,0,1,0,0,0,0,0,1,"0","0","0","0","0","0",0,null,null,null,null,null,null,null,null,null,"0","0",0,"0","0","0","0",0,8,8,0,null,"0","0","0",0,0,0,0,0,"No","No",0,"*",null,"No","No","No",null,0]
[null,null,null,null,null,null,null,null,null,null,null,null,null,null,null,0,0,null,0,null,null,{"$f":"IF(AND($B$4>\"BC-\",M152>0),$B$4,\"\")","v":""},null,null," ",null,null,null,null,null,null,null,{"$error":"#DIV/0!"},0,0,0,0,0,0,0,0,"100%",null,null,0,0,0,0,1,0,0,0,0,0,1,"0","0","0","0","0","0",0,null,null,null,null,null,null,null,null,null,"0","0",0,"0","0","0","0",0,8,8,0,null,"0","0","0",0,0,0,0,0,"No","No",0,"*",null,"No","No","No",null,0]
[null,null,null,null,null,null,null,null,null,null,null,null,null,null,null,0,0,null,0,null,null,{"$f":"IF(AND($B$4>\"BC-\",M153>0),$B$4,\"\")","v":""},null,null," ",null,null,null,null,null,null,null,{"$error":"#DIV/0!"},0,0,0,0,0,0,0,0,"100%",null,null,0,0,0,0,1,0,0,0,0,0,1,"0","0","0","0","0","0",0,null,null,null,null,null,null,null,null,null,"0","0",0,"0","0","0","0",0,8,8,0,null,"0","0","0",0,0,0,0,0,"No","No",0,"*",null,"No","No","No",null,0]
[null,null,null,null,null,null,null,null,null,null,null,null,null,null,null,0,0,null,0,null,null,{"$f":"IF(AND($B$4>\"BC-\",M154>0),$B$4,\"\")","v":""},null,null," ",null,null,null,null,null,null,null,{"$error":"#DIV/0!"},0,0,0,0,0,0,0,0,"100%",null,null,0,0,0,0,1,0,0,0,0,0,1,"0","0","0","0","0","0",0,null,null,null,null,null,null,null,null,null,"0","0",0,"0","0","0","0",0,8,8,0,null,"0","0","0",0,0,0,0,0,"No","No",0,"*",null,"No","No","No",null,0]
[null,null,null,null,null,null,null,null,null,null,null,null,null,null,null,0,0,null,0,null,null,{"$f":"IF(AND($B$4>\"BC-\",M155>0),$B$4,\"\")","v":""},null,null," ",null,null,null,null,null,null,null,{"$error":"#DIV/0!"},0,0,0,0,0,0,0,0,"100%",null,null,0,0,0,0,1,0,0,0,0,0,1,"0","0","0","0","0","0",0,null,null,null,null,null,null,null,null,null,"0","0",0,"0","0","0","0",0,8,8,0,null,"0","0","0",0,0,0,0,0,"No","No",0,"*",null,"No","No","No",null,0]
[null,null,null,null,null,null,null,null,null,null,null,null,null,null,null,0,0,null,0,null,null,{"$f":"IF(AND($B$4>\"BC-\",M156>0),$B$4,\"\")","v":""},null,null," ",null,null,null,null,null,null,null,{"$error":"#DIV/0!"},0,0,0,0,0,0,0,0,"100%",null,null,0,0,0,0,1,0,0,0,0,0,1,"0","0","0","0","0","0",0,null,null,null,null,null,null,null,null,null,"0","0",0,"0","0","0","0",0,8,8,0,null,"0","0","0",0,0,0,0,0,"No","No",0,"*",null,"No","No","No",null,0]
[null,null,null,null,null,null,null,null,null,null,null,null,null,null,null,0,0,null,0,null,null,{"$f":"IF(AND($B$4>\"BC-\",M157>0),$B$4,\"\")","v":""},null,null," ",null,null,null,null,null,null,null,{"$error":"#DIV/0!"},0,0,0,0,0,0,0,0,"100%",null,null,0,0,0,0,1,0,0,0,0,0,1,"0","0","0","0","0","0",0,null,null,null,null,null,null,null,null,null,"0","0",0,"0","0","0","0",0,8,8,0,null,"0","0","0",0,0,0,0,0,"No","No",0,"*",null,"No","No","No",null,0]
[null,null,null,null,null,null,null,null,null,null,null,null,null,null,null,0,0,null,0,null,null,{"$f":"IF(AND($B$4>\"BC-\",M158>0),$B$4,\"\")","v":""},null,null," ",null,null,null,null,null,null,null,{"$error":"#DIV/0!"},0,0,0,0,0,0,0,0,"100%",null,null,0,0,0,0,1,0,0,0,0,0,1,"0","0","0","0","0","0",0,null,null,null,null,null,null,null,null,null,"0","0",0,"0","0","0","0",0,8,8,0,null,"0","0","0",0,0,0,0,0,"No","No",0,"*",null,"No","No","No",null,0]
[null,null,null,null,null,null,null,null,null,null,null,null,null,null,null,0,0,null,0,null,null,{"$f":"IF(AND($B$4>\"BC-\",M159>0),$B$4,\"\")","v":""},null,null," ",null,null,null,null,null,null,null,{"$error":"#DIV/0!"},0,0,0,0,0,0,0,0,"100%",null,null,0,0,0,0,1,0,0,0,0,0,1,"0","0","0","0","0","0",0,null,null,null,null,null,null,null,null,null,"0","0",0,"0","0","0","0",0,8,8,0,null,"0","0","0",0,0,0,0,0,"No","No",0,"*",null,"No","No","No",null,0]
[null,null,null,null,null,null,null,null,null,null,null,null,null,null,null,0,0,null,0,null,null,{"$f":"IF(AND($B$4>\"BC-\",M160>0),$B$4,\"\")","v":""},null,null," ",null,null,null,null,null,null,null,{"$error":"#DIV/0!"},0,0,0,0,0,0,0,0,"100%",null,null,0,0,0,0,1,0,0,0,0,0,1,"0","0","0","0","0","0",0,null,null,null,null,null,null,null,null,null,"0","0",0,"0","0","0","0",0,8,8,0,null,"0","0","0",0,0,0,0,0,"No","No",0,"*",null,"No","No","No",null,0]
[null,null,null,null,null,null,null,null,null,null,null,null,null,null,null,0,0,null,0,null,null,{"$f":"IF(AND($B$4>\"BC-\",M161>0),$B$4,\"\")","v":""},null,null," ",null,null,null,null,null,null,null,{"$error":"#DIV/0!"},0,0,0,0,0,0,0,0,"100%",null,null,0,0,0,0,1,0,0,0,0,0,1,"0","0","0","0","0","0",0,null,null,null,null,null,null,null,null,null,"0","0",0,"0","0","0","0",0,8,8,0,null,"0","0","0",0,0,0,0,0,"No","No",0,"*",null,"No","No","No",null,0]
[null,null,null,null,null,null,null,null,null,null,null,null,null,null,null,0,0,null,0,null,null,{"$f":"IF(AND($B$4>\"BC-\",M162>0),$B$4,\"\")","v":""},null,null," ",null,null,null,null,null,null,null,{"$error":"#DIV/0!"},0,0,0,0,0,0,0,0,"100%",null,null,0,0,0,0,1,0,0,0,0,0,1,"0","0","0","0","0","0",0,null,null,null,null,null,null,null,null,null,"0","0",0,"0","0","0","0",0,8,8,0,null,"0","0","0",0,0,0,0,0,"No","No",0,"*",null,"No","No","No",null,0]
[null,null,null,null,null,null,null,null,null,null,null,null,null,null,null,0,0,null,0,null,null,{"$f":"IF(AND($B$4>\"BC-\",M163>0),$B$4,\"\")","v":""},null,null," ",null,null,null,null,null,null,null,{"$error":"#DIV/0!"},0,0,0,0,0,0,0,0,"100%",null,null,0,0,0,0,1,0,0,0,0,0,1,"0","0","0","0","0","0",0,null,null,null,null,null,null,null,null,null,"0","0",0,"0","0","0","0",0,8,8,0,null,"0","0","0",0,0,0,0,0,"No","No",0,"*",null,"No","No","No",null,0]
[null,null,null,null,null,null,null,null,null,null,null,null,null,null,null,0,0,null,0,null,null,{"$f":"IF(AND($B$4>\"BC-\",M164>0),$B$4,\"\")","v":""},null,null," ",null,null,null,null,null,null,null,{"$error":"#DIV/0!"},0,0,0,0,0,0,0,0,"100%",null,null,0,0,0,0,1,0,0,0,0,0,1,"0","0","0","0","0","0",0,null,null,null,null,null,null,null,null,null,"0","0",0,"0","0","0","0",0,8,8,0,null,"0","0","0",0,0,0,0,0,"No","No",0,"*",null,"No","No","No",null,0]
[null,null,null,null,null,null,null,null,null,null,null,null,null,null,null,0,0,null,0,null,null,{"$f":"IF(AND($B$4>\"BC-\",M165>0),$B$4,\"\")","v":""},null,null," ",null,null,null,null,null,null,null,{"$error":"#DIV/0!"},0,0,0,0,0,0,0,0,"100%",null,null,0,0,0,0,1,0,0,0,0,0,1,"0","0","0","0","0","0",0,null,null,null,null,null,null,null,null,null,"0","0",0,"0","0","0","0",0,8,8,0,null,"0","0","0",0,0,0,0,0,"No","No",0,"*",null,"No","No","No",null,0]
[null,null,null,null,null,null,null,null,null,null,null,null,null,null,null,0,0,null,0,null,null,{"$f":"IF(AND($B$4>\"BC-\",M166>0),$B$4,\"\")","v":""},null,null," ",null,null,null,null,null,null,null,{"$error":"#DIV/0!"},0,0,0,0,0,0,0,0,"100%",null,null,0,0,0,0,1,0,0,0,0,0,1,"0","0","0","0","0","0",0,null,null,null,null,null,null,null,null,null,"0","0",0,"0","0","0","0",0,8,8,0,null,"0","0","0",0,0,0,0,0,"No","No",0,"*",null,"No","No","No",null,0]
[null,null,null,null,null,null,null,null,null,null,null,null,null,null,null,0,0,null,0,null,null,{"$f":"IF(AND($B$4>\"BC-\",M167>0),$B$4,\"\")","v":""},null,null," ",null,null,null,null,null,null,null,{"$error":"#DIV/0!"},0,0,0,0,0,0,0,0,"100%",null,null,0,0,0,0,1,0,0,0,0,0,1,"0","0","0","0","0","0",0,null,null,null,null,null,null,null,null,null,"0","0",0,"0","0","0","0",0,8,8,0,null,"0","0","0",0,0,0,0,0,"No","No",0,"*",null,"No","No","No",null,0]
[null,null,null,null,null,null,null,null,null,null,null,null,null,null,null,0,0,null,0,null,null,{"$f":"IF(AND($B$4>\"BC-\",M168>0),$B$4,\"\")","v":""},null,null," ",null,null,null,null,null,null,null,{"$error":"#DIV/0!"},0,0,0,0,0,0,0,0,"100%",null,null,0,0,0,0,1,0,0,0,0,0,1,"0","0","0","0","0","0",0,null,null,null,null,null,null,null,null,null,"0","0",0,"0","0","0","0",0,8,8,0,null,"0","0","0",0,0,0,0,0,"No","No",0,"*",null,"No","No","No",null,0]
[null,null,null,null,null,null,null,null,null,null,null,null,null,null,null,0,0,null,0,null,null,{"$f":"IF(AND($B$4>\"BC-\",M169>0),$B$4,\"\")","v":""},null,null," ",null,null,null,null,null,null,null,{"$error":"#DIV/0!"},0,0,0,0,0,0,0,0,"100%",null,null,0,0,0,0,1,0,0,0,0,0,1,"0","0","0","0","0","0",0,null,null,null,null,null,null,null,null,null,"0","0",0,"0","0","0","0",0,8,8,0,null,"0","0","0",0,0,0,0,0,"No","No",0,"*",null,"No","No","No",null,0]
[null,null,null,null,null,null,null,null,null,null,null,null,null,null,null,0,0,null,0,null,null,{"$f":"IF(AND($B$4>\"BC-\",M170>0),$B$4,\"\")","v":""},null,null," ",null,null,null,null,null,null,null,{"$error":"#DIV/0!"},0,0,0,0,0,0,0,0,"100%",null,null,0,0,0,0,1,0,0,0,0,0,1,"0","0","0","0","0","0",0,null,null,null,null,null,null,null,null,null,"0","0",0,"0","0","0","0",0,8,8,0,null,"0","0","0",0,0,0,0,0,"No","No",0,"*",null,"No","No","No",null,0]
[null,null,null,null,null,null,null,null,null,null,null,null,null,null,null,0,0,null,0,null,null,{"$f":"IF(AND($B$4>\"BC-\",M171>0),$B$4,\"\")","v":""},null,null," ",null,null,null,null,null,null,null,{"$error":"#DIV/0!"},0,0,0,0,0,0,0,0,"100%",null,null,0,0,0,0,1,0,0,0,0,0,1,"0","0","0","0","0","0",0,null,null,null,null,null,null,null,null,null,"0","0",0,"0","0","0","0",0,8,8,0,null,"0","0","0",0,0,0,0,0,"No","No",0,"*",null,"No","No","No",null,0]
[null,null,null,null,null,null,null,null,null,null,null,null,null,null,null,0,0,null,0,null,null,{"$f":"IF(AND($B$4>\"BC-\",M172>0),$B$4,\"\")","v":""},null,null," ",null,null,null,null,null,null,null,{"$error":"#DIV/0!"},0,0,0,0,0,0,0,0,"100%",null,null,0,0,0,0,1,0,0,0,0,0,1,"0","0","0","0","0","0",0,null,null,null,null,null,null,null,null,null,"0","0",0,"0","0","0","0",0,8,8,0,null,"0","0","0",0,0,0,0,0,"No","No",0,"*",null,"No","No","No",null,0]
[null,null,null,null,null,null,null,null,null,null,null,null,null,null,null,0,0,null,0,null,null,{"$f":"IF(AND($B$4>\"BC-\",M173>0),$B$4,\"\")","v":""},null,null," ",null,null,null,null,null,null,null,{"$error":"#DIV/0!"},0,0,0,0,0,0,0,0,"100%",null,null,0,0,0,0,1,0,0,0,0,0,1,"0","0","0","0","0","0",0,null,null,null,null,null,null,null,null,null,"0","0",0,"0","0","0","0",0,8,8,0,null,"0","0","0",0,0,0,0,0,"No","No",0,"*",null,"No","No","No",null,0]
[null,null,null,null,null,null,null,null,null,null,null,null,null,null,null,0,0,null,0,null,null,{"$f":"IF(AND($B$4>\"BC-\",M174>0),$B$4,\"\")","v":""},null,null," ",null,null,null,null,null,null,null,{"$error":"#DIV/0!"},0,0,0,0,0,0,0,0,"100%",null,null,0,0,0,0,1,0,0,0,0,0,1,"0","0","0","0","0","0",0,null,null,null,null,null,null,null,null,null,"0","0",0,"0","0","0","0",0,8,8,0,null,"0","0","0",0,0,0,0,0,"No","No",0,"*",null,"No","No","No",null,0]
[null,null,null,null,null,null,null,null,null,null,null,null,null,null,null,0,0,null,0,null,null,{"$f":"IF(AND($B$4>\"BC-\",M175>0),$B$4,\"\")","v":""},null,null," ",null,null,null,null,null,null,null,{"$error":"#DIV/0!"},0,0,0,0,0,0,0,0,"100%",null,null,0,0,0,0,1,0,0,0,0,0,1,"0","0","0","0","0","0",0,null,null,null,null,null,null,null,null,null,"0","0",0,"0","0","0","0",0,8,8,0,null,"0","0","0",0,0,0,0,0,"No","No",0,"*",null,"No","No","No",null,0]
[null,null,null,null,null,null,null,null,null,null,null,null,null,null,null,0,0,null,0,null,null,{"$f":"IF(AND($B$4>\"BC-\",M176>0),$B$4,\"\")","v":""},null,null," ",null,null,null,null,null,null,null,{"$error":"#DIV/0!"},0,0,0,0,0,0,0,0,"100%",null,null,0,0,0,0,1,0,0,0,0,0,1,"0","0","0","0","0","0",0,null,null,null,null,null,null,null,null,null,"0","0",0,"0","0","0","0",0,8,8,0,null,"0","0","0",0,0,0,0,0,"No","No",0,"*",null,"No","No","No",null,0]
[null,null,null,null,null,null,null,null,null,null,null,null,null,null,null,0,0,null,0,null,null,{"$f":"IF(AND($B$4>\"BC-\",M177>0),$B$4,\"\")","v":""},null,null," ",null,null,null,null,null,null,null,{"$error":"#DIV/0!"},0,0,0,0,0,0,0,0,"100%",null,null,0,0,0,0,1,0,0,0,0,0,1,"0","0","0","0","0","0",0,null,null,null,null,null,null,null,null,null,"0","0",0,"0","0","0","0",0,8,8,0,null,"0","0","0",0,0,0,0,0,"No","No",0,"*",null,"No","No","No",null,0]
[null,null,null,null,null,null,null,null,null,null,null,null,null,null,null,0,0,null,0,null,null,{"$f":"IF(AND($B$4>\"BC-\",M178>0),$B$4,\"\")","v":""},null,null," ",null,null,null,null,null,null,null,{"$error":"#DIV/0!"},0,0,0,0,0,0,0,0,"100%",null,null,0,0,0,0,1,0,0,0,0,0,1,"0","0","0","0","0","0",0,null,null,null,null,null,null,null,null,null,"0","0",0,"0","0","0","0",0,8,8,0,null,"0","0","0",0,0,0,0,0,"No","No",0,"*",null,"No","No","No",null,0]
[null,null,null,null,null,null,null,null,null,null,null,null,null,null,null,0,0,null,0,null,null,{"$f":"IF(AND($B$4>\"BC-\",M179>0),$B$4,\"\")","v":""},null,null," ",null,null,null,null,null,null,null,{"$error":"#DIV/0!"},0,0,0,0,0,0,0,0,"100%",null,null,0,0,0,0,1,0,0,0,0,0,1,"0","0","0","0","0","0",0,null,null,null,null,null,null,null,null,null,"0","0",0,"0","0","0","0",0,8,8,0,null,"0","0","0",0,0,0,0,0,"No","No",0,"*",null,"No","No","No",null,0]
[null,null,null,null,null,null,null,null,null,null,null,null,null,null,null,0,0,null,0,null,null,{"$f":"IF(AND($B$4>\"BC-\",M180>0),$B$4,\"\")","v":""},null,null," ",null,null,null,null,null,null,null,{"$error":"#DIV/0!"},0,0,0,0,0,0,0,0,"100%",null,null,0,0,0,0,1,0,0,0,0,0,1,"0","0","0","0","0","0",0,null,null,null,null,null,null,null,null,null,"0","0",0,"0","0","0","0",0,8,8,0,null,"0","0","0",0,0,0,0,0,"No","No",0,"*",null,"No","No","No",null,0]
[null,null,null,null,null,null,null,null,null,null,null,null,null,null,null,0,0,null,0,null,null,{"$f":"IF(AND($B$4>\"BC-\",M181>0),$B$4,\"\")","v":""},null,null," ",null,null,null,null,null,null,null,{"$error":"#DIV/0!"},0,0,0,0,0,0,0,0,"100%",null,null,0,0,0,0,1,0,0,0,0,0,1,"0","0","0","0","0","0",0,null,null,null,null,null,null,null,null,null,"0","0",0,"0","0","0","0",0,8,8,0,null,"0","0","0",0,0,0,0,0,"No","No",0,"*",null,"No","No","No",null,0]
[null,null,null,null,null,null,null,null,null,null,null,null,null,null,null,0,0,null,0,null,null,{"$f":"IF(AND($B$4>\"BC-\",M182>0),$B$4,\"\")","v":""},null,null," ",null,null,null,null,null,null,null,{"$error":"#DIV/0!"},0,0,0,0,0,0,0,0,"100%",null,null,0,0,0,0,1,0,0,0,0,0,1,"0","0","0","0","0","0",0,null,null,null,null,null,null,null,null,null,"0","0",0,"0","0","0","0",0,8,8,0,null,"0","0","0",0,0,0,0,0,"No","No",0,"*",null,"No","No","No",null,0]
[null,null,null,null,null,null,null,null,null,null,null,null,null,null,null,0,0,null,0,null,null,{"$f":"IF(AND($B$4>\"BC-\",M183>0),$B$4,\"\")","v":""},null,null," ",null,null,null,null,null,null,null,{"$error":"#DIV/0!"},0,0,0,0,0,0,0,0,"100%",null,null,0,0,0,0,1,0,0,0,0,0,1,"0","0","0","0","0","0",0,null,null,null,null,null,null,null,null,null,"0","0",0,"0","0","0","0",0,8,8,0,null,"0","0","0",0,0,0,0,0,"No","No",0,"*",null,"No","No","No",null,0]
[null,null,null,null,null,null,null,null,null,null,null,null,null,null,null,0,0,null,0,null,null,{"$f":"IF(AND($B$4>\"BC-\",M184>0),$B$4,\"\")","v":""},null,null," ",null,null,null,null,null,null,null,{"$error":"#DIV/0!"},0,0,0,0,0,0,0,0,"100%",null,null,0,0,0,0,1,0,0,0,0,0,1,"0","0","0","0","0","0",0,null,null,null,null,null,null,null,null,null,"0","0",0,"0","0","0","0",0,8,8,0,null,"0","0","0",0,0,0,0,0,"No","No",0,"*",null,"No","No","No",null,0]
[null,null,null,null,null,null,null,null,null,null,null,null,null,null,null,0,0,null,0,null,null,{"$f":"IF(AND($B$4>\"BC-\",M185>0),$B$4,\"\")","v":""},null,null," ",null,null,null,null,null,null,null,{"$error":"#DIV/0!"},0,0,0,0,0,0,0,0,"100%",null,null,0,0,0,0,1,0,0,0,0,0,1,"0","0","0","0","0","0",0,null,null,null,null,null,null,null,null,null,"0","0",0,"0","0","0","0",0,8,8,0,null,"0","0","0",0,0,0,0,0,"No","No",0,"*",null,"No","No","No",null,0]
[null,null,null,null,null,null,null,null,null,null,null,null,null,null,null,0,0,null,0,null,null,{"$f":"IF(AND($B$4>\"BC-\",M186>0),$B$4,\"\")","v":""},null,null," ",null,null,null,null,null,null,null,{"$error":"#DIV/0!"},0,0,0,0,0,0,0,0,"100%",null,null,0,0,0,0,1,0,0,0,0,0,1,"0","0","0","0","0","0",0,null,null,null,null,null,null,null,null,null,"0","0",0,"0","0","0","0",0,8,8,0,null,"0","0","0",0,0,0,0,0,"No","No",0,"*",null,"No","No","No",null,0]
[null,null,null,null,null,null,null,null,null,null,null,null,null,null,null,0,0,null,0,null,null,{"$f":"IF(AND($B$4>\"BC-\",M187>0),$B$4,\"\")","v":""},null,null," ",null,null,null,null,null,null,null,{"$error":"#DIV/0!"},0,0,0,0,0,0,0,0,"100%",null,null,0,0,0,0,1,0,0,0,0,0,1,"0","0","0","0","0","0",0,null,null,null,null,null,null,null,null,null,"0","0",0,"0","0","0","0",0,8,8,0,null,"0","0","0",0,0,0,0,0,"No","No",0,"*",null,"No","No","No",null,0]
[null,null,null,null,null,null,null,null,null,null,null,null,null,null,null,0,0,null,0,null,null,{"$f":"IF(AND($B$4>\"BC-\",M188>0),$B$4,\"\")","v":""},null,null," ",null,null,null,null,null,null,null,{"$error":"#DIV/0!"},0,0,0,0,0,0,0,0,"100%",null,null,0,0,0,0,1,0,0,0,0,0,1,"0","0","0","0","0","0",0,null,null,null,null,null,null,null,null,null,"0","0",0,"0","0","0","0",0,8,8,0,null,"0","0","0",0,0,0,0,0,"No","No",0,"*",null,"No","No","No",null,0]
[null,null,null,null,null,null,null,null,null,null,null,null,null,null,null,0,0,null,0,null,null,{"$f":"IF(AND($B$4>\"BC-\",M189>0),$B$4,\"\")","v":""},null,null," ",null,null,null,null,null,null,null,{"$error":"#DIV/0!"},0,0,0,0,0,0,0,0,"100%",null,null,0,0,0,0,1,0,0,0,0,0,1,"0","0","0","0","0","0",0,null,null,null,null,null,null,null,null,null,"0","0",0,"0","0","0","0",0,8,8,0,null,"0","0","0",0,0,0,0,0,"No","No",0,"*",null,"No","No","No",null,0]
[null,null,null,null,null,null,null,null,null,null,null,null,null,null,null,0,0,null,0,null,null,{"$f":"IF(AND($B$4>\"BC-\",M190>0),$B$4,\"\")","v":""},null,null," ",null,null,null,null,null,null,null,{"$error":"#DIV/0!"},0,0,0,0,0,0,0,0,"100%",null,null,0,0,0,0,1,0,0,0,0,0,1,"0","0","0","0","0","0",0,null,null,null,null,null,null,null,null,null,"0","0",0,"0","0","0","0",0,8,8,0,null,"0","0","0",0,0,0,0,0,"No","No",0,"*",null,"No","No","No",null,0]
[null,null,null,null,null,null,null,null,null,null,null,null,null,null,null,0,0,null,0,null,null,{"$f":"IF(AND($B$4>\"BC-\",M191>0),$B$4,\"\")","v":""},null,null," ",null,null,null,null,null,null,null,{"$error":"#DIV/0!"},0,0,0,0,0,0,0,0,"100%",null,null,0,0,0,0,1,0,0,0,0,0,1,"0","0","0","0","0","0",0,null,null,null,null,null,null,null,null,null,"0","0",0,"0","0","0","0",0,8,8,0,null,"0","0","0",0,0,0,0,0,"No","No",0,"*",null,"No","No","No",null,0]
[null,null,null,null,null,null,null,null,null,null,null,null,null,null,null,0,0,null,0,null,null,{"$f":"IF(AND($B$4>\"BC-\",M192>0),$B$4,\"\")","v":""},null,null," ",null,null,null,null,null,null,null,{"$error":"#DIV/0!"},0,0,0,0,0,0,0,0,"100%",null,null,0,0,0,0,1,0,0,0,0,0,1,"0","0","0","0","0","0",0,null,null,null,null,null,null,null,null,null,"0","0",0,"0","0","0","0",0,8,8,0,null,"0","0","0",0,0,0,0,0,"No","No",0,"*",null,"No","No","No",null,0]
[null,null,null,null,null,null,null,null,null,null,null,null,null,null,null,0,0,null,0,null,null,{"$f":"IF(AND($B$4>\"BC-\",M193>0),$B$4,\"\")","v":""},null,null," ",null,null,null,null,null,null,null,{"$error":"#DIV/0!"},0,0,0,0,0,0,0,0,"100%",null,null,0,0,0,0,1,0,0,0,0,0,1,"0","0","0","0","0","0",0,null,null,null,null,null,null,null,null,null,"0","0",0,"0","0","0","0",0,8,8,0,null,"0","0","0",0,0,0,0,0,"No","No",0,"*",null,"No","No","No",null,0]
[null,null,null,null,null,null,null,null,null,null,null,null,null,null,null,0,0,null,0,null,null,{"$f":"IF(AND($B$4>\"BC-\",M194>0),$B$4,\"\")","v":""},null,null," ",null,null,null,null,null,null,null,{"$error":"#DIV/0!"},0,0,0,0,0,0,0,0,"100%",null,null,0,0,0,0,1,0,0,0,0,0,1,"0","0","0","0","0","0",0,null,null,null,null,null,null,null,null,null,"0","0",0,"0","0","0","0",0,8,8,0,null,"0","0","0",0,0,0,0,0,"No","No",0,"*",null,"No","No","No",null,0]
[null,null,null,null,null,null,null,null,null,null,null,null,null,null,null,0,0,null,0,null,null,{"$f":"IF(AND($B$4>\"BC-\",M195>0),$B$4,\"\")","v":""},null,null," ",null,null,null,null,null,null,null,{"$error":"#DIV/0!"},0,0,0,0,0,0,0,0,"100%",null,null,0,0,0,0,1,0,0,0,0,0,1,"0","0","0","0","0","0",0,null,null,null,null,null,null,null,null,null,"0","0",0,"0","0","0","0",0,8,8,0,null,"0","0","0",0,0,0,0,0,"No","No",0,"*",null,"No","No","No",null,0]
[null,null,null,null,null,null,null,null,null,null,null,null,null,null,null,0,0,null,0,null,null,{"$f":"IF(AND($B$4>\"BC-\",M196>0),$B$4,\"\")","v":""},null,null," ",null,null,null,null,null,null,null,{"$error":"#DIV/0!"},0,0,0,0,0,0,0,0,"100%",null,null,0,0,0,0,1,0,0,0,0,0,1,"0","0","0","0","0","0",0,null,null,null,null,null,null,null,null,null,"0","0",0,"0","0","0","0",0,8,8,0,null,"0","0","0",0,0,0,0,0,"No","No",0,"*",null,"No","No","No",null,0]
[null,null,null,null,null,null,null,null,null,null,null,null,null,null,null,0,0,null,0,null,null,{"$f":"IF(AND($B$4>\"BC-\",M197>0),$B$4,\"\")","v":""},null,null," ",null,null,null,null,null,null,null,{"$error":"#DIV/0!"},0,0,0,0,0,0,0,0,"100%",null,null,0,0,0,0,1,0,0,0,0,0,1,"0","0","0","0","0","0",0,null,null,null,null,null,null,null,null,null,"0","0",0,"0","0","0","0",0,8,8,0,null,"0","0","0",0,0,0,0,0,"No","No",0,"*",null,"No","No","No",null,0]
[null,null,null,null,null,null,null,null,null,null,null,null,null,null,null,0,0,null,0,null,null,{"$f":"IF(AND($B$4>\"BC-\",M198>0),$B$4,\"\")","v":""},null,null," ",null,null,null,null,null,null,null,{"$error":"#DIV/0!"},0,0,0,0,0,0,0,0,"100%",null,null,0,0,0,0,1,0,0,0,0,0,1,"0","0","0","0","0","0",0,null,null,null,null,null,null,null,null,null,"0","0",0,"0","0","0","0",0,8,8,0,null,"0","0","0",0,0,0,0,0,"No","No",0,"*",null,"No","No","No",null,0]
[null,null,null,null,null,null,null,null,null,null,null,null,null,null,null,0,0,null,0,null,null,{"$f":"IF(AND($B$4>\"BC-\",M199>0),$B$4,\"\")","v":""},null,null," ",null,null,null,null,null,null,null,{"$error":"#DIV/0!"},0,0,0,0,0,0,0,0,"100%",null,null,0,0,0,0,1,0,0,0,0,0,1,"0","0","0","0","0","0",0,null,null,null,null,null,null,null,null,null,"0","0",0,"0","0","0","0",0,8,8,0,null,"0","0","0",0,0,0,0,0,"No","No",0,"*",null,"No","No","No",null,0]
[null,null,null,null,null,null,null,null,null,null,null,null,null,null,null,0,0,null,0,null,null,{"$f":"IF(AND($B$4>\"BC-\",M200>0),$B$4,\"\")","v":""},null,null," ",null,null,null,null,null,null,null,{"$error":"#DIV/0!"},0,0,0,0,0,0,0,0,"100%",null,null,0,0,0,0,1,0,0,0,0,0,1,"0","0","0","0","0","0",0,null,null,null,null,null,null,null,null,null,"0","0",0,"0","0","0","0",0,8,8,0,null,"0","0","0",0,0,0,0,0,"No","No",0,"*",null,"No","No","No",null,0]
[null,null,null,null,null,null,null,null,null,null,null,null,null,null,null,0,0,null,0,null,null,{"$f":"IF(AND($B$4>\"BC-\",M201>0),$B$4,\"\")","v":""},null,null," ",null,null,null,null,null,null,null,{"$error":"#DIV/0!"},0,0,0,0,0,0,0,0,"100%",null,null,0,0,0,0,1,0,0,0,0,0,1,"0","0","0","0","0","0",0,null,null,null,null,null,null,null,null,null,"0","0",0,"0","0","0","0",0,8,8,0,null,"0","0","0",0,0,0,0,0,"No","No",0,"*",null,"No","No","No",null,0]
[null,null,null,null,null,null,null,null,null,null,null,null,null,null,null,0,0,null,0,null,null,{"$f":"IF(AND($B$4>\"BC-\",M202>0),$B$4,\"\")","v":""},null,null," ",null,null,null,null,null,null,null,{"$error":"#DIV/0!"},0,0,0,0,0,0,0,0,"100%",null,null,0,0,0,0,1,0,0,0,0,0,1,"0","0","0","0","0","0",0,null,null,null,null,null,null,null,null,null,"0","0",0,"0","0","0","0",0,8,8,0,null,"0","0","0",0,0,0,0,0,"No","No",0,"*",null,"No","No","No",null,0]
[null,null,null,null,null,null,null,null,null,null,null,null,null,null,null,{"$f":"IF(M203>0,INDEX($BM$1:$BS$903,BT203,CB203),0)","v":0},{"$f":"IF(AND(NOT(ISBLANK(I203)),I203=0),0,CM203)","v":0},null,0,null,null,{"$f":"IF(AND($B$4>\"BC-\",M203>0),$B$4,\"\")","v":""},null,null," ",null,null,null,null,null,null,null,{"$error":"#DIV/0!"},0,{"$f":"IF(AND(C203<45351,D203>45351),(D203-C203)-1,D203-C203)","v":0},{"$f":"IF(AND(C203<45351,D203>45351,E203<45351),(E203-D203)+1,(E203-D203))","v":0},0,0,0,0,0,"100%",null,null,0,0,0,0,1,0,0,0,0,0,1,"0","0","0","0","0","0",0,null,null,null,null,null,null,null,null,null,"0","0",0,"0","0","0","0",0,8,8,0,null,"0","0","0",0,0,0,{"$f":"IF(OR(CJ203=120,CJ203=130),CK203,CK203)","v":0},0,"No","No",0,"*",null,"No","No","No",null,0]
[null,null,null,null,null,null,null,null,null,null,null,null,null,null,null,0,0,null,{"$f":"IF(OR(H204=\"ERP\",H204=\"PA\",H204=\"SAT\",H204=\"IT\"),CM204,Q204*(100%-R204)+T204)","v":0},null,null,{"$f":"IF(AND($B$4>\"BC-\",M204>0),$B$4,\"\")","v":""},null,null," ",null,null,null,null,null,null,null,{"$f":"VALUE(AJ204)*((AO204+BJ204)*$AA$1)/AI204","v":{"$error":"#DIV/0!"}},{"$f":"((AO204+BJ204)*$AA$1)","v":0},0,0,{"$f":"P204/365","v":0},{"$f":"AI204*AK204","v":0},{"$f":"AL204*AP204","v":0},{"$f":"AW204*AM204","v":0},{"$f":"BC204*AN204","v":0},{"$f":"IF(OR(I204=1,I204=0),\"100%\",I204)","v":"100%"},null,null,{"$f":"IF(J204=8,50%,0)","v":0},0,0,{"$f":"SUM(AS204:AU204)","v":0},{"$f":"IF(AV204=0,100%,AV204)","v":1},{"$f":"IF(OR(K204=\"R\", K204=\"F\"),50%,0)","v":0},{"$f":"IF(K204=\"Y1\",25%,0)","v":0},{"$f":"IF(K204=\"Y2\",50%,0)","v":0},{"$f":"IF(K204=\"Y3\",75%,0)","v":0},{"$f":"SUM(AX204:BA204)","v":0},{"$f":"IF(BB204=0,100%,BB204)","v":1},{"$f":"IF(AND(L204=\"DX\",N204<\"02001\"),IF(OR(M204=51),10106),\"0\")","v":"0"},{"$f":"IF(AND(L204=\"DX\",N204<\"02001\",M204<>23,M204<>51,M204<>2,M204<>43,M204<>63,M204<>65,M204<>9,M204<>46,M204<>54,M204<>15,M204<>35,M204<>45,M204<>6,M204<>7,M204<>21,M204<>22,M204<>25,M204<>39,M204<>40,M204<>48,M204<>67),5558,\"0\")","v":"0"},{"$f":"IF(AND(L204=\"DX\",N204<\"02001\"),IF(OR(M204=2,M204=3,M204=22,M204=33,M204=63,M204=65),6063),\"0\")","v":"0"},{"$f":"IF(AND(L204=\"DX\",N204<\"02001\"),IF(OR(M204=9,M204=26,M204=35,M204=40,M204=43,M204=46),8591),\"0\")","v":"0"},{"$f":"IF(AND(L204=\"DX\",N204<\"02001\"),IF(OR(M204=23),8591),\"0\")","v":"0"},{"$f":"IF(AND(L204=\"DX\",N204<\"02001\"),IF(OR(M204=7,M204=15,M204=19,M204=20,M204=25,M204=37,M204=45,M204=48,M204=54),6063),\"0\")","v":"0"},{"$f":"SUM(BD204:BI204)","v":0},null,null,null,null,null,null,null,null,null,{"$f":"LEFT(CD204,3)","v":"0"},{"$f":"IF(OR(M204=51),1,\"0\")","v":"0"},{"$f":"IF(OR(M204=4,M204=13,M204=17,M204=3,M204=33,M204=23,M204=51,M204=2,M204=26,M204=37,M204=63,M204=65,M204=9,M204=35,M204=46,M204=15,M204=45,M204=7,M204=19,M204=20,M204=22,M204=25,M204=39,M204=40,M204=43,M204=48, M204=54,M204=0),0,\"2\")","v":0},{"$f":"IF(OR(M204=2,M204=3,M204=4,M204=13,M204=17,M204=22,M204=33,M204=63),3,\"0\")","v":"0"},{"$f":"IF(OR(M204=23,M204=26,M204=40,M204=43),4,\"0\")","v":"0"},{"$f":"IF(OR(M204=35),5,\"0\")","v":"0"},{"$f":"IF(OR(M204=9,M204=15,M204=19,M204=20,M204=25,M204=37,M204=39,M204=45,M204=46,M204=48,M204=54,M204=65),6,\"0\")","v":"0"},{"$f":"IF(M204=7,7,0)","v":0},{"$f":"SUM(BU204+BV204+BW204+BX204+BY204+BZ204+CA204+CC204)","v":8},{"$f":"IF(M204=0,8,0)","v":8},{"$f":"IF(N204=\"00651\",\"00551\",IF(AND(N204=\"80993\"),\"12093\",IF(AND(N204=\"80994\"),\"13094\",N204)))","v":0},null,{"$f":"IF(OR(CJ204=70, CJ204=80, CJ204=90, CJ204=100, CJ204=801),CK204*0%,\"0\")","v":"0"},{"$f":"IF(OR(CJ204=6,CJ204=7,CJ204=10,CJ204=12,CJ204=15,CJ204=20,CJ204=22,CJ204=30,CJ204=35,CJ204=50,CJ204=60),CK204*50%,\"0\")","v":"0"},{"$f":"IF(OR(CJ204=120,CJ204=130),CK204,\"0\")","v":"0"},{"$f":"SUM(CF204:CH204)","v":0},{"$f":"VALUE(BT204)","v":0},{"$f":"ROUND(IF(E204>1,VALUE(AG204),VALUE(AH204)),0)","v":0},0,{"$f":"IF(OR(H204=\"ERP\",H204=\"PA\",H204=\"SAT\",H204=\"IT\"),\"0\",CL204)","v":0},{"$f":"IF(AND(U204=\"New\",F204<C204),\"Yes\",\"No\")","v":"No"},{"$f":"IF(AND(U204=\"New\",F204=C204),\"Yes\",\"No\")","v":"No"},{"$f":"IF(CO204=\"Yes\",CQ204,G204)","v":0},{"$f":"CONCATENATE(G204,$CP$9)","v":"*"},null,{"$f":"IF(OR(N204=\"02083\",N204=\"01520\",N204=\"07043\",N204=\"00508\",N204=\"01522\"),\"Yes\",\"No\")","v":"No"},{"$f":"IF(L204=\"S\",\"Yes\",\"No\")","v":"No"},{"$f":"IF(AND(CS204=\"Yes\", CT204=\"Yes\"),\"Yes\",\"No\")","v":"No"},null,0]
[null,null,null,null,null,null,null,null,null,null,null,null,null,null,null,0,0,null,0,null,null,{"$f":"IF(AND($B$4>\"BC-\",M205>0),$B$4,\"\")","v":""},null,null," ",null,null,null,null,null,null,null,{"$error":"#DIV/0!"},0,0,0,0,0,0,0,0,"100%",null,null,0,0,0,0,1,0,0,0,0,0,1,"0","0","0","0","0","0",0,null,null,null,null,null,null,null,null,null,"0","0",0,"0","0","0","0",0,8,8,0,null,"0","0","0",0,0,0,0,0,"No","No",0,"*",null,"No","No","No",null,{"$f":"IF(OR(H205=\"ERP\",H205=\"PA\",H205=\"SAT\"),CM205,Q205*(100%-R205)+T205)","v":0}]
[null,null,null,null,null,null,null,null,null,null,null,null,null,null,null,0,0,null,0,null,null,{"$f":"IF(AND($B$4>\"BC-\",M206>0),$B$4,\"\")","v":""},null,null," ",null,null,null,null,null,null,null,{"$error":"#DIV/0!"},0,0,0,0,0,0,0,0,"100%",null,null,0,0,0,0,1,0,0,0,0,0,1,"0","0","0","0","0","0",0,null,null,null,null,null,null,null,null,null,"0","0",0,"0","0","0","0",0,8,8,0,null,"0","0","0",0,0,0,0,0,"No","No",0,"*",null,"No","No","No",null,0]
[null,null,null,null,null,null,null,null,null,null,null,null,null,null,null,0,0,null,0,null,null,{"$f":"IF(AND($B$4>\"BC-\",M207>0),$B$4,\"\")","v":""},null,null," ",null,null,null,null,null,null,null,{"$error":"#DIV/0!"},0,0,0,0,0,0,0,0,"100%",null,null,0,{"$f":"IF(J207=16,65%,0)","v":0},{"$f":"IF(J207=24,80%,0)","v":0},0,1,0,0,0,0,0,1,"0","0","0","0","0","0",0,null,null,null,null,null,null,null,null,null,"0","0",0,"0","0","0","0",0,8,8,0,null,"0","0","0",0,0,0,0,0,"No","No",0,"*",null,"No","No","No",null,0]
[null,null,null,null,null,null,null,null,null,null,null,null,null,null,null,0,0,null,0,null,null,{"$f":"IF(AND($B$4>\"BC-\",M208>0),$B$4,\"\")","v":""},null,null," ",null,null,null,null,null,null,null,{"$error":"#DIV/0!"},0,0,0,0,0,0,0,0,"100%",null,null,0,0,0,0,1,0,0,0,0,0,1,"0","0","0","0","0","0",0,null,null,null,null,null,null,null,null,null,"0","0",0,"0","0","0","0",0,8,8,0,null,"0","0","0",0,0,0,0,0,"No","No",0,"*",null,"No","No","No",null,0]
[null,null,null,null,null,null,null,null,null,null,null,null,null,null,null,0,0,null,0,null,null,{"$f":"IF(AND($B$4>\"BC-\",M209>0),$B$4,\"\")","v":""},null,null," ",null,null,null,null,null,null,null,{"$error":"#DIV/0!"},0,0,0,0,0,0,0,0,"100%",null,null,0,0,0,0,1,0,0,0,0,0,1,"0","0","0","0","0","0",0,null,null,null,null,null,null,null,null,null,"0","0",0,"0","0","0","0",0,8,8,0,null,"0","0","0",0,0,0,0,0,"No","No",0,"*",null,"No","No","No",null,0]
[null,null,null,null,null,null,null,null,null,null,null,null,null,null,null,0,0,null,0,null,null,{"$f":"IF(AND($B$4>\"BC-\",M210>0),$B$4,\"\")","v":""},null,null," ",null,null,null,null,null,null,null,{"$error":"#DIV/0!"},0,0,0,0,0,0,0,0,"100%",null,null,0,0,0,0,1,0,0,0,0,0,1,"0","0","0","0","0","0",0,null,null,null,null,null,null,null,null,null,"0","0",0,"0","0","0","0",0,8,8,0,null,"0","0","0",0,0,0,0,0,"No","No",0,"*",null,"No","No","No",null,0]
[null,null,null,null,null,null,null,null,null,null,null,null,null,null,null,0,0,null,0,null,null,{"$f":"IF(AND($B$4>\"BC-\",M211>0),$B$4,\"\")","v":""},null,null," ",null,null,null,null,null,null,null,{"$error":"#DIV/0!"},0,0,0,0,0,0,0,0,"100%",null,null,0,0,0,0,1,0,0,0,0,0,1,"0","0","0","0","0","0",0,null,null,null,null,null,null,null,null,null,"0","0",0,"0","0","0","0",0,8,8,0,null,"0","0","0",0,0,0,0,0,"No","No",0,"*",null,"No","No","No",null,0]
[null,null,null,null,null,null,null,null,null,null,null,null,null,null,null,0,0,null,0,null,null,{"$f":"IF(AND($B$4>\"BC-\",M212>0),$B$4,\"\")","v":""},null,null," ",null,null,null,null,null,null,null,{"$error":"#DIV/0!"},0,0,0,0,0,0,0,0,"100%",null,null,0,0,0,0,1,0,0,0,0,0,1,"0","0","0","0","0","0",0,null,null,null,null,null,null,null,null,null,"0","0",0,"0","0","0","0",0,8,8,0,null,"0","0","0",0,0,0,0,0,"No","No",0,"*",null,"No","No","No",null,0]
[null,null,null,null,null,null,null,null,null,null,null,null,null,null,null,0,0,null,0,null,null,{"$f":"IF(AND($B$4>\"BC-\",M213>0),$B$4,\"\")","v":""},null,null," ",null,null,null,null,null,null,null,{"$error":"#DIV/0!"},0,0,0,0,0,0,0,0,"100%",null,null,0,0,0,0,1,0,0,0,0,0,1,"0","0","0","0","0","0",0,null,null,null,null,null,null,null,null,null,"0","0",0,"0","0","0","0",0,8,8,0,null,"0","0","0",0,0,0,0,0,"No","No",0,"*",null,"No","No","No",null,0]
[null,null,null,null,null,null,null,null,null,null,null,null,null,null,null,0,0,null,0,null,null,{"$f":"IF(AND($B$4>\"BC-\",M214>0),$B$4,\"\")","v":""},null,null," ",null,null,null,null,null,null,null,{"$error":"#DIV/0!"},0,0,0,0,0,0,0,0,"100%",null,null,0,0,0,0,1,0,0,0,0,0,1,"0","0","0","0","0","0",0,null,null,null,null,null,null,null,null,null,"0","0",0,"0","0","0","0",0,8,8,0,null,"0","0","0",0,0,0,0,0,"No","No",0,"*",null,"No","No","No",null,0]
[null,null,null,null,null,null,null,null,null,null,null,null,null,null,null,0,0,null,0,null,null,{"$f":"IF(AND($B$4>\"BC-\",M215>0),$B$4,\"\")","v":""},null,null," ",null,null,null,null,null,null,null,{"$error":"#DIV/0!"},0,0,0,0,0,0,0,0,"100%",null,null,0,0,0,0,1,0,0,0,0,0,1,"0","0","0","0","0","0",0,null,null,null,null,null,null,null,null,null,"0","0",0,"0","0","0","0",0,8,8,0,null,"0","0","0",0,0,0,0,0,"No","No",0,"*",null,"No","No","No",null,0]
[null,null,null,null,null,null,null,null,null,null,null,null,null,null,null,0,0,null,0,null,null,{"$f":"IF(AND($B$4>\"BC-\",M216>0),$B$4,\"\")","v":""},null,null," ",null,null,null,null,null,null,null,{"$error":"#DIV/0!"},0,0,0,0,0,0,0,0,"100%",null,null,0,0,0,0,1,0,0,0,0,0,1,"0","0","0","0","0","0",0,null,null,null,null,null,null,null,null,null,"0","0",0,"0","0","0","0",0,8,8,0,null,"0","0","0",0,0,0,0,0,"No","No",0,"*",null,"No","No","No",null,0]
[null,null,null,null,null,null,null,null,null,null,null,null,null,null,null,0,0,null,0,null,null,{"$f":"IF(AND($B$4>\"BC-\",M217>0),$B$4,\"\")","v":""},null,null," ",null,null,null,null,null,null,null,{"$error":"#DIV/0!"},0,0,0,0,0,0,0,0,"100%",null,null,0,0,0,0,1,0,0,0,0,0,1,"0","0","0","0","0","0",0,null,null,null,null,null,null,null,null,null,"0","0",0,"0","0","0","0",0,8,8,0,null,"0","0","0",0,0,0,0,0,"No","No",0,"*",null,"No","No","No",null,0]
[null,null,null,null,null,null,null,null,null,null,null,null,null,null,null,0,0,null,0,null,null,{"$f":"IF(AND($B$4>\"BC-\",M218>0),$B$4,\"\")","v":""},null,null," ",null,null,null,null,null,null,null,{"$error":"#DIV/0!"},0,0,0,0,0,0,0,0,"100%",null,null,0,0,0,0,1,0,0,0,0,0,1,"0","0","0","0","0","0",0,null,null,null,null,null,null,null,null,null,"0","0",0,"0","0","0","0",0,8,8,0,null,"0","0","0",0,0,0,0,0,"No","No",0,"*",null,"No","No","No",null,0]
[null,null,null,null,null,null,null,null,null,null,null,null,null,null,null,0,0,null,0,null,null,{"$f":"IF(AND($B$4>\"BC-\",M219>0),$B$4,\"\")","v":""},null,null," ",null,null,null,null,null,null,null,{"$error":"#DIV/0!"},0,0,0,0,0,0,0,0,"100%",null,null,0,0,0,0,1,0,0,0,0,0,1,"0","0","0","0","0","0",0,null,null,null,null,null,null,null,null,null,"0","0",0,"0","0","0","0",0,8,8,0,null,"0","0","0",0,0,0,0,0,"No","No",0,"*",null,"No","No","No",null,0]
[null,null,null,null,null,null,null,null,null,null,null,null,null,null,null,0,0,null,0,null,null,{"$f":"IF(AND($B$4>\"BC-\",M220>0),$B$4,\"\")","v":""},null,null," ",null,null,null,null,null,null,null,{"$error":"#DIV/0!"},0,0,0,0,0,0,0,0,"100%",null,null,0,0,0,0,1,0,0,0,0,0,1,"0","0","0","0","0","0",0,null,null,null,null,null,null,null,null,null,"0","0",0,"0","0","0","0",0,8,8,0,null,"0","0","0",0,0,0,0,0,"No","No",0,"*",null,"No","No","No",null,0]
[null,null,null,null,null,null,null,null,null,null,null,null,null,null,null,0,0,null,0,null,null,{"$f":"IF(AND($B$4>\"BC-\",M221>0),$B$4,\"\")","v":""},null,null," ",null,null,null,null,null,null,null,{"$error":"#DIV/0!"},0,0,0,0,0,0,0,0,"100%",null,null,0,0,0,0,1,0,0,0,0,0,1,"0","0","0","0","0","0",0,null,null,null,null,null,null,null,null,null,"0","0",0,"0","0","0","0",0,8,8,0,null,"0","0","0",0,0,0,0,0,"No","No",0,"*",null,"No","No","No",null,0]
[null,null,null,null,null,null,null,null,null,null,null,null,null,null,null,0,0,null,0,null,null,{"$f":"IF(AND($B$4>\"BC-\",M222>0),$B$4,\"\")","v":""},null,null," ",null,null,null,null,null,null,null,{"$error":"#DIV/0!"},0,0,0,0,0,0,0,0,"100%",null,null,0,0,0,0,1,0,0,0,0,0,1,"0","0","0","0","0","0",0,null,null,null,null,null,null,null,null,null,"0","0",0,"0","0","0","0",0,8,8,0,null,"0","0","0",0,0,0,0,0,"No","No",0,"*",null,"No","No","No",null,0]
[null,null,null,null,null,null,null,null,null,null,null,null,null,null,null,0,0,null,0,null,null,{"$f":"IF(AND($B$4>\"BC-\",M223>0),$B$4,\"\")","v":""},null,null," ",null,null,null,null,null,null,null,{"$error":"#DIV/0!"},0,0,0,0,0,0,0,0,"100%",null,null,0,0,0,0,1,0,0,0,0,0,1,"0","0","0","0","0","0",0,null,null,null,null,null,null,null,null,null,"0","0",0,"0","0","0","0",0,8,8,0,null,"0","0","0",0,0,0,0,0,"No","No",0,"*",null,"No","No","No",null,0]
[null,null,null,null,null,null,null,null,null,null,null,null,null,null,null,0,0,null,0,null,null,{"$f":"IF(AND($B$4>\"BC-\",M224>0),$B$4,\"\")","v":""},null,null," ",null,null,null,null,null,null,null,{"$error":"#DIV/0!"},0,0,0,0,0,0,0,0,"100%",null,null,0,0,0,0,1,0,0,0,0,0,1,"0","0","0","0","0","0",0,null,null,null,null,null,null,null,null,null,"0","0",0,"0","0","0","0",0,8,8,0,null,"0","0","0",0,0,0,0,0,"No","No",0,"*",null,"No","No","No",null,0]
[null,null,null,null,null,null,null,null,null,null,null,null,null,null,null,0,0,null,0,null,null,{"$f":"IF(AND($B$4>\"BC-\",M225>0),$B$4,\"\")","v":""},null,null," ",null,null,null,null,null,null,null,{"$error":"#DIV/0!"},0,0,0,0,0,0,0,0,"100%",null,null,0,0,0,0,1,0,0,0,0,0,1,"0","0","0","0","0","0",0,null,null,null,null,null,null,null,null,null,"0","0",0,"0","0","0","0",0,8,8,0,null,"0","0","0",0,0,0,0,0,"No","No",0,"*",null,"No","No","No",null,0]
[null,null,null,null,null,null,null,null,null,null,null,null,null,null,null,0,0,null,0,null,null,{"$f":"IF(AND($B$4>\"BC-\",M226>0),$B$4,\"\")","v":""},null,null," ",null,null,null,null,null,null,null,{"$error":"#DIV/0!"},0,0,0,0,0,0,0,0,"100%",null,null,0,0,0,0,1,0,0,0,0,0,1,"0","0","0","0","0","0",0,null,null,null,null,null,null,null,null,null,"0","0",0,"0","0","0","0",0,8,8,0,null,"0","0","0",0,0,0,0,0,"No","No",0,"*",null,"No","No","No",null,0]
[null,null,null,null,null,null,null,null,null,null,null,null,null,null,null,0,0,null,0,null,null,{"$f":"IF(AND($B$4>\"BC-\",M227>0),$B$4,\"\")","v":""},null,null," ",null,null,null,null,null,null,null,{"$error":"#DIV/0!"},0,0,0,0,0,0,0,0,"100%",null,null,0,0,0,0,1,0,0,0,0,0,1,"0","0","0","0","0","0",0,null,null,null,null,null,null,null,null,null,"0","0",0,"0","0","0","0",0,8,8,0,null,"0","0","0",0,0,0,0,0,"No","No",0,"*",null,"No","No","No",null,0]
[null,null,null,null,null,null,null,null,null,null,null,null,null,null,null,0,0,null,0,null,null,{"$f":"IF(AND($B$4>\"BC-\",M228>0),$B$4,\"\")","v":""},null,null," ",null,null,null,null,null,null,null,{"$error":"#DIV/0!"},0,0,0,0,0,0,0,0,"100%",null,null,0,0,0,0,1,0,0,0,0,0,1,"0","0","0","0","0","0",0,null,null,null,null,null,null,null,null,null,"0","0",0,"0","0","0","0",0,8,8,0,null,"0","0","0",0,0,0,0,0,"No","No",0,"*",null,"No","No","No",null,0]
[null,null,null,null,null,null,null,null,null,null,null,null,null,null,null,0,0,null,0,null,null,{"$f":"IF(AND($B$4>\"BC-\",M229>0),$B$4,\"\")","v":""},null,null," ",null,null,null,null,null,null,null,{"$error":"#DIV/0!"},0,0,0,0,0,0,0,0,"100%",null,null,0,0,0,0,1,0,0,0,0,0,1,"0","0","0","0","0","0",0,null,null,null,null,null,null,null,null,null,"0","0",0,"0","0","0","0",0,8,8,0,null,"0","0","0",0,0,0,0,0,"No","No",0,"*",null,"No","No","No",null,0]
[null,null,null,null,null,null,null,null,null,null,null,null,null,null,null,0,0,null,0,null,null,{"$f":"IF(AND($B$4>\"BC-\",M230>0),$B$4,\"\")","v":""},null,null," ",null,null,null,null,null,null,null,{"$error":"#DIV/0!"},0,0,0,0,0,0,0,0,"100%",null,null,0,0,0,0,1,0,0,0,0,0,1,"0","0","0","0","0","0",0,null,null,null,null,null,null,null,null,null,"0","0",0,"0","0","0","0",0,8,8,0,null,"0","0","0",0,0,0,0,0,"No","No",0,"*",null,"No","No","No",null,0]
[null,null,null,null,null,null,null,null,null,null,null,null,null,null,null,0,0,null,0,null,null,{"$f":"IF(AND($B$4>\"BC-\",M231>0),$B$4,\"\")","v":""},null,null," ",null,null,null,null,null,null,null,{"$error":"#DIV/0!"},0,0,0,0,0,0,0,0,"100%",null,null,0,0,0,0,1,0,0,0,0,0,1,"0","0","0","0","0","0",0,null,null,null,null,null,null,null,null,null,"0","0",0,"0","0","0","0",0,8,8,0,null,"0","0","0",0,0,0,0,0,"No","No",0,"*",null,"No","No","No",null,0]
[null,null,null,null,null,null,null,null,null,null,null,null,null,null,null,0,0,null,0,null,null,{"$f":"IF(AND($B$4>\"BC-\",M232>0),$B$4,\"\")","v":""},null,null," ",null,null,null,null,null,null,null,{"$error":"#DIV/0!"},0,0,0,0,0,0,0,0,"100%",null,null,0,0,0,0,1,0,0,0,0,0,1,"0","0","0","0","0","0",0,null,null,null,null,null,null,null,null,null,"0","0",0,"0","0","0","0",0,8,8,0,null,"0","0","0",0,0,0,0,0,"No","No",0,"*",null,"No","No","No",null,0]
[null,null,null,null,null,null,null,null,null,null,null,null,null,null,null,0,0,null,0,null,null,{"$f":"IF(AND($B$4>\"BC-\",M233>0),$B$4,\"\")","v":""},null,null," ",null,null,null,null,null,null,null,{"$error":"#DIV/0!"},0,0,0,0,0,0,0,0,"100%",null,null,0,0,0,0,1,0,0,0,0,0,1,"0","0","0","0","0","0",0,null,null,null,null,null,null,null,null,null,"0","0",0,"0","0","0","0",0,8,8,0,null,"0","0","0",0,0,0,0,0,"No","No",0,"*",null,"No","No","No",null,0]
[null,null,null,null,null,null,null,null,null,null,null,null,null,null,null,0,0,null,0,null,null,{"$f":"IF(AND($B$4>\"BC-\",M234>0),$B$4,\"\")","v":""},null,null," ",null,null,null,null,null,null,null,{"$error":"#DIV/0!"},0,0,0,0,0,0,0,0,"100%",null,null,0,0,0,0,1,0,0,0,0,0,1,"0","0","0","0","0","0",0,null,null,null,null,null,null,null,null,null,"0","0",0,"0","0","0","0",0,8,8,0,null,"0","0","0",0,0,0,0,0,"No","No",0,"*",null,"No","No","No",null,0]
[null,null,null,null,null,null,null,null,null,null,null,null,null,null,null,0,0,null,0,null,null,{"$f":"IF(AND($B$4>\"BC-\",M235>0),$B$4,\"\")","v":""},null,null," ",null,null,null,null,null,null,null,{"$error":"#DIV/0!"},0,0,0,0,0,0,0,0,"100%",null,null,0,0,0,0,1,0,0,0,0,0,1,"0","0","0","0","0","0",0,null,null,null,null,null,null,null,null,null,"0","0",0,"0","0","0","0",0,8,8,0,null,"0","0","0",0,0,0,0,0,"No","No",0,"*",null,"No","No","No",null,0]
[null,null,null,null,null,null,null,null,null,null,null,null,null,null,null,0,0,null,0,null,null,{"$f":"IF(AND($B$4>\"BC-\",M236>0),$B$4,\"\")","v":""},null,null," ",null,null,null,null,null,null,null,{"$error":"#DIV/0!"},0,0,0,0,0,0,0,0,"100%",null,null,0,0,0,0,1,0,0,0,0,0,1,"0","0","0","0","0","0",0,null,null,null,null,null,null,null,null,null,"0","0",0,"0","0","0","0",0,8,8,0,null,"0","0","0",0,0,0,0,0,"No","No",0,"*",null,"No","No","No",null,0]
[null,null,null,null,null,null,null,null,null,null,null,null,null,null,null,0,0,null,0,null,null,{"$f":"IF(AND($B$4>\"BC-\",M237>0),$B$4,\"\")","v":""},null,null," ",null,null,null,null,null,null,null,{"$error":"#DIV/0!"},0,0,0,0,0,0,0,0,"100%",null,null,0,0,0,0,1,0,0,0,0,0,1,"0","0","0","0","0","0",0,null,null,null,null,null,null,null,null,null,"0","0",0,"0","0","0","0",0,8,8,0,null,"0","0","0",0,0,0,0,0,"No","No",0,"*",null,"No","No","No",null,0]
[null,null,null,null,null,null,null,null,null,null,null,null,null,null,null,0,0,null,0,null,null,{"$f":"IF(AND($B$4>\"BC-\",M238>0),$B$4,\"\")","v":""},null,null," ",null,null,null,null,null,null,null,{"$error":"#DIV/0!"},0,0,0,0,0,0,0,0,"100%",null,null,0,0,0,0,1,0,0,0,0,0,1,"0","0","0","0","0","0",0,null,null,null,null,null,null,null,null,null,"0","0",0,"0","0","0","0",0,8,8,0,null,"0","0","0",0,0,0,0,0,"No","No",0,"*",null,"No","No","No",null,0]
[null,null,null,null,null,null,null,null,null,null,null,null,null,null,null,0,0,null,0,null,null,{"$f":"IF(AND($B$4>\"BC-\",M239>0),$B$4,\"\")","v":""},null,null," ",null,null,null,null,null,null,null,{"$error":"#DIV/0!"},0,0,0,0,0,0,0,0,"100%",null,null,0,0,0,0,1,0,0,0,0,0,1,"0","0","0","0","0","0",0,null,null,null,null,null,null,null,null,null,"0","0",0,"0","0","0","0",0,8,8,0,null,"0","0","0",0,0,0,0,0,"No","No",0,"*",null,"No","No","No",null,0]
[null,null,null,null,null,null,null,null,null,null,null,null,null,null,null,0,0,null,0,null,null,{"$f":"IF(AND($B$4>\"BC-\",M240>0),$B$4,\"\")","v":""},null,null," ",null,null,null,null,null,null,null,{"$error":"#DIV/0!"},0,0,0,0,0,0,0,0,"100%",null,null,0,0,0,0,1,0,0,0,0,0,1,"0","0","0","0","0","0",0,null,null,null,null,null,null,null,null,null,"0","0",0,"0","0","0","0",0,8,8,0,null,"0","0","0",0,0,0,0,0,"No","No",0,"*",null,"No","No","No",null,0]
[null,null,null,null,null,null,null,null,null,null,null,null,null,null,null,0,0,null,0,null,null,{"$f":"IF(AND($B$4>\"BC-\",M241>0),$B$4,\"\")","v":""},null,null," ",null,null,null,null,null,null,null,{"$error":"#DIV/0!"},0,0,0,0,0,0,0,0,"100%",null,null,0,0,0,0,1,0,0,0,0,0,1,"0","0","0","0","0","0",0,null,null,null,null,null,null,null,null,null,"0","0",0,"0","0","0","0",0,8,8,0,null,"0","0","0",0,0,0,0,0,"No","No",0,"*",null,"No","No","No",null,0]
[null,null,null,null,null,null,null,null,null,null,null,null,null,null,null,0,0,null,0,null,null,{"$f":"IF(AND($B$4>\"BC-\",M242>0),$B$4,\"\")","v":""},null,null," ",null,null,null,null,null,null,null,{"$error":"#DIV/0!"},0,0,0,0,0,0,0,0,"100%",null,null,0,0,0,0,1,0,0,0,0,0,1,"0","0","0","0","0","0",0,null,null,null,null,null,null,null,null,null,"0","0",0,"0","0","0","0",0,8,8,0,null,"0","0","0",0,0,0,0,0,"No","No",0,"*",null,"No","No","No",null,0]
[null,null,null,null,null,null,null,null,null,null,null,null,null,null,null,0,0,null,0,null,null,{"$f":"IF(AND($B$4>\"BC-\",M243>0),$B$4,\"\")","v":""},null,null," ",null,null,null,null,null,null,null,{"$error":"#DIV/0!"},0,0,0,0,0,0,0,0,"100%",null,null,0,0,0,0,1,0,0,0,0,0,1,"0","0","0","0","0","0",0,null,null,null,null,null,null,null,null,null,"0","0",0,"0","0","0","0",0,8,8,0,null,"0","0","0",0,0,0,0,0,"No","No",0,"*",null,"No","No","No",null,0]
[null,null,null,null,null,null,null,null,null,null,null,null,null,null,null,0,0,null,0,null,null,{"$f":"IF(AND($B$4>\"BC-\",M244>0),$B$4,\"\")","v":""},null,null," ",null,null,null,null,null,null,null,{"$error":"#DIV/0!"},0,0,0,0,0,0,0,0,"100%",null,null,0,0,0,0,1,0,0,0,0,0,1,"0","0","0","0","0","0",0,null,null,null,null,null,null,null,null,null,"0","0",0,"0","0","0","0",0,8,8,0,null,"0","0","0",0,0,0,0,0,"No","No",0,"*",null,"No","No","No",null,0]
[null,null,null,null,null,null,null,null,null,null,null,null,null,null,null,0,0,null,0,null,null,{"$f":"IF(AND($B$4>\"BC-\",M245>0),$B$4,\"\")","v":""},null,null," ",null,null,null,null,null,null,null,{"$error":"#DIV/0!"},0,0,0,0,0,0,0,0,"100%",null,null,0,0,0,0,1,0,0,0,0,0,1,"0","0","0","0","0","0",0,null,null,null,null,null,null,null,null,null,"0","0",0,"0","0","0","0",0,8,8,0,null,"0","0","0",0,0,0,0,0,"No","No",0,"*",null,"No","No","No",null,0]
[null,null,null,null,null,null,null,null,null,null,null,null,null,null,null,0,0,null,0,null,null,{"$f":"IF(AND($B$4>\"BC-\",M246>0),$B$4,\"\")","v":""},null,null," ",null,null,null,null,null,null,null,{"$error":"#DIV/0!"},0,0,0,0,0,0,0,0,"100%",null,null,0,0,0,0,1,0,0,0,0,0,1,"0","0","0","0","0","0",0,null,null,null,null,null,null,null,null,null,"0","0",0,"0","0","0","0",0,8,8,0,null,"0","0","0",0,0,0,0,0,"No","No",0,"*",null,"No","No","No",null,0]
[null,null,null,null,null,null,null,null,null,null,null,null,null,null,null,0,0,null,0,null,null,{"$f":"IF(AND($B$4>\"BC-\",M247>0),$B$4,\"\")","v":""},null,null," ",null,null,null,null,null,null,null,{"$error":"#DIV/0!"},0,0,0,0,0,0,0,0,"100%",null,null,0,0,0,0,1,0,0,0,0,0,1,"0","0","0","0","0","0",0,null,null,null,null,null,null,null,null,null,"0","0",0,"0","0","0","0",0,8,8,0,null,"0","0","0",0,0,0,0,0,"No","No",0,"*",null,"No","No","No",null,0]
[null,null,null,null,null,null,null,null,null,null,null,null,null,null,null,0,0,null,0,null,null,{"$f":"IF(AND($B$4>\"BC-\",M248>0),$B$4,\"\")","v":""},null,null," ",null,null,null,null,null,null,null,{"$error":"#DIV/0!"},0,0,0,0,0,0,0,0,"100%",null,null,0,0,0,0,1,0,0,0,0,0,1,"0","0","0","0","0","0",0,null,null,null,null,null,null,null,null,null,"0","0",0,"0","0","0","0",0,8,8,0,null,"0","0","0",0,0,0,0,0,"No","No",0,"*",null,"No","No","No",null,0]
[null,null,null,null,null,null,null,null,null,null,null,null,null,null,null,0,0,null,0,null,null,{"$f":"IF(AND($B$4>\"BC-\",M249>0),$B$4,\"\")","v":""},null,null," ",null,null,null,null,null,null,null,{"$error":"#DIV/0!"},0,0,0,0,0,0,0,0,"100%",null,null,0,0,0,0,1,0,0,0,0,0,1,"0","0","0","0","0","0",0,null,null,null,null,null,null,null,null,null,"0","0",0,"0","0","0","0",0,8,8,0,null,"0","0","0",0,0,0,0,0,"No","No",0,"*",null,"No","No","No",null,0]
[null,null,null,null,null,null,null,null,null,null,null,null,null,null,null,0,0,null,0,null,null,{"$f":"IF(AND($B$4>\"BC-\",M250>0),$B$4,\"\")","v":""},null,null," ",null,null,null,null,null,null,null,{"$error":"#DIV/0!"},0,0,0,0,0,0,0,0,"100%",null,null,0,0,0,0,1,0,0,0,0,0,1,"0","0","0","0","0","0",0,null,null,null,null,null,null,null,null,null,"0","0",0,"0","0","0","0",0,8,8,0,null,"0","0","0",0,0,0,0,0,"No","No",0,"*",null,"No","No","No",null,0]
[null,null,null,null,null,null,null,null,null,null,null,null,null,null,null,0,0,null,0,null,null,{"$f":"IF(AND($B$4>\"BC-\",M266>0),$B$4,\"\")","v":""},null,null," ",null,null,null,null,null,null,null,{"$error":"#DIV/0!"},0,0,0,0,0,0,0,0,"100%",null,null,0,0,0,0,1,0,0,0,0,0,1,"0","0","0","0","0","0",0,null,null,null,null,null,null,null,null,null,"0","0",0,"0","0","0","0",0,8,8,0,null,"0","0","0",0,0,0,0,0,"No","No",0,"*",null,"No","No","No",null,0]
[null,null,null,null,null,null,null,null,null,null,null,null,null,null,null,0,0,null,0,null,null,{"$f":"IF(AND($B$4>\"BC-\",M270>0),$B$4,\"\")","v":""},null,null," ",null,null,null,null,null,null,null,{"$error":"#DIV/0!"},0,0,0,0,0,0,0,0,"100%",null,null,0,0,0,0,1,0,0,0,0,0,1,"0","0","0","0","0","0",0,null,null,null,null,null,null,null,null,null,"0","0",0,"0","0","0","0",0,8,8,0,null,"0","0","0",0,0,0,0,0,"No","No",0,"*",null,"No","No","No",null,0]
[null,null,null,null,null,null,null,null,null,null,null,null,null,null,null,0,0,null,0,null,null,{"$f":"IF(AND($B$4>\"BC-\",M289>0),$B$4,\"\")","v":""},null,null," ",null,null,null,null,null,null,null,{"$error":"#DIV/0!"},0,0,0,0,0,0,0,0,"100%",null,null,0,0,0,0,1,0,0,0,0,0,1,"0","0","0","0","0","0",0,null,null,null,null,null,null,null,null,null,"0","0",0,"0","0","0","0",0,8,8,0,null,"0","0","0",0,0,0,0,0,"No","No",0,"*",null,"No","No","No",null,0]
[null,null,null,null,null,null,null,null,null,null,null,null,null,null,null,0,0,null,0,null,null,{"$f":"IF(AND($B$4>\"BC-\",M314>0),$B$4,\"\")","v":""},null,null," ",null,null,null,null,null,null,null,{"$error":"#DIV/0!"},0,0,0,0,0,0,0,0,"100%",null,null,0,0,0,0,1,0,0,0,0,0,1,"0","0","0","0","0","0",0,null,null,null,null,null,null,null,null,null,"0","0",0,"0","0","0","0",0,8,8,0,null,"0","0","0",0,0,0,0,0,"No","No",0,"*",null,"No","No","No",null,0]
[null,null,null,null,null,null,null,null,null,null,null,null,null,null,null,0,0,null,0,null,null,{"$f":"IF(AND($B$4>\"BC-\",M343>0),$B$4,\"\")","v":""},null,null," ",null,null,null,null,null,null,null,{"$error":"#DIV/0!"},0,0,0,0,0,0,0,0,"100%",null,null,0,0,0,0,1,0,0,0,0,0,1,"0","0","0","0","0","0",0,null,null,null,null,null,null,null,null,null,"0","0",0,"0","0","0","0",0,8,8,0,null,"0","0","0",0,0,0,0,0,"No","No",0,"*",null,"No","No","No",null,0]
[null,null,null,null,null,null,null,null,null,null,null,null,null,null,null,0,0,null,0,null,null,{"$f":"IF(AND($B$4>\"BC-\",M351>0),$B$4,\"\")","v":""},null,null," ",null,null,null,null,null,null,null,{"$error":"#DIV/0!"},0,0,0,0,0,0,0,0,"100%",null,null,0,0,0,0,1,0,0,0,0,0,1,"0","0","0","0","0","0",0,null,null,null,null,null,null,null,null,null,"0","0",0,"0","0","0","0",0,8,8,0,null,"0","0","0",0,0,0,0,0,"No","No",0,"*",null,"No","No","No",null,0]
[null,null,null,null,null,null,null,null,null,null,null,null,null,null,null,0,0,null,0,null,null,{"$f":"IF(AND($B$4>\"BC-\",M376>0),$B$4,\"\")","v":""},null,null," ",null,null,null,null,null,null,null,{"$error":"#DIV/0!"},0,0,0,0,0,0,0,0,"100%",null,null,0,0,0,0,1,0,0,0,0,0,1,"0","0","0","0","0","0",0,null,null,null,null,null,null,null,null,null,"0","0",0,"0","0","0","0",0,8,8,0,null,"0","0","0",0,0,0,0,0,"No","No",0,"*",null,"No","No","No",null,0]
[null,null,null,null,null,null,null,null,null,null,null,null,null,null,null,{"$f":"IF(M395>0,INDEX($BM$1:$BS$903,BT395,CB395),0)","v":0},{"$f":"IF(AND(NOT(ISBLANK(I395)),I395=0),0,CM395)","v":0},null,0,null,null,{"$f":"IF(AND($B$4>\"BC-\",M395>0),$B$4,\"\")","v":""},null,null," ",null,null,null,null,null,null,null,{"$error":"#DIV/0!"},0,{"$f":"IF(AND(C395<45351,D395>45351),(D395-C395)-1,D395-C395)","v":0},{"$f":"IF(AND(C395<45351,D395>45351,E395<45351),(E395-D395)+1,(E395-D395))","v":0},0,0,0,0,0,"100%",null,null,0,0,0,0,1,0,0,0,0,0,1,"0","0","0","0","0","0",0,null,null,null,null,null,null,null,null,null,"0","0",0,"0","0","0","0",0,8,8,0,null,"0","0","0",0,0,0,{"$f":"IF(OR(CJ395=120,CJ395=130),CK395,CK395)","v":0},0,"No","No",0,"*",null,"No","No","No",null,0]
[null,null,null,null,null,null,null,null,null,null,null,null,null,null,null,0,0,null,0,null,null,{"$f":"IF(AND($B$4>\"BC-\",M401>0),$B$4,\"\")","v":""},null,null," ",null,null,null,null,null,null,null,{"$error":"#DIV/0!"},0,0,0,0,0,0,0,0,"100%",null,null,0,0,0,0,1,0,0,0,0,0,1,"0","0","0","0","0","0",0,null,null,null,null,null,null,null,null,null,"0","0",0,"0","0","0","0",0,8,8,0,null,"0","0","0",0,0,0,0,0,"No","No",0,"*",null,"No","No","No",null,0]
[null,null,null,null,null,null,null,null,null,null,null,null,null,null,null,0,0,null,0,null,null,{"$f":"IF(AND($B$4>\"BC-\",M424>0),$B$4,\"\")","v":""},null,null," ",null,null,null,null,null,null,null,{"$error":"#DIV/0!"},0,0,0,0,0,0,0,0,"100%",null,null,0,0,0,0,1,0,0,0,0,0,1,"0","0","0","0","0","0",0,null,null,null,null,null,null,null,null,null,"0","0",0,"0","0","0","0",0,8,8,0,null,"0","0","0",0,0,0,0,0,"No","No",0,"*",null,"No","No","No",null,0]
[null,null,null,null,null,null,null,null,null,null,null,null,null,null,null,0,0,null,0,null,null,{"$f":"IF(AND($B$4>\"BC-\",M438>0),$B$4,\"\")","v":""},null,null," ",null,null,null,null,null,null,null,{"$error":"#DIV/0!"},0,0,0,0,0,0,0,0,"100%",null,null,0,0,0,0,1,0,0,0,0,0,1,"0","0","0","0","0","0",0,null,null,null,null,null,null,null,null,null,"0","0",0,"0","0","0","0",0,8,8,0,null,"0","0","0",0,0,0,0,0,"No","No",0,"*",null,"No","No","No",null,0]
[null,null,null,null,null,null,null,null,null,null,null,null,null,null,null,0,0,null,0,null,null,{"$f":"IF(AND($B$4>\"BC-\",M463>0),$B$4,\"\")","v":""},null,null," ",null,null,null,null,null,null,null,{"$error":"#DIV/0!"},0,0,0,0,0,0,0,0,"100%",null,null,0,{"$f":"IF(J463=16,65%,0)","v":0},{"$f":"IF(J463=24,80%,0)","v":0},0,1,0,0,0,0,0,1,"0","0","0","0","0","0",0,null,null,null,null,null,null,null,null,null,"0","0",0,"0","0","0","0",0,8,8,0,null,"0","0","0",0,0,0,0,0,"No","No",0,"*",null,"No","No","No",null,0]
[null,null,null,null,null,null,null,null,null,null,null,null,null,null,null,0,0,null,0,null,null,{"$f":"IF(AND($B$4>\"BC-\",M482>0),$B$4,\"\")","v":""},null,null," ",null,null,null,null,null,null,null,{"$error":"#DIV/0!"},0,0,0,0,0,0,0,0,"100%",null,null,0,0,0,0,1,0,0,0,0,0,1,"0","0","0","0","0","0",0,null,null,null,null,null,null,null,null,null,"0","0",0,"0","0","0","0",0,8,8,0,null,"0","0","0",0,0,0,0,0,"No","No",0,"*",null,"No","No","No",null,0]
[null,null,null,null,null,null,null,null,null,null,null,null,null,null,null,{"$f":"IF(M501>0,INDEX($BM$1:$BS$903,BT501,CB501),0)","v":0},0,null,0,null,null,{"$f":"IF(AND($B$4>\"BC-\",M501>0),$B$4,\"\")","v":""},null,null,null,null,null,null,null,null,null,null,{"$error":"#DIV/0!"},0,0,0,0,0,0,0,0,"100%","00534","Please Select Primary Carrier",0,0,0,0,1,0,0,0,0,0,1,"0","0","0","0","0","0",0,null,null,null,null,null,null,null,null,null,"0","0",0,"0","0","0","0",0,8,8,0,null,"0","0","0",0,0,0,0,0,"No","No",0,"*",null,"No","No","No",null,0]
[null,null,null,null,null,null,null,null,null,null,null,null,null,null,null,0,{"$f":"IF(AND(NOT(ISBLANK(I523)),I523=0),0,CM523)","v":0},null,0,null,null,{"$f":"IF(AND($B$4>\"BC-\",M523>0),$B$4,\"\")","v":""},null,null,null,null,null,null,null,null,null,null,{"$error":"#DIV/0!"},0,{"$f":"IF(AND(C523<45351,D523>45351),(D523-C523)-1,D523-C523)","v":0},{"$f":"IF(AND(C523<45351,D523>45351,E523<45351),(E523-D523)+1,(E523-D523))","v":0},0,0,0,0,0,"100%","00621","BRIDGEWAY INSURANCE COMPANY 386",0,0,0,0,1,0,0,0,0,0,1,"0","0","0","0","0","0",0,null,null,null,null,null,null,null,null,null,"0","0",0,"0","0","0","0",0,8,8,0,null,"0","0","0",0,0,0,0,0,"No","No",0,"*",null,"No","No","No",null,0]
[null,null,null,null,null,null,null,null,null,null,null,null,null,null,null,0,0,null,0,null,null,{"$f":"IF(AND($B$4>\"BC-\",M544>0),$B$4,\"\")","v":""},null,null,null,null,null,null,null,null,null,null,{"$error":"#DIV/0!"},0,0,0,0,0,0,0,0,"100%","01088","DOCTORS COMPANY RRG 359",0,0,0,0,1,0,0,0,0,0,1,"0","0","0","0","0","0",0,null,null,null,null,null,null,null,null,null,"0","0",0,"0","0","0","0",0,8,8,0,null,"0","0","0",0,0,0,0,0,"No","No",0,"*",null,"No","No","No",null,0]
[null,null,null,null,null,null,null,null,null,null,null,null,null,null,null,0,0,null,0,null,null,{"$f":"IF(AND($B$4>\"BC-\",M569>0),$B$4,\"\")","v":""},null,null,null,null,null,null,null,null,null,null,{"$error":"#DIV/0!"},0,0,0,0,0,0,0,0,"100%","02089","HUDSON EXCESS INS CO 384",0,0,0,0,1,0,0,0,0,0,1,"0","0","0","0","0","0",0,null,null,null,null,null,null,null,null,null,"0","0",0,"0","0","0","0",0,8,8,0,null,"0","0","0",0,0,0,0,0,"No","No",0,"*",null,"No","No","No",null,0]
[null,null,null,null,null,null,null,null,null,null,null,null,null,null,null,0,0,null,{"$f":"IF(OR(H588=\"ERP\",H588=\"PA\",H588=\"SAT\",H588=\"IT\"),CM588,Q588*(100%-R588)+T588)","v":0},null,null,{"$f":"IF(AND($B$4>\"BC-\",M588>0),$B$4,\"\")","v":""},null,null,null,null,null,null,null,null,null,null,{"$error":"#DIV/0!"},0,0,0,0,0,0,0,0,"100%","02083","LLOYDS OF LONDON 052",0,0,0,0,1,0,0,0,0,0,1,"0","0","0","0","0","0",0,null,null,null,null,null,null,null,null,null,"0","0",0,"0","0","0","0",0,8,8,0,null,"0","0","0",0,0,0,0,{"$f":"IF(OR(H588=\"ERP\",H588=\"PA\",H588=\"SAT\",H588=\"IT\"),\"0\",CL588)","v":0},"No","No",0,"*",null,{"$f":"IF(OR(N588=\"02083\",N588=\"01520\",N588=\"07043\",N588=\"00508\",N588=\"01522\"),\"Yes\",\"No\")","v":"No"},{"$f":"IF(L588=\"S\",\"Yes\",\"No\")","v":"No"},{"$f":"IF(AND(CS588=\"Yes\", CT588=\"Yes\"),\"Yes\",\"No\")","v":"No"},null,0]
[null,null,null,null,null,null,null,null,null,null,null,null,null,null,null,0,0,null,0,null,null,{"$f":"IF(AND($B$4>\"BC-\",M607>0),$B$4,\"\")","v":""},null,null,null,null,null,null,null,null,null,null,{"$error":"#DIV/0!"},0,0,0,0,0,0,0,0,"100%","03029","OPHTHALMIC MUTUAL INS CO 138",0,0,0,0,1,0,0,0,0,0,1,"0","0","0","0","0","0",0,null,null,null,null,null,null,null,null,null,"0","0",0,"0","0","0","0",0,8,8,0,null,"0","0","0",0,0,0,0,0,"No","No",0,"*",null,"No","No","No",null,0]
[null,null,null,null,null,null,null,null,null,null,null,null,null,null,null,0,0,null,0,null,null,{"$f":"IF(AND($B$4>\"BC-\",M622>0),$B$4,\"\")","v":""},null,null,null,null,null,null,null,null,null,null,{"$error":"#DIV/0!"},0,0,0,0,0,0,0,0,"100%","05089","PREFERRED PROF INSUR CO 129",0,0,0,0,1,0,0,0,0,0,1,"0","0","0","0","0","0",0,null,null,null,null,null,null,null,null,null,"0","0",0,"0","0","0","0",0,8,8,0,null,"0","0","0",0,0,0,0,0,"No","No",0,"*",null,"No","No","No",null,0]
[null,null,null,null,null,null,null,null,null,null,null,null,null,null,null,0,0,null,0,null,null,{"$f":"IF(AND($B$4>\"BC-\",M631>0),$B$4,\"\")","v":""},null,null,null,null,null,null,null,null,null,null,{"$error":"#DIV/0!"},0,0,0,0,0,0,0,0,"100%","07048","SOUTHWEST PHYSICIANS RRG 279",0,0,0,0,1,0,0,0,0,0,1,"0","0","0","0","0","0",0,null,null,null,null,null,null,null,null,null,"0","0",0,"0","0","0","0",0,8,8,0,null,"0","0","0",0,0,0,0,0,"No","No",0,"*",null,"No","No","No",null,0]
[null,null,null,null,null,null,null,null,null,null,null,null,null,null,null,0,0,null,0,null,null,{"$f":"IF(AND($B$4>\"BC-\",M656>0),$B$4,\"\")","v":""},null,null,null,null,null,null,null,null,null,null,{"$error":"#DIV/0!"},0,0,0,0,0,0,0,0,"100%","80116",null,0,0,0,0,1,0,0,0,0,0,1,"0","0","0","0","0","0",0,null,null,null,null,null,null,null,null,null,"0","0",0,"0","0","0","0",0,8,8,0,null,"0","0","0",0,0,0,0,0,"No","No",0,"*",null,"No","No","No",null,0]
[null,null,null,null,null,null,null,null,null,null,null,null,null,null,null,0,0,null,0,null,null,{"$f":"IF(AND($B$4>\"BC-\",M675>0),$B$4,\"\")","v":""},null,null,null,null,null,null,null,null,null,null,{"$error":"#DIV/0!"},0,0,0,0,0,0,0,0,"100%",null,null,0,0,0,0,1,0,0,0,0,0,1,"0","0","0","0","0","0",0,null,null,null,null,null,null,null,null,null,"0","0",0,"0","0","0","0",0,8,8,0,null,"0","0","0",0,0,0,0,0,"No","No",0,"*",null,"No","No","No",null,0]
[null,null,null,null,null,null,null,null,null,null,null,null,null,null,null,0,0,null,0,null,null,{"$f":"IF(AND($B$4>\"BC-\",M694>0),$B$4,\"\")","v":""},null,null,null,null,null,null,null,null,null,null,{"$error":"#DIV/0!"},0,0,0,0,0,0,0,0,"100%",null,null,0,0,0,0,1,0,0,0,0,0,1,"0","0","0","0","0","0",0,null,null,null,null,null,null,null,null,null,"0","0",0,"0","0","0","0",0,8,8,0,null,"0","0","0",0,0,0,0,0,"No","No",0,"*",null,"No","No","No",null,0]
[null,null,null,null,null,null,null,null,null,null,null,null,null,null,null,0,0,null,0,null,null,{"$f":"IF(AND($B$4>\"BC-\",M703>0),$B$4,\"\")","v":""},null,null,null,null,null,null,null,null,null,null,{"$error":"#DIV/0!"},0,0,0,0,0,0,0,0,"100%",null,null,0,0,0,0,1,0,0,0,0,0,1,"0","0","0","0","0","0",0,null,null,null,null,null,null,null,null,null,"0","0",0,"0","0","0","0",0,8,8,0,null,"0","0","0",0,0,0,0,0,"No","No",0,"*",null,"No","No","No",null,0]
[null,null,null,null,null,null,null,null,null,null,null,null,null,null,null,0,0,null,0,null,null,{"$f":"IF(AND($B$4>\"BC-\",M737>0),$B$4,\"\")","v":""},null,null,null,null,null,null,null,null,null,null,{"$error":"#DIV/0!"},0,0,0,0,0,0,0,0,"100%",null,null,0,0,0,0,1,0,0,0,0,0,1,"0","0","0","0","0","0",0,null,null,null,null,null,null,null,null,null,"0","0",0,"0","0","0","0",0,8,8,0,null,"0","0","0",0,0,0,0,0,"No","No",0,"*",null,"No","No","No",null,0]
[null,null,null,null,null,null,null,null,null,null,null,null,null,null,null,0,0,null,0,null,null,{"$f":"IF(AND($B$4>\"BC-\",M756>0),$B$4,\"\")","v":""},null,null,null,null,null,null,null,null,null,null,{"$f":"VALUE(AJ756)*((AO756+BJ756)*$AA$1)/AI756","v":{"$error":"#DIV/0!"}},{"$f":"((AO756+BJ756)*$AA$1)","v":0},0,0,{"$f":"P756/365","v":0},{"$f":"AI756*AK756","v":0},{"$f":"AL756*AP756","v":0},{"$f":"AW756*AM756","v":0},{"$f":"BC756*AN756","v":0},{"$f":"IF(OR(I756=1,I756=0),\"100%\",I756)","v":"100%"},null,null,{"$f":"IF(J756=8,50%,0)","v":0},{"$f":"IF(J756=16,65%,0)","v":0},{"$f":"IF(J756=24,80%,0)","v":0},{"$f":"SUM(AS756:AU756)","v":0},{"$f":"IF(AV756=0,100%,AV756)","v":1},{"$f":"IF(OR(K756=\"R\", K756=\"F\"),50%,0)","v":0},{"$f":"IF(K756=\"Y1\",25%,0)","v":0},{"$f":"IF(K756=\"Y2\",50%,0)","v":0},{"$f":"IF(K756=\"Y3\",75%,0)","v":0},{"$f":"SUM(AX756:BA756)","v":0},{"$f":"IF(BB756=0,100%,BB756)","v":1},{"$f":"IF(AND(L756=\"DX\",N756<\"02001\"),IF(OR(M756=51),10106),\"0\")","v":"0"},{"$f":"IF(AND(L756=\"DX\",N756<\"02001\",M756<>23,M756<>51,M756<>2,M756<>43,M756<>63,M756<>65,M756<>9,M756<>46,M756<>54,M756<>15,M756<>35,M756<>45,M756<>6,M756<>7,M756<>21,M756<>22,M756<>25,M756<>39,M756<>40,M756<>48,M756<>67),5558,\"0\")","v":"0"},{"$f":"IF(AND(L756=\"DX\",N756<\"02001\"),IF(OR(M756=2,M756=3,M756=22,M756=33,M756=63,M756=65),6063),\"0\")","v":"0"},{"$f":"IF(AND(L756=\"DX\",N756<\"02001\"),IF(OR(M756=9,M756=26,M756=35,M756=40,M756=43,M756=46),8591),\"0\")","v":"0"},{"$f":"IF(AND(L756=\"DX\",N756<\"02001\"),IF(OR(M756=23),8591),\"0\")","v":"0"},{"$f":"IF(AND(L756=\"DX\",N756<\"02001\"),IF(OR(M756=7,M756=15,M756=19,M756=20,M756=25,M756=37,M756=45,M756=48,M756=54),6063),\"0\")","v":"0"},{"$f":"SUM(BD756:BI756)","v":0},null,null,null,null,null,null,null,null,null,{"$f":"LEFT(CD756,3)","v":"0"},{"$f":"IF(OR(M756=51),1,\"0\")","v":"0"},{"$f":"IF(OR(M756=4,M756=13,M756=17,M756=3,M756=33,M756=23,M756=51,M756=2,M756=26,M756=37,M756=63,M756=65,M756=9,M756=35,M756=46,M756=15,M756=45,M756=7,M756=19,M756=20,M756=22,M756=25,M756=39,M756=40,M756=43,M756=48, M756=54,M756=0),0,\"2\")","v":0},{"$f":"IF(OR(M756=2,M756=3,M756=4,M756=13,M756=17,M756=22,M756=33,M756=63),3,\"0\")","v":"0"},{"$f":"IF(OR(M756=23,M756=26,M756=40,M756=43),4,\"0\")","v":"0"},{"$f":"IF(OR(M756=35),5,\"0\")","v":"0"},{"$f":"IF(OR(M756=9,M756=15,M756=19,M756=20,M756=25,M756=37,M756=39,M756=45,M756=46,M756=48,M756=54,M756=65),6,\"0\")","v":"0"},{"$f":"IF(M756=7,7,0)","v":0},{"$f":"SUM(BU756+BV756+BW756+BX756+BY756+BZ756+CA756+CC756)","v":8},{"$f":"IF(M756=0,8,0)","v":8},{"$f":"IF(N756=\"00651\",\"00551\",IF(AND(N756=\"80993\"),\"12093\",IF(AND(N756=\"80994\"),\"13094\",N756)))","v":0},null,{"$f":"IF(OR(CJ756=70, CJ756=80, CJ756=90, CJ756=100, CJ756=801),CK756*0%,\"0\")","v":"0"},{"$f":"IF(OR(CJ756=6,CJ756=7,CJ756=10,CJ756=12,CJ756=15,CJ756=20,CJ756=22,CJ756=30,CJ756=35,CJ756=50,CJ756=60),CK756*50%,\"0\")","v":"0"},{"$f":"IF(OR(CJ756=120,CJ756=130),CK756,\"0\")","v":"0"},{"$f":"SUM(CF756:CH756)","v":0},{"$f":"VALUE(BT756)","v":0},{"$f":"ROUND(IF(E756>1,VALUE(AG756),VALUE(AH756)),0)","v":0},{"$f":"IF(OR(CJ756=120,CJ756=130),CK756,CK756)","v":0},0,{"$f":"IF(AND(U756=\"New\",F756<C756),\"Yes\",\"No\")","v":"No"},{"$f":"IF(AND(U756=\"New\",F756=C756),\"Yes\",\"No\")","v":"No"},{"$f":"IF(CO756=\"Yes\",CQ756,G756)","v":0},{"$f":"CONCATENATE(G756,$CP$9)","v":"*"},null,"No","No","No",null,0]
[null,null,null,null,null,null,null,null,null,null,null,null,null,null,null,0,0,null,0,null,null,{"$f":"IF(AND($B$4>\"BC-\",M762>0),$B$4,\"\")","v":""},null,null,null,null,null,null,null,null,null,null,{"$error":"#DIV/0!"},0,0,0,0,0,0,0,0,"100%",null,null,0,0,0,0,1,0,0,0,0,0,1,"0","0","0","0","0","0",0,null,null,null,null,null,null,null,null,null,"0","0",0,"0","0","0","0",0,8,8,0,null,"0","0","0",0,0,0,0,0,"No","No",0,"*",null,"No","No","No",null,0]
[null,null,null,null,null,null,null,null,null,null,null,null,null,null,null,0,0,null,0,null,null,{"$f":"IF(AND($B$4>\"BC-\",M794>0),$B$4,\"\")","v":""},null,null,null,null,null,null,null,null,null,null,{"$error":"#DIV/0!"},0,0,0,0,0,0,0,0,"100%",null,null,0,0,0,0,1,0,0,0,0,0,1,"0","0","0","0","0","0",0,null,null,null,null,null,null,null,null,null,"0","0",0,"0","0","0","0",0,8,8,0,null,"0","0","0",0,0,0,0,0,"No","No",0,"*",null,"No","No","No",null,0]
[null,null,null,null,null,null,null,null,null,null,null,null,null,null,null,0,0,null,0,null,null,{"$f":"IF(AND($B$4>\"BC-\",M805>0),$B$4,\"\")","v":""},null,null,null,null,null,null,null,null,null,null,{"$error":"#DIV/0!"},0,0,0,0,0,0,0,0,"100%",null,null,0,0,0,0,1,0,0,0,0,0,1,"0","0","0","0","0","0",0,null,null,null,null,null,null,null,null,null,"0","0",0,"0","0","0","0",0,8,8,0,null,"0","0","0",0,0,0,0,0,"No","No",0,"*",null,"No","No","No",null,0]
[null,null,null,null,null,null,null,null,null,null,null,null,null,null,null,0,0,null,0,null,null,{"$f":"IF(AND($B$4>\"BC-\",M824>0),$B$4,\"\")","v":""},null,null,null,null,null,null,null,null,null,null,{"$error":"#DIV/0!"},0,0,0,0,0,0,0,0,"100%",null,null,0,0,0,0,1,0,0,0,0,0,1,"0","0","0","0","0","0",0,null,null,null,null,null,null,null,null,null,"0","0",0,"0","0","0","0",0,8,8,0,null,"0","0","0",0,0,0,0,0,"No","No",0,"*",null,"No","No","No",null,0]
[null,null,null,null,null,null,null,null,null,null,null,null,null,null,null,0,{"$f":"IF(AND(NOT(ISBLANK(I843)),I843=0),0,CM843)","v":0},null,0,null,null,{"$f":"IF(AND($B$4>\"BC-\",M843>0),$B$4,\"\")","v":""},null,null,null,null,null,null,null,null,null,null,{"$error":"#DIV/0!"},0,{"$f":"IF(AND(C843<45351,D843>45351),(D843-C843)-1,D843-C843)","v":0},{"$f":"IF(AND(C843<45351,D843>45351,E843<45351),(E843-D843)+1,(E843-D843))","v":0},0,0,0,0,0,"100%",null,null,0,0,0,0,1,0,0,0,0,0,1,"0","0","0","0","0","0",0,null,null,null,null,null,null,null,null,null,"0","0",0,"0","0","0","0",0,8,8,0,null,"0","0","0",0,0,0,0,0,"No","No",0,"*",null,"No","No","No",null,0]
[null,null,null,null,null,null,null,null,null,null,null,null,null,null,null,0,0,null,0,null,null,{"$f":"IF(AND($B$4>\"BC-\",M868>0),$B$4,\"\")","v":""},null,null,null,null,null,null,null,null,null,null,{"$error":"#DIV/0!"},0,0,0,0,0,0,0,0,"100%",null,null,0,0,0,0,1,0,0,0,0,0,1,"0","0","0","0","0","0",0,null,null,null,null,null,null,null,null,null,"0","0",0,"0","0","0","0",0,8,8,0,null,"0","0","0",0,0,0,0,0,"No","No",0,"*",null,"No","No","No",null,0]
[null,null,null,null,null,null,null,null,null,null,null,null,null,null,null,0,0,null,0,null,null,{"$f":"IF(AND($B$4>\"BC-\",M875>0),$B$4,\"\")","v":""},null,null,null,null,null,null,null,null,null,null,{"$error":"#DIV/0!"},0,0,0,0,0,0,0,0,"100%",null,null,0,0,0,0,1,0,0,0,0,0,1,"0","0","0","0","0","0",0,null,null,null,null,null,null,null,null,null,"0","0",0,"0","0","0","0",0,8,8,0,null,"0","0","0",0,0,0,0,0,"No","No",0,"*",null,"No","No","No",null,0]
[null,null,null,null,null,null,null,null,null,null,null,null,null,null,null,0,0,null,0,null,null,{"$f":"IF(AND($B$4>\"BC-\",M905>0),$B$4,\"\")","v":""},null,null,null,null,null,null,null,null,null,null,{"$error":"#DIV/0!"},0,0,0,0,0,0,0,0,"100%",null,null,0,0,0,0,1,0,0,0,0,0,1,"0","0","0","0","0","0",0,null,null,null,null,null,null,null,null,null,"0","0",0,"0","0","0","0",0,8,8,0,null,"0","0","0",0,0,0,0,0,"No","No",0,"*",null,"No","No","No",null,0]
[null,null,null,null,null,null,null,null,null,null,null,null,null,null,null,0,0,null,0,null,null,{"$f":"IF(AND($B$4>\"BC-\",M911>0),$B$4,\"\")","v":""},null,null,null,null,null,null,null,null,null,null,{"$error":"#DIV/0!"},0,0,0,0,0,0,0,0,"100%",null,null,0,0,0,0,1,0,0,0,0,0,1,"0","0","0","0","0","0",0,null,null,null,null,null,null,null,null,null,"0","0",0,"0","0","0","0",0,8,8,0,null,"0","0","0",0,0,0,0,0,"No","No",0,"*",null,"No","No","No",null,0]
[null,null,null,null,null,null,null,null,null,null,null,null,null,null,null,0,0,null,0,null,null,{"$f":"IF(AND($B$4>\"BC-\",M930>0),$B$4,\"\")","v":""},null,null,null,null,null,null,null,null,null,null,{"$error":"#DIV/0!"},0,0,0,0,0,0,0,0,"100%",null,null,0,0,0,0,1,0,0,0,0,0,1,"0","0","0","0","0","0",0,null,null,null,null,null,null,null,null,null,"0","0",0,"0","0","0","0",0,8,8,0,null,"0","0","0",0,0,0,0,0,"No","No",0,"*",null,"No","No","No",null,0]
[null,null,null,null,null,null,null,null,null,null,null,null,null,null,null,0,0,null,0,null,null,{"$f":"IF(AND($B$4>\"BC-\",M955>0),$B$4,\"\")","v":""},null,null,null,null,null,null,null,null,null,null,{"$error":"#DIV/0!"},0,0,0,0,0,0,0,0,"100%",null,null,0,0,0,0,1,0,0,0,0,0,1,"0","0","0","0","0","0",0,null,null,null,null,null,null,null,null,null,"0","0",0,"0","0","0","0",0,8,8,0,null,"0","0","0",0,0,0,0,0,"No","No",0,"*",null,"No","No","No",null,0]
[null,null,null,null,null,null,null,null,null,null,null,null,null,null,null,0,0,null,0,null,null,{"$f":"IF(AND($B$4>\"BC-\",M974>0),$B$4,\"\")","v":""},null,null,null,null,null,null,null,null,null,null,{"$error":"#DIV/0!"},0,0,0,0,0,0,0,0,"100%",null,null,0,0,0,0,1,0,0,0,0,0,1,"0","0","0","0","0","0",0,null,null,null,null,null,null,null,null,null,"0","0",0,"0","0","0","0",0,8,8,0,null,"0","0","0",0,0,0,0,0,"No","No",0,"*",null,"No","No","No",null,0]
[null,null,null,null,null,null,null,null,null,null,null,null,null,null,null,0,0,null,0,null,null,{"$f":"IF(AND($B$4>\"BC-\",M992>0),$B$4,\"\")","v":""},null,null,null,null,null,null,null,null,null,null,{"$error":"#DIV/0!"},0,0,0,0,0,0,0,0,"100%",null,null,0,0,0,0,1,0,0,0,0,0,1,"0","0","0","0","0","0",0,null,null,null,null,null,null,null,null,null,"0","0",0,"0","0","0","0",0,8,8,0,null,"0","0","0",0,0,0,0,0,"No","No",0,"*",null,"No","No","No",null,0]
[null,null,null,null,null,null,null,null,null,null,null,null,null,null,null,0,0,null,0,null,null,{"$f":"IF(AND($B$4>\"BC-\",M1017>0),$B$4,\"\")","v":""},null,null,null,null,null,null,null,null,null,null,{"$error":"#DIV/0!"},0,0,0,0,0,0,0,0,"100%",null,null,0,0,0,0,1,0,0,0,0,0,1,"0","0","0","0","0","0",0,null,null,null,null,null,null,null,null,null,"0","0",0,"0","0","0","0",0,8,8,0,null,"0","0","0",0,0,0,0,0,"No","No",0,"*",null,"No","No","No",null,0]
[null,null,null,null,null,null,null,null,null,null,null,null,null,null,null,0,0,null,{"$f":"IF(OR(H1036=\"ERP\",H1036=\"PA\",H1036=\"SAT\",H1036=\"IT\"),CM1036,Q1036*(100%-R1036)+T1036)","v":0},null,null,{"$f":"IF(AND($B$4>\"BC-\",M1036>0),$B$4,\"\")","v":""},null,null,null,null,null,null,null,null,null,null,{"$error":"#DIV/0!"},0,0,0,0,0,0,0,0,"100%",null,null,0,0,0,0,1,0,0,0,0,0,1,"0","0","0","0","0","0",0,null,null,null,null,null,null,null,null,null,"0","0",0,"0","0","0","0",0,8,8,0,null,"0","0","0",0,0,0,0,{"$f":"IF(OR(H1036=\"ERP\",H1036=\"PA\",H1036=\"SAT\",H1036=\"IT\"),\"0\",CL1036)","v":0},"No","No",0,"*",null,{"$f":"IF(OR(N1036=\"02083\",N1036=\"01520\",N1036=\"07043\",N1036=\"00508\",N1036=\"01522\"),\"Yes\",\"No\")","v":"No"},{"$f":"IF(L1036=\"S\",\"Yes\",\"No\")","v":"No"},{"$f":"IF(AND(CS1036=\"Yes\", CT1036=\"Yes\"),\"Yes\",\"No\")","v":"No"},null,0]
[null,null,null,null,null,null,null,null,null,null,null,null,null,null,null,0,0,null,0,null,null,{"$f":"IF(AND($B$4>\"BC-\",M1042>0),$B$4,\"\")","v":""},null,null,null,null,null,null,null,null,null,null,{"$error":"#DIV/0!"},0,0,0,0,0,0,0,0,"100%",null,null,0,0,0,0,1,0,0,0,0,0,1,"0","0","0","0","0","0",0,null,null,null,null,null,null,null,null,null,"0","0",0,"0","0","0","0",0,8,8,0,null,"0","0","0",0,0,0,0,0,"No","No",0,"*",null,"No","No","No",null,0]
[null,null,null,null,null,null,null,null,null,null,null,null,null,null,null,0,0,null,0,null,null,{"$f":"IF(AND($B$4>\"BC-\",M1073>0),$B$4,\"\")","v":""},null,null,null,null,null,null,null,null,null,null,{"$error":"#DIV/0!"},0,0,0,0,0,0,0,0,"100%",null,null,0,0,0,0,1,0,0,0,0,0,1,"0","0","0","0","0","0",0,null,null,null,null,null,null,null,null,null,"0","0",0,"0","0","0","0",0,8,8,0,null,"0","0","0",0,0,0,0,0,"No","No",0,"*",null,"No","No","No",null,0]
[null,null,null,null,null,null,null,null,null,null,null,null,null,null,null,0,0,null,0,null,null,{"$f":"IF(AND($B$4>\"BC-\",M1079>0),$B$4,\"\")","v":""},null,null,null,null,null,null,null,null,null,null,{"$error":"#DIV/0!"},0,0,0,0,0,0,0,0,"100%",null,null,0,0,0,0,1,0,0,0,0,0,1,"0","0","0","0","0","0",0,null,null,null,null,null,null,null,null,null,"0","0",0,"0","0","0","0",0,8,8,0,null,"0","0","0",0,0,0,0,0,"No","No",0,"*",null,"No","No","No",null,0]
[null,null,null,null,null,null,null,null,null,null,null,null,null,null,null,0,0,null,0,null,null,{"$f":"IF(AND($B$4>\"BC-\",M1104>0),$B$4,\"\")","v":""},null,null,null,null,null,null,null,null,null,null,{"$error":"#DIV/0!"},0,0,0,0,0,0,0,0,"100%",null,null,0,0,0,0,1,0,0,0,0,0,1,"0","0","0","0","0","0",0,null,null,null,null,null,null,null,null,null,"0","0",0,"0","0","0","0",0,8,8,0,null,"0","0","0",0,0,0,0,0,"No","No",0,"*",null,"No","No","No",null,0]
[null,null,null,null,null,null,null,null,null,null,null,null,null,null,null,0,0,null,0,null,null,{"$f":"IF(AND($B$4>\"BC-\",M1123>0),$B$4,\"\")","v":""},null,null,null,null,null,null,null,null,null,null,{"$error":"#DIV/0!"},0,0,0,0,0,0,0,0,"100%",null,null,0,0,0,0,1,0,0,0,0,0,1,"0","0","0","0","0","0",0,null,null,null,null,null,null,null,null,null,"0","0",0,"0","0","0","0",0,8,8,0,null,"0","0","0",0,0,0,0,0,"No","No",0,"*",null,"No","No","No",null,0]
[null,null,null,null,null,null,null,null,null,null,null,null,null,null,null,0,0,null,0,null,null,{"$f":"IF(AND($B$4>\"BC-\",M1142>0),$B$4,\"\")","v":""},null,null,null,null,null,null,null,null,null,null,{"$error":"#DIV/0!"},0,0,0,0,0,0,0,0,"100%",null,null,0,0,0,0,1,0,0,0,0,0,1,"0","0","0","0","0","0",0,null,null,null,null,null,null,null,null,null,"0","0",0,"0","0","0","0",0,8,8,0,null,"0","0","0",0,0,0,0,0,"No","No",0,"*",null,"No","No","No",null,0]
[null,null,null,null,null,null,null,null,null,null,null,null,null,null,null,0,0,null,0,null,null,{"$f":"IF(AND($B$4>\"BC-\",M1154>0),$B$4,\"\")","v":""},null,null,null,null,null,null,null,null,null,null,{"$error":"#DIV/0!"},0,0,0,0,0,0,0,0,"100%",null,null,0,0,0,0,1,0,0,0,0,0,1,"0","0","0","0","0","0",0,null,null,null,null,null,null,null,null,null,"0","0",0,"0","0","0","0",0,8,8,0,null,"0","0","0",0,0,0,0,0,"No","No",0,"*",null,"No","No","No",null,0]
[null,null,null,null,null,null,null,null,null,null,null,null,null,null,null,0,0,null,0,null,null,{"$f":"IF(AND($B$4>\"BC-\",M1185>0),$B$4,\"\")","v":""},null,null,null,null,null,null,null,null,null,null,{"$error":"#DIV/0!"},0,0,0,0,0,0,0,0,"100%",null,null,0,0,0,0,1,0,0,0,0,0,1,"0","0","0","0","0","0",0,null,null,null,null,null,null,null,null,null,"0","0",0,"0","0","0","0",0,8,8,0,null,"0","0","0",0,0,0,0,0,"No","No",0,"*",null,"No","No","No",null,0]
[null,null,null,null,null,null,null,null,null,null,null,null,null,null,null,0,0,null,0,null,null,{"$f":"IF(AND($B$4>\"BC-\",M1191>0),$B$4,\"\")","v":""},null,null,null,null,null,null,null,null,null,null,{"$error":"#DIV/0!"},0,0,0,0,0,0,0,0,"100%",null,null,0,0,0,0,1,0,0,0,0,0,1,"0","0","0","0","0","0",0,null,null,null,null,null,null,null,null,null,"0","0",0,"0","0","0","0",0,8,8,0,null,"0","0","0",0,0,0,0,0,"No","No",0,"*",null,"No","No","No",null,0]
[null,null,null,null,null,null,null,null,null,null,null,null,null,null,null,0,0,null,0,null,null,{"$f":"IF(AND($B$4>\"BC-\",M1210>0),$B$4,\"\")","v":""},null,null,null,null,null,null,null,null,null,null,{"$error":"#DIV/0!"},0,0,0,0,0,0,0,0,"100%",null,null,0,0,0,0,1,0,0,0,0,0,1,"0","0","0","0","0","0",0,null,null,null,null,null,null,null,null,null,"0","0",0,"0","0","0","0",0,8,8,0,null,"0","0","0",0,0,0,0,0,"No","No",0,"*",null,"No","No","No",null,0]
[null,null,null,null,null,null,null,null,null,null,null,null,null,null,null,0,0,null,0,null,null,{"$f":"IF(AND($B$4>\"BC-\",M1245>0),$B$4,\"\")","v":""},null,null,null,null,null,null,null,null,null,null,{"$error":"#DIV/0!"},0,0,0,0,0,0,0,0,"100%",null,null,0,0,0,0,1,0,0,0,0,0,1,"0","0","0","0","0","0",0,null,null,null,null,null,null,null,null,null,"0","0",0,"0","0","0","0",0,8,8,0,null,"0","0","0",0,0,0,0,0,"No","No",0,"*",null,"No","No","No",null,0]
[null,null,null,null,null,null,null,null,null,null,null,null,null,null,null,0,0,null,0,null,null,{"$f":"IF(AND($B$4>\"BC-\",M1253>0),$B$4,\"\")","v":""},null,null,null,null,null,null,null,null,null,null,{"$error":"#DIV/0!"},0,0,0,0,0,0,0,0,"100%",null,null,0,0,0,0,1,0,0,0,0,0,1,"0","0","0","0","0","0",0,null,null,null,null,null,null,null,null,null,"0","0",0,"0","0","0","0",0,8,8,0,null,"0","0","0",0,0,0,0,0,"No","No",0,"*",null,"No","No","No",null,0]
[null,null,null,null,null,null,null,null,null,null,null,null,null,null,null,0,0,null,0,null,null,{"$f":"IF(AND($B$4>\"BC-\",M1272>0),$B$4,\"\")","v":""},null,null,null,null,null,null,null,null,null,null,{"$error":"#DIV/0!"},0,0,0,0,0,0,0,0,"100%",null,null,0,0,0,0,1,0,0,0,0,0,1,"0","0","0","0","0","0",0,null,null,null,null,null,null,null,null,null,"0","0",0,"0","0","0","0",0,8,8,0,null,"0","0","0",0,0,0,0,0,"No","No",0,"*",null,"No","No","No",null,0]
[null,null,null,null,null,null,null,null,null,null,null,null,null,null,null,0,0,null,0,null,null,{"$f":"IF(AND($B$4>\"BC-\",M1297>0),$B$4,\"\")","v":""},null,null,null,null,null,null,null,null,null,null,{"$error":"#DIV/0!"},0,0,0,0,0,0,0,0,"100%",null,null,0,0,0,0,1,0,0,0,0,0,1,"0","0","0","0","0","0",0,null,null,null,null,null,null,null,null,null,"0","0",0,"0","0","0","0",0,8,8,0,null,"0","0","0",0,0,0,0,0,"No","No",0,"*",null,"No","No","No",null,0]
[null,null,null,null,null,null,null,null,null,null,null,null,null,null,null,0,0,null,0,null,null,{"$f":"IF(AND($B$4>\"BC-\",M1316>0),$B$4,\"\")","v":""},null,null,null,null,null,null,null,null,null,null,{"$error":"#DIV/0!"},0,0,0,0,0,0,0,0,"100%",null,null,0,0,0,0,1,0,0,0,0,0,1,"0","0","0","0","0","0",0,null,null,null,null,null,null,null,null,null,"0","0",0,"0","0","0","0",0,8,8,0,null,"0","0","0",0,0,0,0,0,"No","No",0,"*",null,"No","No","No",null,0]
[null,null,null,null,null,null,null,null,null,null,null,null,null,null,null,0,0,null,0,null,null,{"$f":"IF(AND($B$4>\"BC-\",M1326>0),$B$4,\"\")","v":""},null,null,null,null,null,null,null,null,null,null,{"$error":"#DIV/0!"},0,0,0,0,0,0,0,0,"100%",null,null,0,0,0,0,1,0,0,0,0,0,1,"0","0","0","0","0","0",0,null,null,null,null,null,null,null,null,null,"0","0",0,"0","0","0","0",0,8,8,0,null,"0","0","0",0,0,0,0,0,"No","No",0,"*",null,"No","No","No",null,0]
[null,null,null,null,null,null,null,null,null,null,null,null,null,null,null,0,0,null,0,null,null,{"$f":"IF(AND($B$4>\"BC-\",M1340>0),$B$4,\"\")","v":""},null,null,null,null,null,null,null,null,null,null,{"$error":"#DIV/0!"},0,0,0,0,0,0,0,0,"100%",null,null,0,0,0,0,1,0,0,0,0,0,1,"0","0","0","0","0","0",0,null,null,null,null,null,null,null,null,null,"0","0",0,"0","0","0","0",0,8,8,0,null,"0","0","0",0,0,0,0,0,"No","No",0,"*",null,"No","No","No",null,0]
[null,null,null,null,null,null,null,null,null,null,null,null,null,null,null,0,0,null,0,null,null,{"$f":"IF(AND($B$4>\"BC-\",M1359>0),$B$4,\"\")","v":""},null,null,null,null,null,null,null,null,null,null,{"$error":"#DIV/0!"},0,0,0,0,0,0,0,0,"100%",null,null,0,0,0,0,1,0,0,0,0,0,1,"0","0","0","0","0","0",0,null,null,null,null,null,null,null,null,null,"0","0",0,"0","0","0","0",0,8,8,0,null,"0","0","0",0,0,0,0,0,"No","No",0,"*",null,"No","No","No",null,0]
[null,null,null,null,null,null,null,null,null,null,null,null,null,null,null,0,0,null,0,null,null,{"$f":"IF(AND($B$4>\"BC-\",M1378>0),$B$4,\"\")","v":""},null,null,null,null,null,null,null,null,null,null,{"$error":"#DIV/0!"},0,0,0,0,0,0,0,0,"100%",null,null,0,0,0,0,1,0,0,0,0,0,1,"0","0","0","0","0","0",0,null,null,null,null,null,null,null,null,null,"0","0",0,"0","0","0","0",0,8,8,0,null,"0","0","0",0,0,0,0,0,"No","No",0,"*",null,"No","No","No",null,0]
[null,null,null,null,null,null,null,null,null,null,null,null,null,null,null,0,0,null,0,null,null,{"$f":"IF(AND($B$4>\"BC-\",M1403>0),$B$4,\"\")","v":""},null,null,null,null,null,null,null,null,null,null,{"$error":"#DIV/0!"},0,0,0,0,0,0,0,0,"100%",null,null,0,0,0,0,1,0,0,0,0,0,1,"0","0","0","0","0","0",0,null,null,null,null,null,null,null,null,null,"0","0",0,"0","0","0","0",0,8,8,0,null,"0","0","0",0,0,0,0,0,"No","No",0,"*",null,"No","No","No",null,0]
[null,null,null,null,null,null,null,null,null,null,null,null,null,null,null,0,0,null,0,null,null,{"$f":"IF(AND($B$4>\"BC-\",M1425>0),$B$4,\"\")","v":""},null,null,null,null,null,null,null,null,null,null,{"$error":"#DIV/0!"},0,0,0,0,0,0,0,0,"100%",null,null,0,0,0,0,1,0,0,0,0,0,1,"0","0","0","0","0","0",0,null,null,null,null,null,null,null,null,null,"0","0",0,"0","0","0","0",0,8,8,0,null,"0","0","0",0,0,0,0,0,"No","No",0,"*",null,"No","No","No",null,0]
[null,null,null,null,null,null,null,null,null,null,null,null,null,null,null,0,0,null,0,null,null,{"$f":"IF(AND($B$4>\"BC-\",M1446>0),$B$4,\"\")","v":""},null,null,null,null,null,null,null,null,null,null,{"$error":"#DIV/0!"},0,0,0,0,0,0,0,0,"100%",null,null,0,0,0,0,1,0,0,0,0,0,1,"0","0","0","0","0","0",0,null,null,null,null,null,null,null,null,null,"0","0",0,"0","0","0","0",0,8,8,0,null,"0","0","0",0,0,0,0,0,"No","No",0,"*",null,"No","No","No",null,0]
[null,null,null,null,null,null,null,null,null,null,null,null,null,null,null,0,0,null,0,null,null,{"$f":"IF(AND($B$4>\"BC-\",M1465>0),$B$4,\"\")","v":""},null,null,null,null,null,null,null,null,null,null,{"$error":"#DIV/0!"},0,0,0,0,0,0,0,0,"100%",null,null,0,0,0,0,1,0,0,0,0,0,1,"0","0","0","0","0","0",0,null,null,null,null,null,null,null,null,null,"0","0",0,"0","0","0","0",0,8,8,0,null,"0","0","0",0,0,0,0,0,"No","No",0,"*",null,"No","No","No",null,0]
[null,null,null,null,null,null,null,null,null,null,null,null,null,null,null,0,0,null,{"$f":"IF(OR(H1484=\"ERP\",H1484=\"PA\",H1484=\"SAT\",H1484=\"IT\"),CM1484,Q1484*(100%-R1484)+T1484)","v":0},null,null,{"$f":"IF(AND($B$4>\"BC-\",M1484>0),$B$4,\"\")","v":""},null,null,null,null,null,null,null,null,null,null,{"$error":"#DIV/0!"},0,0,0,0,0,0,0,0,"100%",null,null,0,0,0,0,1,0,0,0,0,0,1,"0","0","0","0","0","0",0,null,null,null,null,null,null,null,null,null,"0","0",0,"0","0","0","0",0,8,8,0,null,"0","0","0",0,0,0,0,{"$f":"IF(OR(H1484=\"ERP\",H1484=\"PA\",H1484=\"SAT\",H1484=\"IT\"),\"0\",CL1484)","v":0},"No","No",0,"*",null,{"$f":"IF(OR(N1484=\"02083\",N1484=\"01520\",N1484=\"07043\",N1484=\"00508\",N1484=\"01522\"),\"Yes\",\"No\")","v":"No"},{"$f":"IF(L1484=\"S\",\"Yes\",\"No\")","v":"No"},{"$f":"IF(AND(CS1484=\"Yes\", CT1484=\"Yes\"),\"Yes\",\"No\")","v":"No"},null,0]
[null,null,null,null,null,null,null,null,null,null,null,null,null,null,null,0,0,null,0,null,null,{"$f":"IF(AND($B$4>\"BC-\",M1509>0),$B$4,\"\")","v":""},null,null,null,null,null,null,null,null,null,null,{"$error":"#DIV/0!"},0,0,0,0,0,0,0,0,"100%",null,null,0,0,0,0,1,0,0,0,0,0,1,"0","0","0","0","0","0",0,null,null,null,null,null,null,null,null,null,"0","0",0,"0","0","0","0",0,8,8,0,null,"0","0","0",0,0,0,0,0,"No","No",0,"*",null,"No","No","No",null,0]
[null,null,null,null,null,null,null,null,null,null,null,null,null,null,null,0,0,null,0,null,null,{"$f":"IF(AND($B$4>\"BC-\",M1524>0),$B$4,\"\")","v":""},null,null,null,null,null,null,null,null,null,null,{"$f":"VALUE(AJ1524)*((AO1524+BJ1524)*$AA$1)/AI1524","v":{"$error":"#DIV/0!"}},{"$f":"((AO1524+BJ1524)*$AA$1)","v":0},0,0,{"$f":"P1524/365","v":0},{"$f":"AI1524*AK1524","v":0},{"$f":"AL1524*AP1524","v":0},{"$f":"AW1524*AM1524","v":0},{"$f":"BC1524*AN1524","v":0},{"$f":"IF(OR(I1524=1,I1524=0),\"100%\",I1524)","v":"100%"},null,null,{"$f":"IF(J1524=8,50%,0)","v":0},{"$f":"IF(J1524=16,65%,0)","v":0},{"$f":"IF(J1524=24,80%,0)","v":0},{"$f":"SUM(AS1524:AU1524)","v":0},{"$f":"IF(AV1524=0,100%,AV1524)","v":1},{"$f":"IF(OR(K1524=\"R\", K1524=\"F\"),50%,0)","v":0},{"$f":"IF(K1524=\"Y1\",25%,0)","v":0},{"$f":"IF(K1524=\"Y2\",50%,0)","v":0},{"$f":"IF(K1524=\"Y3\",75%,0)","v":0},{"$f":"SUM(AX1524:BA1524)","v":0},{"$f":"IF(BB1524=0,100%,BB1524)","v":1},{"$f":"IF(AND(L1524=\"DX\",N1524<\"02001\"),IF(OR(M1524=51),10106),\"0\")","v":"0"},{"$f":"IF(AND(L1524=\"DX\",N1524<\"02001\",M1524<>23,M1524<>51,M1524<>2,M1524<>43,M1524<>63,M1524<>65,M1524<>9,M1524<>46,M1524<>54,M1524<>15,M1524<>35,M1524<>45,M1524<>6,M1524<>7,M1524<>21,M1524<>22,M1524<>25,M1524<>39,M1524<>40,M1524<>48,M1524<>67),5558,\"0\")","v":"0"},{"$f":"IF(AND(L1524=\"DX\",N1524<\"02001\"),IF(OR(M1524=2,M1524=3,M1524=22,M1524=33,M1524=63,M1524=65),6063),\"0\")","v":"0"},{"$f":"IF(AND(L1524=\"DX\",N1524<\"02001\"),IF(OR(M1524=9,M1524=26,M1524=35,M1524=40,M1524=43,M1524=46),8591),\"0\")","v":"0"},{"$f":"IF(AND(L1524=\"DX\",N1524<\"02001\"),IF(OR(M1524=23),8591),\"0\")","v":"0"},{"$f":"IF(AND(L1524=\"DX\",N1524<\"02001\"),IF(OR(M1524=7,M1524=15,M1524=19,M1524=20,M1524=25,M1524=37,M1524=45,M1524=48,M1524=54),6063),\"0\")","v":"0"},{"$f":"SUM(BD1524:BI1524)","v":0},null,null,null,null,null,null,null,null,null,{"$f":"LEFT(CD1524,3)","v":"0"},{"$f":"IF(OR(M1524=51),1,\"0\")","v":"0"},{"$f":"IF(OR(M1524=4,M1524=13,M1524=17,M1524=3,M1524=33,M1524=23,M1524=51,M1524=2,M1524=26,M1524=37,M1524=63,M1524=65,M1524=9,M1524=35,M1524=46,M1524=15,M1524=45,M1524=7,M1524=19,M1524=20,M1524=22,M1524=25,M1524=39,M1524=40,M1524=43,M1524=48, M1524=54,M1524=0),0,\"2\")","v":0},{"$f":"IF(OR(M1524=2,M1524=3,M1524=4,M1524=13,M1524=17,M1524=22,M1524=33,M1524=63),3,\"0\")","v":"0"},{"$f":"IF(OR(M1524=23,M1524=26,M1524=40,M1524=43),4,\"0\")","v":"0"},{"$f":"IF(OR(M1524=35),5,\"0\")","v":"0"},{"$f":"IF(OR(M1524=9,M1524=15,M1524=19,M1524=20,M1524=25,M1524=37,M1524=39,M1524=45,M1524=46,M1524=48,M1524=54,M1524=65),6,\"0\")","v":"0"},{"$f":"IF(M1524=7,7,0)","v":0},{"$f":"SUM(BU1524+BV1524+BW1524+BX1524+BY1524+BZ1524+CA1524+CC1524)","v":8},{"$f":"IF(M1524=0,8,0)","v":8},{"$f":"IF(N1524=\"00651\",\"00551\",IF(AND(N1524=\"80993\"),\"12093\",IF(AND(N1524=\"80994\"),\"13094\",N1524)))","v":0},null,{"$f":"IF(OR(CJ1524=70, CJ1524=80, CJ1524=90, CJ1524=100, CJ1524=801),CK1524*0%,\"0\")","v":"0"},{"$f":"IF(OR(CJ1524=6,CJ1524=7,CJ1524=10,CJ1524=12,CJ1524=15,CJ1524=20,CJ1524=22,CJ1524=30,CJ1524=35,CJ1524=50,CJ1524=60),CK1524*50%,\"0\")","v":"0"},{"$f":"IF(OR(CJ1524=120,CJ1524=130),CK1524,\"0\")","v":"0"},{"$f":"SUM(CF1524:CH1524)","v":0},{"$f":"VALUE(BT1524)","v":0},{"$f":"ROUND(IF(E1524>1,VALUE(AG1524),VALUE(AH1524)),0)","v":0},{"$f":"IF(OR(CJ1524=120,CJ1524=130),CK1524,CK1524)","v":0},0,{"$f":"IF(AND(U1524=\"New\",F1524<C1524),\"Yes\",\"No\")","v":"No"},{"$f":"IF(AND(U1524=\"New\",F1524=C1524),\"Yes\",\"No\")","v":"No"},{"$f":"IF(CO1524=\"Yes\",CQ1524,G1524)","v":0},{"$f":"CONCATENATE(G1524,$CP$9)","v":"*"},null,"No","No","No",null,0]
[null,null,null,null,null,null,null,null,null,null,null,null,null,null,null,0,0,null,0,null,null,{"$f":"IF(AND($B$4>\"BC-\",M1546>0),$B$4,\"\")","v":""},null,null,null,null,null,null,null,null,null,null,{"$error":"#DIV/0!"},0,0,0,0,0,0,0,0,"100%",null,null,0,0,0,0,1,0,0,0,0,0,1,"0","0","0","0","0","0",0,null,null,null,null,null,null,null,null,null,"0","0",0,"0","0","0","0",0,8,8,0,null,"0","0","0",0,0,0,0,0,"No","No",0,"*",null,"No","No","No",null,0]
[null,null,null,null,null,null,null,null,null,null,null,null,null,null,null,0,0,null,0,null,null,{"$f":"IF(AND($B$4>\"BC-\",M1552>0),$B$4,\"\")","v":""},null,null,null,null,null,null,null,null,null,null,{"$error":"#DIV/0!"},0,0,0,0,0,0,0,0,"100%",null,null,0,0,0,0,1,0,0,0,0,0,1,"0","0","0","0","0","0",0,null,null,null,null,null,null,null,null,null,"0","0",0,"0","0","0","0",0,8,8,0,null,"0","0","0",0,0,0,0,0,"No","No",0,"*",null,"No","No","No",null,0]
[null,null,null,null,null,null,null,null,null,null,null,null,null,null,null,0,0,null,0,null,null,{"$f":"IF(AND($B$4>\"BC-\",M1571>0),$B$4,\"\")","v":""},null,null,null,null,null,null,null,null,null,null,{"$error":"#DIV/0!"},0,0,0,0,0,0,0,0,"100%",null,null,0,0,0,0,1,0,0,0,0,0,1,"0","0","0","0","0","0",0,null,null,null,null,null,null,null,null,null,"0","0",0,"0","0","0","0",0,8,8,0,null,"0","0","0",0,0,0,0,0,"No","No",0,"*",null,"No","No","No",null,0]
[null,null,null,null,null,null,null,null,null,null,null,null,null,null,null,0,0,null,0,null,null,{"$f":"IF(AND($B$4>\"BC-\",M1596>0),$B$4,\"\")","v":""},null,null,null,null,null,null,null,null,null,null,{"$error":"#DIV/0!"},0,0,0,0,0,0,0,0,"100%",null,null,0,0,0,0,1,0,0,0,0,0,1,"0","0","0","0","0","0",0,null,null,null,null,null,null,null,null,null,"0","0",0,"0","0","0","0",0,8,8,0,null,"0","0","0",0,0,0,0,0,"No","No",0,"*",null,"No","No","No",null,0]
[null,null,null,null,null,null,null,null,null,null,null,null,null,null,null,0,0,null,0,null,null,{"$f":"IF(AND($B$4>\"BC-\",M1605>0),$B$4,\"\")","v":""},null,null,null,null,null,null,null,null,null,null,{"$error":"#DIV/0!"},0,0,0,0,0,0,0,0,"100%",null,null,0,0,0,0,1,0,0,0,0,0,1,"0","0","0","0","0","0",0,null,null,null,null,null,null,null,null,null,"0","0",0,"0","0","0","0",0,8,8,0,null,"0","0","0",0,0,0,0,0,"No","No",0,"*",null,"No","No","No",null,0]
[null,null,null,null,null,null,null,null,null,null,null,null,null,null,null,0,0,null,0,null,null,{"$f":"IF(AND($B$4>\"BC-\",M1633>0),$B$4,\"\")","v":""},null,null,null,null,null,null,null,null,null,null,{"$error":"#DIV/0!"},0,0,0,0,0,0,0,0,"100%",null,null,0,0,0,0,1,0,0,0,0,0,1,"0","0","0","0","0","0",0,null,null,null,null,null,null,null,null,null,"0","0",0,"0","0","0","0",0,8,8,0,null,"0","0","0",0,0,0,0,0,"No","No",0,"*",null,"No","No","No",null,0]
[null,null,null,null,null,null,null,null,null,null,null,null,null,null,null,0,0,null,0,null,null,{"$f":"IF(AND($B$4>\"BC-\",M1658>0),$B$4,\"\")","v":""},null,null,null,null,null,null,null,null,null,null,{"$error":"#DIV/0!"},0,0,0,0,0,0,0,0,"100%",null,null,0,0,0,0,1,0,0,0,0,0,1,"0","0","0","0","0","0",0,null,null,null,null,null,null,null,null,null,"0","0",0,"0","0","0","0",0,8,8,0,null,"0","0","0",0,0,0,0,0,"No","No",0,"*",null,"No","No","No",null,0]
[null,null,null,null,null,null,null,null,null,null,null,null,null,null,null,0,0,null,0,null,null,{"$f":"IF(AND($B$4>\"BC-\",M1677>0),$B$4,\"\")","v":""},null,null,null,null,null,null,null,null,null,null,{"$error":"#DIV/0!"},0,0,0,0,0,0,0,0,"100%",null,null,0,0,0,0,1,0,0,0,0,0,1,"0","0","0","0","0","0",0,null,null,null,null,null,null,null,null,null,"0","0",0,"0","0","0","0",0,8,8,0,null,"0","0","0",0,0,0,0,0,"No","No",0,"*",null,"No","No","No",null,{"$f":"IF(OR(H1677=\"ERP\",H1677=\"PA\",H1677=\"SAT\"),CM1677,Q1677*(100%-R1677)+T1677)","v":0}]
[null,null,null,null,null,null,null,null,null,null,null,null,null,null,null,0,0,null,0,null,null,{"$f":"IF(AND($B$4>\"BC-\",M1682>0),$B$4,\"\")","v":""},null,null,null,null,null,null,null,null,null,null,{"$error":"#DIV/0!"},0,0,0,0,0,0,0,0,"100%",null,null,0,0,0,0,1,0,0,0,0,0,1,"0","0","0","0","0","0",0,null,null,null,null,null,null,null,null,null,"0","0",0,"0","0","0","0",0,8,8,0,null,"0","0","0",0,0,0,0,0,"No","No",0,"*",null,"No","No","No",null,0]
[null,null,null,null,null,null,null,null,null,null,null,null,null,null,null,0,0,null,0,null,null,{"$f":"IF(AND($B$4>\"BC-\",M1701>0),$B$4,\"\")","v":""},null,null,null,null,null,null,null,null,null,null,{"$error":"#DIV/0!"},0,0,0,0,0,0,0,0,"100%",null,null,0,0,0,0,1,0,0,0,0,0,1,"0","0","0","0","0","0",0,null,null,null,null,null,null,null,null,null,"0","0",0,"0","0","0","0",0,8,8,0,null,"0","0","0",0,0,0,0,0,"No","No",0,"*",null,"No","No","No",null,0]
[null,null,null,null,null,null,null,null,null,null,null,null,null,null,null,0,0,null,0,null,null,{"$f":"IF(AND($B$4>\"BC-\",M1720>0),$B$4,\"\")","v":""},null,null,null,null,null,null,null,null,null,null,{"$error":"#DIV/0!"},0,0,0,0,0,0,0,0,"100%",null,null,0,0,0,0,1,0,0,0,0,0,1,"0","0","0","0","0","0",0,null,null,null,null,null,null,null,null,null,"0","0",0,"0","0","0","0",0,8,8,0,null,"0","0","0",0,0,0,0,0,"No","No",0,"*",null,"No","No","No",null,0]
[null,null,null,null,null,null,null,null,null,null,null,null,null,null,null,0,0,null,0,null,null,{"$f":"IF(AND($B$4>\"BC-\",M1745>0),$B$4,\"\")","v":""},null,null,null,null,null,null,null,null,null,null,{"$error":"#DIV/0!"},0,0,0,0,0,0,0,0,"100%",null,null,0,0,0,0,1,0,0,0,0,0,1,"0","0","0","0","0","0",0,null,null,null,null,null,null,null,null,null,"0","0",0,"0","0","0","0",0,8,8,0,null,"0","0","0",0,0,0,0,0,"No","No",0,"*",null,"No","No","No",null,0]
[null,null,null,null,null,null,null,null,null,null,null,null,null,null,null,0,0,null,0,null,null,{"$f":"IF(AND($B$4>\"BC-\",M1764>0),$B$4,\"\")","v":""},null,null,null,null,null,null,null,null,null,null,{"$error":"#DIV/0!"},0,0,0,0,0,0,0,0,"100%",null,null,0,0,0,0,1,0,0,0,0,0,1,"0","0","0","0","0","0",0,null,null,null,null,null,null,null,null,null,"0","0",0,"0","0","0","0",0,8,8,0,null,"0","0","0",0,0,0,0,0,"No","No",0,"*",null,"No","No","No",null,0]
[null,null,null,null,null,null,null,null,null,null,null,null,null,null,null,0,0,null,0,null,null,{"$f":"IF(AND($B$4>\"BC-\",M1777>0),$B$4,\"\")","v":""},null,null,null,null,null,null,null,null,null,null,{"$error":"#DIV/0!"},0,0,0,0,0,0,0,0,"100%",null,null,0,0,0,0,1,0,0,0,0,0,1,"0","0","0","0","0","0",0,null,null,null,null,null,null,null,null,null,"0","0",0,"0","0","0","0",0,8,8,0,null,"0","0","0",0,0,0,0,0,"No","No",0,"*",null,"No","No","No",null,0]
[null,null,null,null,null,null,null,null,null,null,null,null,null,null,null,0,0,null,0,null,null,{"$f":"IF(AND($B$4>\"BC-\",M1807>0),$B$4,\"\")","v":""},null,null,null,null,null,null,null,null,null,null,{"$error":"#DIV/0!"},0,0,0,0,0,0,0,0,"100%",null,null,0,0,0,0,1,0,0,0,0,0,1,"0","0","0","0","0","0",0,null,null,null,null,null,null,null,null,null,"0","0",0,"0","0","0","0",0,8,8,0,null,"0","0","0",0,0,0,0,0,"No","No",0,"*",null,"No","No","No",null,0]
[null,null,null,null,null,null,null,null,null,null,null,null,null,null,null,0,0,null,0,null,null,{"$f":"IF(AND($B$4>\"BC-\",M1826>0),$B$4,\"\")","v":""},null,null,null,null,null,null,null,null,null,null,{"$error":"#DIV/0!"},0,0,0,0,0,0,0,0,"100%",null,null,0,0,0,0,1,0,0,0,0,0,1,"0","0","0","0","0","0",0,null,null,null,null,null,null,null,null,null,"0","0",0,"0","0","0","0",0,8,8,0,null,"0","0","0",0,0,0,0,0,"No","No",0,"*",null,"No","No","No",null,0]
[null,null,null,null,null,null,null,null,null,null,null,null,null,null,null,0,0,null,0,null,null,{"$f":"IF(AND($B$4>\"BC-\",M1832>0),$B$4,\"\")","v":""},null,null,null,null,null,null,null,null,null,null,{"$error":"#DIV/0!"},0,0,0,0,0,0,0,0,"100%",null,null,0,0,0,0,1,0,0,0,0,0,1,"0","0","0","0","0","0",0,null,null,null,null,null,null,null,null,null,"0","0",0,"0","0","0","0",0,8,8,0,null,"0","0","0",0,0,0,0,0,"No","No",0,"*",null,"No","No","No",null,0]
[null,null,null,null,null,null,null,null,null,null,null,null,null,null,null,0,0,null,0,null,null,{"$f":"IF(AND($B$4>\"BC-\",M1851>0),$B$4,\"\")","v":""},null,null,null,null,null,null,null,null,null,null,{"$error":"#DIV/0!"},0,0,0,0,0,0,0,0,"100%",null,null,0,0,0,0,1,0,0,0,0,0,1,"0","0","0","0","0","0",0,null,null,null,null,null,null,null,null,null,"0","0",0,"0","0","0","0",0,8,8,0,null,"0","0","0",0,0,0,0,0,"No","No",0,"*",null,"No","No","No",null,0]
[null,null,null,null,null,null,null,null,null,null,null,null,null,null,null,0,0,null,0,null,null,{"$f":"IF(AND($B$4>\"BC-\",M1876>0),$B$4,\"\")","v":""},null,null,null,null,null,null,null,null,null,null,{"$error":"#DIV/0!"},0,0,0,0,0,0,0,0,"100%",null,null,0,0,0,0,1,0,0,0,0,0,1,"0","0","0","0","0","0",0,null,null,null,null,null,null,null,null,null,"0","0",0,"0","0","0","0",0,8,8,0,null,"0","0","0",0,0,0,0,0,"No","No",0,"*",null,"No","No","No",null,0]
[null,null,null,null,null,null,null,null,null,null,null,null,null,null,null,0,0,null,0,null,null,{"$f":"IF(AND($B$4>\"BC-\",M1894>0),$B$4,\"\")","v":""},null,null,null,null,null,null,null,null,null,null,{"$error":"#DIV/0!"},0,0,0,0,0,0,0,0,"100%",null,null,0,0,0,0,1,0,0,0,0,0,1,"0","0","0","0","0","0",0,null,null,null,null,null,null,null,null,null,"0","0",0,"0","0","0","0",0,8,8,0,null,"0","0","0",0,0,0,0,0,"No","No",0,"*",null,"No","No","No",null,0]
[null,null,null,null,null,null,null,null,null,null,null,null,null,null,null,0,0,null,0,null,null,{"$f":"IF(AND($B$4>\"BC-\",M1913>0),$B$4,\"\")","v":""},null,null,null,null,null,null,null,null,null,null,{"$error":"#DIV/0!"},0,0,0,0,0,0,0,0,"100%",null,null,0,0,0,0,1,0,0,0,0,0,1,"0","0","0","0","0","0",0,null,null,null,null,null,null,null,null,null,"0","0",0,"0","0","0","0",0,8,8,0,null,"0","0","0",0,0,0,0,0,"No","No",0,"*",null,"No","No","No",null,0]
[null,null,null,null,null,null,null,null,null,null,null,null,null,null,null,0,0,null,{"$f":"IF(OR(H1932=\"ERP\",H1932=\"PA\",H1932=\"SAT\",H1932=\"IT\"),CM1932,Q1932*(100%-R1932)+T1932)","v":0},null,null,{"$f":"IF(AND($B$4>\"BC-\",M1932>0),$B$4,\"\")","v":""},null,null,null,null,null,null,null,null,null,null,{"$error":"#DIV/0!"},0,0,0,0,0,0,0,0,"100%",null,null,0,0,0,0,1,0,0,0,0,0,1,"0","0","0","0","0","0",0,null,null,null,null,null,null,null,null,null,"0","0",0,"0","0","0","0",0,8,8,0,null,"0","0","0",0,0,0,0,{"$f":"IF(OR(H1932=\"ERP\",H1932=\"PA\",H1932=\"SAT\",H1932=\"IT\"),\"0\",CL1932)","v":0},"No","No",0,"*",null,{"$f":"IF(OR(N1932=\"02083\",N1932=\"01520\",N1932=\"07043\",N1932=\"00508\",N1932=\"01522\"),\"Yes\",\"No\")","v":"No"},{"$f":"IF(L1932=\"S\",\"Yes\",\"No\")","v":"No"},{"$f":"IF(AND(CS1932=\"Yes\", CT1932=\"Yes\"),\"Yes\",\"No\")","v":"No"},null,0]
[null,null,null,null,null,null,null,null,null,null,null,null,null,null,null,0,0,null,0,null,null,{"$f":"IF(AND($B$4>\"BC-\",M1957>0),$B$4,\"\")","v":""},null,null,null,null,null,null,null,null,null,null,{"$error":"#DIV/0!"},0,0,0,0,0,0,0,0,"100%",null,null,0,0,0,0,1,0,0,0,0,0,1,"0","0","0","0","0","0",0,null,null,null,null,null,null,null,null,null,"0","0",0,"0","0","0","0",0,8,8,0,null,"0","0","0",0,0,0,0,0,"No","No",0,"*",null,"No","No","No",null,0]
[null,null,null,null,null,null,null,null,null,null,null,null,null,null,null,0,0,null,0,null,null,{"$f":"IF(AND($B$4>\"BC-\",M1975>0),$B$4,\"\")","v":""},null,null,null,null,null,null,null,null,null,null,{"$error":"#DIV/0!"},0,0,0,0,0,0,0,0,"100%",null,null,0,0,0,0,1,0,0,0,0,0,1,"0","0","0","0","0","0",0,null,null,null,null,null,null,null,null,null,"0","0",0,"0","0","0","0",0,8,8,0,null,"0","0","0",0,0,0,0,0,"No","No",0,"*",null,"No","No","No",null,0]
[null,null,null,null,null,null,null,null,null,null,null,null,null,null,null,0,0,null,0,null,null,{"$f":"IF(AND($B$4>\"BC-\",M1981>0),$B$4,\"\")","v":""},null,null,null,null,null,null,null,null,null,null,{"$error":"#DIV/0!"},0,0,0,0,0,0,0,0,"100%",null,null,0,0,0,0,1,0,0,0,0,0,1,"0","0","0","0","0","0",0,null,null,null,null,null,null,null,null,null,"0","0",0,"0","0","0","0",0,8,8,0,null,"0","0","0",0,0,0,0,0,"No","No",0,"*",null,"No","No","No",null,0]
[null,null,null,null,null,null,null,null,null,null,null,null,null,null,null,0,0,null,0,null,null,{"$f":"IF(AND($B$4>\"BC-\",M2000>0),$B$4,\"\")","v":""},null,null,null,null,null,null,null,null,null,null,{"$error":"#DIV/0!"},0,0,0,0,0,0,0,0,"100%",null,null,0,0,0,0,1,0,0,0,0,0,1,"0","0","0","0","0","0",0,null,null,null,null,null,null,null,null,null,"0","0",0,"0","0","0","0",0,8,8,0,null,"0","0","0",0,0,0,0,0,"No","No",0,"*",null,"No","No","No",null,0]
[null,null,null,null,null,null,null,null,null,null,null,null,null,null,null,0,0,null,0,null,null,{"$f":"IF(AND($B$4>\"BC-\",M2019>0),$B$4,\"\")","v":""},null,null,null,null,null,null,null,null,null,null,{"$error":"#DIV/0!"},0,0,0,0,0,0,0,0,"100%",null,null,0,0,0,0,1,0,0,0,0,0,1,"0","0","0","0","0","0",0,null,null,null,null,null,null,null,null,null,"0","0",0,"0","0","0","0",0,8,8,0,null,"0","0","0",0,0,0,0,0,"No","No",0,"*",null,"No","No","No",null,0]
[null,null,null,null,null,null,null,null,null,null,null,null,null,null,null,0,0,null,0,null,null,{"$f":"IF(AND($B$4>\"BC-\",M2044>0),$B$4,\"\")","v":""},null,null,null,null,null,null,null,null,null,null,{"$error":"#DIV/0!"},0,0,0,0,0,0,0,0,"100%",null,null,0,0,0,0,1,0,0,0,0,0,1,"0","0","0","0","0","0",0,null,null,null,null,null,null,null,null,null,"0","0",0,"0","0","0","0",0,8,8,0,null,"0","0","0",0,0,0,0,0,"No","No",0,"*",null,"No","No","No",null,0]
[null,null,null,null,null,null,null,null,null,null,null,null,null,null,null,0,0,null,0,null,null,{"$f":"IF(AND($B$4>\"BC-\",M2056>0),$B$4,\"\")","v":""},null,null,null,null,null,null,null,null,null,null,{"$error":"#DIV/0!"},0,0,0,0,0,0,0,0,"100%",null,null,0,0,0,0,1,0,0,0,0,0,1,"0","0","0","0","0","0",0,null,null,null,null,null,null,null,null,null,"0","0",0,"0","0","0","0",0,8,8,0,null,"0","0","0",0,0,0,0,0,"No","No",0,"*",null,"No","No","No",null,0]
[null,null,null,null,null,null,null,null,null,null,null,null,null,null,null,0,0,null,0,null,null,{"$f":"IF(AND($B$4>\"BC-\",M2087>0),$B$4,\"\")","v":""},null,null,null,null,null,null,null,null,null,null,{"$error":"#DIV/0!"},0,0,0,0,0,0,0,0,"100%",null,null,0,0,0,0,1,0,0,0,0,0,1,"0","0","0","0","0","0",0,null,null,null,null,null,null,null,null,null,"0","0",0,"0","0","0","0",0,8,8,0,null,"0","0","0",0,0,0,0,0,"No","No",0,"*",null,"No","No","No",null,0]
[null,null,null,null,null,null,null,null,null,null,null,null,null,null,null,0,0,null,0,null,null,{"$f":"IF(AND($B$4>\"BC-\",M2106>0),$B$4,\"\")","v":""},null,null,null,null,null,null,null,null,null,null,{"$error":"#DIV/0!"},0,0,0,0,0,0,0,0,"100%",null,null,0,0,0,0,1,0,0,0,0,0,1,"0","0","0","0","0","0",0,null,null,null,null,null,null,null,null,null,"0","0",0,"0","0","0","0",0,8,8,0,null,"0","0","0",0,0,0,0,0,"No","No",0,"*",null,"No","No","No",null,0]
[null,null,null,null,null,null,null,null,null,null,null,null,null,null,null,0,0,null,0,null,null,{"$f":"IF(AND($B$4>\"BC-\",M2125>0),$B$4,\"\")","v":""},null,null,null,null,null,null,null,null,null,null,{"$error":"#DIV/0!"},0,0,0,0,0,0,0,0,"100%",null,null,0,0,0,0,1,0,0,0,0,0,1,"0","0","0","0","0","0",0,null,null,null,null,null,null,null,null,null,"0","0",0,"0","0","0","0",0,8,8,0,null,"0","0","0",0,0,0,0,0,"No","No",0,"*",null,"No","No","No",null,{"$f":"IF(OR(H2125=\"ERP\",H2125=\"PA\",H2125=\"SAT\"),CM2125,Q2125*(100%-R2125)+T2125)","v":0}]
[null,null,null,null,null,null,null,null,null,null,null,null,null,null,null,0,0,null,0,null,null,{"$f":"IF(AND($B$4>\"BC-\",M2133>0),$B$4,\"\")","v":""},null,null,null,null,null,null,null,null,null,null,{"$error":"#DIV/0!"},0,0,0,0,0,0,0,0,"100%",null,null,0,0,0,0,1,0,0,0,0,0,1,"0","0","0","0","0","0",0,null,null,null,null,null,null,null,null,null,"0","0",0,"0","0","0","0",0,8,8,0,null,"0","0","0",0,0,0,0,0,"No","No",0,"*",null,"No","No","No",null,0]
[null,null,null,null,null,null,null,null,null,null,null,null,null,null,null,0,0,null,0,null,null,{"$f":"IF(AND($B$4>\"BC-\",M2149>0),$B$4,\"\")","v":""},null,null,null,null,null,null,null,null,null,null,{"$error":"#DIV/0!"},0,0,0,0,0,0,0,0,"100%",null,null,0,0,0,0,1,0,0,0,0,0,1,"0","0","0","0","0","0",0,null,null,null,null,null,null,null,null,null,"0","0",0,"0","0","0","0",0,8,8,0,null,"0","0","0",0,0,0,0,0,"No","No",0,"*",null,"No","No","No",null,0]
[null,null,null,null,null,null,null,null,null,null,null,null,null,null,null,0,0,null,0,null,null,{"$f":"IF(AND($B$4>\"BC-\",M2168>0),$B$4,\"\")","v":""},null,null,null,null,null,null,null,null,null,null,{"$error":"#DIV/0!"},0,0,0,0,0,0,0,0,"100%",null,null,0,0,0,0,1,0,0,0,0,0,1,"0","0","0","0","0","0",0,null,null,null,null,null,null,null,null,null,"0","0",0,"0","0","0","0",0,8,8,0,null,"0","0","0",0,0,0,0,0,"No","No",0,"*",null,"No","No","No",null,0]
[null,null,null,null,null,null,null,null,null,null,null,null,null,null,null,0,0,null,0,null,null,{"$f":"IF(AND($B$4>\"BC-\",M2193>0),$B$4,\"\")","v":""},null,null,null,null,null,null,null,null,null,null,{"$error":"#DIV/0!"},0,0,0,0,0,0,0,0,"100%",null,null,0,0,0,0,1,0,0,0,0,0,1,"0","0","0","0","0","0",0,null,null,null,null,null,null,null,null,null,"0","0",0,"0","0","0","0",0,8,8,0,null,"0","0","0",0,0,0,0,0,"No","No",0,"*",null,"No","No","No",null,0]
[null,null,null,null,null,null,null,null,null,null,null,null,null,null,null,0,0,null,0,null,null,{"$f":"IF(AND($B$4>\"BC-\",M2212>0),$B$4,\"\")","v":""},null,null,null,null,null,null,null,null,null,null,{"$error":"#DIV/0!"},0,0,0,0,0,0,0,0,"100%",null,null,0,0,0,0,1,0,0,0,0,0,1,"0","0","0","0","0","0",0,null,null,null,null,null,null,null,null,null,"0","0",0,"0","0","0","0",0,8,8,0,null,"0","0","0",0,0,0,0,0,"No","No",0,"*",null,"No","No","No",null,0]
[null,null,null,null,null,null,null,null,null,null,null,null,null,null,null,0,0,null,0,null,null,{"$f":"IF(AND($B$4>\"BC-\",M2232>0),$B$4,\"\")","v":""},null,null,null,null,null,null,null,null,null,null,{"$error":"#DIV/0!"},0,0,0,0,0,0,0,0,"100%",null,null,0,0,0,0,1,0,0,0,0,0,1,"0","0","0","0","0","0",0,null,null,null,null,null,null,null,null,null,"0","0",0,"0","0","0","0",0,8,8,0,null,"0","0","0",0,0,0,0,0,"No","No",0,"*",null,"No","No","No",null,0]
[null,null,null,null,null,null,null,null,null,null,null,null,null,null,null,0,0,null,0,null,null,{"$f":"IF(AND($B$4>\"BC-\",M2255>0),$B$4,\"\")","v":""},null,null,null,null,null,null,null,null,null,null,{"$error":"#DIV/0!"},0,0,0,0,0,0,0,0,"100%",null,null,0,0,0,0,1,0,0,0,0,0,1,"0","0","0","0","0","0",0,null,null,null,null,null,null,null,null,null,"0","0",0,"0","0","0","0",0,8,8,0,null,"0","0","0",0,0,0,0,0,"No","No",0,"*",null,"No","No","No",null,0]
[null,null,null,null,null,null,null,null,null,null,null,null,null,null,null,0,0,null,0,null,null,{"$f":"IF(AND($B$4>\"BC-\",M2274>0),$B$4,\"\")","v":""},null,null,null,null,null,null,null,null,null,null,{"$error":"#DIV/0!"},0,0,0,0,0,0,0,0,"100%",null,null,0,0,0,0,1,0,0,0,0,0,1,"0","0","0","0","0","0",0,null,null,null,null,null,null,null,null,null,"0","0",0,"0","0","0","0",0,8,8,0,null,"0","0","0",0,0,0,0,0,"No","No",0,"*",null,"No","No","No",null,0]
[null,null,null,null,null,null,null,null,null,null,null,null,null,null,null,0,0,null,0,null,null,{"$f":"IF(AND($B$4>\"BC-\",M2280>0),$B$4,\"\")","v":""},null,null,null,null,null,null,null,null,null,null,{"$error":"#DIV/0!"},0,0,0,0,0,0,0,0,"100%",null,null,0,0,0,0,1,0,0,0,0,0,1,"0","0","0","0","0","0",0,null,null,null,null,null,null,null,null,null,"0","0",0,"0","0","0","0",0,8,8,0,null,"0","0","0",0,0,0,0,0,"No","No",0,"*",null,"No","No","No",null,0]
[null,null,null,null,null,null,null,null,null,null,null,null,null,null,null,0,0,null,0,null,null,{"$f":"IF(AND($B$4>\"BC-\",M2299>0),$B$4,\"\")","v":""},null,null,null,null,null,null,null,null,null,null,{"$error":"#DIV/0!"},0,0,0,0,0,0,0,0,"100%",null,null,0,0,0,0,1,0,0,0,0,0,1,"0","0","0","0","0","0",0,null,null,null,null,null,null,null,null,null,"0","0",0,"0","0","0","0",0,8,8,0,null,"0","0","0",0,0,0,0,0,"No","No",0,"*",null,"No","No","No",null,0]
[null,null,null,null,null,null,null,null,null,null,null,null,null,null,null,0,0,null,0,null,null,{"$f":"IF(AND($B$4>\"BC-\",M2331>0),$B$4,\"\")","v":""},null,null,null,null,null,null,null,null,null,null,{"$error":"#DIV/0!"},0,0,0,0,0,0,0,0,"100%",null,null,0,0,0,0,1,0,0,0,0,0,1,"0","0","0","0","0","0",0,null,null,null,null,null,null,null,null,null,"0","0",0,"0","0","0","0",0,8,8,0,null,"0","0","0",0,0,0,0,0,"No","No",0,"*",null,"No","No","No",null,0]
[null,null,null,null,null,null,null,null,null,null,null,null,null,null,null,0,0,null,0,null,null,{"$f":"IF(AND($B$4>\"BC-\",M2342>0),$B$4,\"\")","v":""},null,null,null,null,null,null,null,null,null,null,{"$error":"#DIV/0!"},0,0,0,0,0,0,0,0,"100%",null,null,0,0,0,0,1,0,0,0,0,0,1,"0","0","0","0","0","0",0,null,null,null,null,null,null,null,null,null,"0","0",0,"0","0","0","0",0,8,8,0,null,"0","0","0",0,0,0,0,0,"No","No",0,"*",null,"No","No","No",null,0]
[null,null,null,null,null,null,null,null,null,null,null,null,null,null,null,0,0,null,0,null,null,{"$f":"IF(AND($B$4>\"BC-\",M2361>0),$B$4,\"\")","v":""},null,null,null,null,null,null,null,null,null,null,{"$error":"#DIV/0!"},0,0,0,0,0,0,0,0,"100%",null,null,0,0,0,0,1,0,0,0,0,0,1,"0","0","0","0","0","0",0,null,null,null,null,null,null,null,null,null,"0","0",0,"0","0","0","0",0,8,8,0,null,"0","0","0",0,0,0,0,0,"No","No",0,"*",null,"No","No","No",null,0]
[null,null,null,null,null,null,null,null,null,null,null,null,null,null,null,0,0,null,0,null,null,{"$f":"IF(AND($B$4>\"BC-\",M2386>0),$B$4,\"\")","v":""},null,null,null,null,null,null,null,null,null,null,{"$error":"#DIV/0!"},0,0,0,0,0,0,0,0,"100%",null,null,0,0,0,0,1,0,0,0,0,0,1,"0","0","0","0","0","0",0,null,null,null,null,null,null,null,null,null,"0","0",0,"0","0","0","0",0,8,8,0,null,"0","0","0",0,0,0,0,0,"No","No",0,"*",null,"No","No","No",null,0]
[null,null,null,null,null,null,null,null,null,null,null,null,null,null,null,0,0,null,0,null,null,{"$f":"IF(AND($B$4>\"BC-\",M2405>0),$B$4,\"\")","v":""},null,null,null,null,null,null,null,null,null,null,{"$error":"#DIV/0!"},0,0,0,0,0,0,0,0,"100%",null,null,0,0,0,0,1,0,0,0,0,0,1,"0","0","0","0","0","0",0,null,null,null,null,null,null,null,null,null,"0","0",0,"0","0","0","0",0,8,8,0,null,"0","0","0",0,0,0,0,0,"No","No",0,"*",null,"No","No","No",null,0]
[null,null,null,null,null,null,null,null,null,null,null,null,null,null,null,0,0,null,0,null,null,{"$f":"IF(AND($B$4>\"BC-\",M2426>0),$B$4,\"\")","v":""},null,null,null,null,null,null,null,null,null,null,{"$error":"#DIV/0!"},0,0,0,0,0,0,0,0,"100%",null,null,0,0,0,0,1,0,0,0,0,0,1,"0","0","0","0","0","0",0,null,null,null,null,null,null,null,null,null,"0","0",0,"0","0","0","0",0,8,8,0,null,"0","0","0",0,0,0,0,0,"No","No",0,"*",null,"No","No","No",null,0]
[null,null,null,null,null,null,null,null,null,null,null,null,null,null,null,0,0,null,0,null,null,{"$f":"IF(AND($B$4>\"BC-\",M2448>0),$B$4,\"\")","v":""},null,null,null,null,null,null,null,null,null,null,{"$error":"#DIV/0!"},0,0,0,0,0,0,0,0,"100%",null,null,0,0,0,0,1,0,0,0,0,0,1,"0","0","0","0","0","0",0,null,null,null,null,null,null,null,null,null,"0","0",0,"0","0","0","0",0,8,8,0,null,"0","0","0",0,0,0,0,0,"No","No",0,"*",null,"No","No","No",null,0]
[null,null,null,null,null,null,null,null,null,null,null,null,null,null,null,0,0,null,0,null,null,{"$f":"IF(AND($B$4>\"BC-\",M2467>0),$B$4,\"\")","v":""},null,null,null,null,null,null,null,null,null,null,{"$error":"#DIV/0!"},0,0,0,0,0,0,0,0,"100%",null,null,0,0,0,0,1,0,0,0,0,0,1,"0","0","0","0","0","0",0,null,null,null,null,null,null,null,null,null,"0","0",0,"0","0","0","0",0,8,8,0,null,"0","0","0",0,0,0,0,0,"No","No",0,"*",null,"No","No","No",null,0]
[null,null,null,null,null,null,null,null,null,null,null,null,null,null,null,0,0,null,0,null,null,{"$f":"IF(AND($B$4>\"BC-\",M2473>0),$B$4,\"\")","v":""},null,null,null,null,null,null,null,null,null,null,{"$error":"#DIV/0!"},0,0,0,0,0,0,0,0,"100%",null,null,0,0,0,0,1,0,0,0,0,0,1,"0","0","0","0","0","0",0,null,null,null,null,null,null,null,null,null,"0","0",0,"0","0","0","0",0,8,8,0,null,"0","0","0",0,0,0,0,0,"No","No",0,"*",null,"No","No","No",null,0]
[null,null,null,null,null,null,null,null,null,null,null,null,null,null,null,0,0,null,0,null,null,{"$f":"IF(AND($B$4>\"BC-\",M2492>0),$B$4,\"\")","v":""},null,null,null,null,null,null,null,null,null,null,{"$error":"#DIV/0!"},0,0,0,0,0,0,0,0,"100%",null,null,0,0,0,0,1,0,0,0,0,0,1,"0","0","0","0","0","0",0,null,null,null,null,null,null,null,null,null,"0","0",0,"0","0","0","0",0,8,8,0,null,"0","0","0",0,0,0,0,0,"No","No",0,"*",null,"No","No","No",null,0]
[null,null,null,null,null,null,null,null,null,null,null,null,null,null,null,0,{"$f":"IF(AND(NOT(ISBLANK(I2507)),I2507=0),0,CM2507)","v":0},null,0,null,null,{"$f":"IF(AND($B$4>\"BC-\",M2507>0),$B$4,\"\")","v":""},null,null,null,null,null,null,null,null,null,null,{"$error":"#DIV/0!"},0,{"$f":"IF(AND(C2507<45351,D2507>45351),(D2507-C2507)-1,D2507-C2507)","v":0},{"$f":"IF(AND(C2507<45351,D2507>45351,E2507<45351),(E2507-D2507)+1,(E2507-D2507))","v":0},0,0,0,0,0,"100%",null,null,0,0,0,0,1,0,0,0,0,0,1,"0","0","0","0","0","0",0,null,null,null,null,null,null,null,null,null,"0","0",0,"0","0","0","0",0,8,8,0,null,"0","0","0",0,0,0,0,0,"No","No",0,"*",null,"No","No","No",null,0]
[null,null,null,null,null,null,null,null,null,null,null,null,null,null,null,0,0,null,0,null,null,{"$f":"IF(AND($B$4>\"BC-\",M2535>0),$B$4,\"\")","v":""},null,null,null,null,null,null,null,null,null,null,{"$error":"#DIV/0!"},0,0,0,0,0,0,0,0,"100%",null,null,0,0,0,0,1,0,0,0,0,0,1,"0","0","0","0","0","0",0,null,null,null,null,null,null,null,null,null,"0","0",0,"0","0","0","0",0,8,8,0,null,"0","0","0",0,0,0,0,0,"No","No",0,"*",null,"No","No","No",null,0]
[null,null,null,null,null,null,null,null,null,null,null,null,null,null,null,0,0,null,0,null,null,{"$f":"IF(AND($B$4>\"BC-\",M2554>0),$B$4,\"\")","v":""},null,null,null,null,null,null,null,null,null,null,{"$error":"#DIV/0!"},0,0,0,0,0,0,0,0,"100%",null,null,0,0,0,0,1,0,0,0,0,0,1,"0","0","0","0","0","0",0,null,null,null,null,null,null,null,null,null,"0","0",0,"0","0","0","0",0,8,8,0,null,"0","0","0",0,0,0,0,0,"No","No",0,"*",null,"No","No","No",null,0]
[null,null,null,null,null,null,null,null,null,null,null,null,null,null,null,0,0,null,0,null,null,{"$f":"IF(AND($B$4>\"BC-\",M2573>0),$B$4,\"\")","v":""},null,null,null,null,null,null,null,null,null,null,{"$error":"#DIV/0!"},0,0,0,0,0,0,0,0,"100%",null,null,0,0,0,0,1,0,0,0,0,0,1,"0","0","0","0","0","0",0,null,null,null,null,null,null,null,null,null,"0","0",0,"0","0","0","0",0,8,8,0,null,"0","0","0",0,0,0,0,0,"No","No",0,"*",null,"No","No","No",null,{"$f":"IF(OR(H2573=\"ERP\",H2573=\"PA\",H2573=\"SAT\"),CM2573,Q2573*(100%-R2573)+T2573)","v":0}]
[null,null,null,null,null,null,null,null,null,null,null,null,null,null,null,0,0,null,0,null,null,{"$f":"IF(AND($B$4>\"BC-\",M2598>0),$B$4,\"\")","v":""},null,null,null,null,null,null,null,null,null,null,{"$error":"#DIV/0!"},0,0,0,0,0,0,0,0,"100%",null,null,0,0,0,0,1,0,0,0,0,0,1,"0","0","0","0","0","0",0,null,null,null,null,null,null,null,null,null,"0","0",0,"0","0","0","0",0,8,8,0,null,"0","0","0",0,0,0,0,0,"No","No",0,"*",null,"No","No","No",null,0]
[null,null,null,null,null,null,null,null,null,null,null,null,null,null,null,0,0,null,0,null,null,{"$f":"IF(AND($B$4>\"BC-\",M2606>0),$B$4,\"\")","v":""},null,null,null,null,null,null,null,null,null,null,{"$error":"#DIV/0!"},0,0,0,0,0,0,0,0,"100%",null,null,0,0,0,0,1,0,0,0,0,0,1,"0","0","0","0","0","0",0,null,null,null,null,null,null,null,null,null,"0","0",0,"0","0","0","0",0,8,8,0,null,"0","0","0",0,0,0,0,0,"No","No",0,"*",null,"No","No","No",null,0]
[null,null,null,null,null,null,null,null,null,null,null,null,null,null,null,0,0,null,0,null,null,{"$f":"IF(AND($B$4>\"BC-\",M2622>0),$B$4,\"\")","v":""},null,null,null,null,null,null,null,null,null,null,{"$error":"#DIV/0!"},0,0,0,0,0,0,0,0,"100%",null,null,0,0,0,0,1,0,0,0,0,0,1,"0","0","0","0","0","0",0,null,null,null,null,null,null,null,null,null,"0","0",0,"0","0","0","0",0,8,8,0,null,"0","0","0",0,0,0,0,0,"No","No",0,"*",null,"No","No","No",null,0]
[null,null,null,null,null,null,null,null,null,null,null,null,null,null,null,0,0,null,0,null,null,{"$f":"IF(AND($B$4>\"BC-\",M2641>0),$B$4,\"\")","v":""},null,null,null,null,null,null,null,null,null,null,{"$error":"#DIV/0!"},0,0,0,0,0,0,0,0,"100%",null,null,0,0,0,0,1,0,0,0,0,0,1,"0","0","0","0","0","0",0,null,null,null,null,null,null,null,null,null,"0","0",0,"0","0","0","0",0,8,8,0,null,"0","0","0",0,0,0,0,0,"No","No",0,"*",null,"No","No","No",null,0]
[null,null,null,null,null,null,null,null,null,null,null,null,null,null,null,0,0,null,0,null,null,{"$f":"IF(AND($B$4>\"BC-\",M2660>0),$B$4,\"\")","v":""},null,null,null,null,null,null,null,null,null,null,{"$error":"#DIV/0!"},0,0,0,0,0,0,0,0,"100%",null,null,0,0,0,0,1,0,0,0,0,0,1,"0","0","0","0","0","0",0,null,null,null,null,null,null,null,null,null,"0","0",0,"0","0","0","0",0,8,8,0,null,"0","0","0",0,0,0,0,0,"No","No",0,"*",null,"No","No","No",null,0]
[null,null,null,null,null,null,null,null,null,null,null,null,null,null,null,0,0,null,0,null,null,{"$f":"IF(AND($B$4>\"BC-\",M2683>0),$B$4,\"\")","v":""},null,null,null,null,null,null,null,null,null,null,{"$error":"#DIV/0!"},0,0,0,0,0,0,0,0,"100%",null,null,0,0,0,0,1,0,0,0,0,0,1,"0","0","0","0","0","0",0,null,null,null,null,null,null,null,null,null,"0","0",0,"0","0","0","0",0,8,8,0,null,"0","0","0",0,0,0,0,0,"No","No",0,"*",null,"No","No","No",null,0]
[null,null,null,null,null,null,null,null,null,null,null,null,null,null,null,0,0,null,0,null,null,{"$f":"IF(AND($B$4>\"BC-\",M2703>0),$B$4,\"\")","v":""},null,null,null,null,null,null,null,null,null,null,{"$error":"#DIV/0!"},0,0,0,0,0,0,0,0,"100%",null,null,0,0,0,0,1,0,0,0,0,0,1,"0","0","0","0","0","0",0,null,null,null,null,null,null,null,null,null,"0","0",0,"0","0","0","0",0,8,8,0,null,"0","0","0",0,0,0,0,0,"No","No",0,"*",null,"No","No","No",null,0]
[null,null,null,null,null,null,null,null,null,null,null,null,null,null,null,0,0,null,0,null,null,{"$f":"IF(AND($B$4>\"BC-\",M2728>0),$B$4,\"\")","v":""},null,null,null,null,null,null,null,null,null,null,{"$error":"#DIV/0!"},0,0,0,0,0,0,0,0,"100%",null,null,0,0,0,0,1,0,0,0,0,0,1,"0","0","0","0","0","0",0,null,null,null,null,null,null,null,null,null,"0","0",0,"0","0","0","0",0,8,8,0,null,"0","0","0",0,0,0,0,0,"No","No",0,"*",null,"No","No","No",null,0]
[null,null,null,null,null,null,null,null,null,null,null,null,null,null,null,0,0,null,0,null,null,{"$f":"IF(AND($B$4>\"BC-\",M2747>0),$B$4,\"\")","v":""},null,null,null,null,null,null,null,null,null,null,{"$error":"#DIV/0!"},0,0,0,0,0,0,0,0,"100%",null,null,0,0,0,0,1,0,0,0,0,0,1,"0","0","0","0","0","0",0,null,null,null,null,null,null,null,null,null,"0","0",0,"0","0","0","0",0,8,8,0,null,"0","0","0",0,0,0,0,0,"No","No",0,"*",null,"No","No","No",null,0]
[null,null,null,null,null,null,null,null,null,null,null,null,null,null,null,0,0,null,0,null,null,{"$f":"IF(AND($B$4>\"BC-\",M2766>0),$B$4,\"\")","v":""},null,null,null,null,null,null,null,null,null,null,{"$error":"#DIV/0!"},0,0,0,0,0,0,0,0,"100%",null,null,0,0,0,0,1,0,0,0,0,0,1,"0","0","0","0","0","0",0,null,null,null,null,null,null,null,null,null,"0","0",0,"0","0","0","0",0,8,8,0,null,"0","0","0",0,0,0,0,0,"No","No",0,"*",null,"No","No","No",null,0]
[null,null,null,null,null,null,null,null,null,null,null,null,null,null,null,0,0,null,0,null,null,{"$f":"IF(AND($B$4>\"BC-\",M2782>0),$B$4,\"\")","v":""},null,null,null,null,null,null,null,null,null,null,{"$error":"#DIV/0!"},0,0,0,0,0,0,0,0,"100%",null,null,0,0,0,0,1,0,0,0,0,0,1,"0","0","0","0","0","0",0,null,null,null,null,null,null,null,null,null,"0","0",0,"0","0","0","0",0,8,8,0,null,"0","0","0",0,0,0,0,0,"No","No",0,"*",null,"No","No","No",null,0]
[null,null,null,null,null,null,null,null,null,null,null,null,null,null,null,0,0,null,0,null,null,{"$f":"IF(AND($B$4>\"BC-\",M2790>0),$B$4,\"\")","v":""},null,null,null,null,null,null,null,null,null,null,{"$error":"#DIV/0!"},0,0,0,0,0,0,0,0,"100%",null,null,0,0,0,0,1,0,0,0,0,0,1,"0","0","0","0","0","0",0,null,null,null,null,null,null,null,null,null,"0","0",0,"0","0","0","0",0,8,8,0,null,"0","0","0",0,0,0,0,0,"No","No",0,"*",null,"No","No","No",null,0]
[null,null,null,null,null,null,null,null,null,null,null,null,null,null,null,0,0,null,0,null,null,{"$f":"IF(AND($B$4>\"BC-\",M2809>0),$B$4,\"\")","v":""},null,null,null,null,null,null,null,null,null,null,{"$error":"#DIV/0!"},0,0,0,0,0,0,0,0,"100%",null,null,0,0,0,0,1,0,0,0,0,0,1,"0","0","0","0","0","0",0,null,null,null,null,null,null,null,null,null,"0","0",0,"0","0","0","0",0,8,8,0,null,"0","0","0",0,0,0,0,0,"No","No",0,"*",null,"No","No","No",null,0]
[null,null,null,null,null,null,null,null,null,null,null,null,null,null,null,0,0,null,0,null,null,{"$f":"IF(AND($B$4>\"BC-\",M2834>0),$B$4,\"\")","v":""},null,null,null,null,null,null,null,null,null,null,{"$error":"#DIV/0!"},0,0,0,0,0,0,0,0,"100%",null,null,0,0,0,0,1,0,0,0,0,0,1,"0","0","0","0","0","0",0,null,null,null,null,null,null,null,null,null,"0","0",0,"0","0","0","0",0,8,8,0,null,"0","0","0",0,0,0,0,0,"No","No",0,"*",null,"No","No","No",null,0]
[null,null,null,null,null,null,null,null,null,null,null,null,null,null,null,0,0,null,0,null,null,{"$f":"IF(AND($B$4>\"BC-\",M2853>0),$B$4,\"\")","v":""},null,null,null,null,null,null,null,null,null,null,{"$error":"#DIV/0!"},0,0,0,0,0,0,0,0,"100%",null,null,0,0,0,0,1,0,0,0,0,0,1,"0","0","0","0","0","0",0,null,null,null,null,null,null,null,null,null,"0","0",0,"0","0","0","0",0,8,8,0,null,"0","0","0",0,0,0,0,0,"No","No",0,"*",null,"No","No","No",null,0]
[null,null,null,null,null,null,null,null,null,null,null,null,null,null,null,0,0,null,0,null,null,{"$f":"IF(AND($B$4>\"BC-\",M2863>0),$B$4,\"\")","v":""},null,null,null,null,null,null,null,null,null,null,{"$error":"#DIV/0!"},0,0,0,0,0,0,0,0,"100%",null,null,0,0,0,0,1,0,0,0,0,0,1,"0","0","0","0","0","0",0,null,null,null,null,null,null,null,null,null,"0","0",0,"0","0","0","0",0,8,8,0,null,"0","0","0",0,0,0,0,0,"No","No",0,"*",null,"No","No","No",null,0]
[null,null,null,null,null,null,null,null,null,null,null,null,null,null,null,0,0,null,0,null,null,{"$f":"IF(AND($B$4>\"BC-\",M2896>0),$B$4,\"\")","v":""},null,null,null,null,null,null,null,null,null,null,{"$error":"#DIV/0!"},0,0,0,0,0,0,0,0,"100%",null,null,0,0,0,0,1,0,0,0,0,0,1,"0","0","0","0","0","0",0,null,null,null,null,null,null,null,null,null,"0","0",0,"0","0","0","0",0,8,8,0,null,"0","0","0",0,0,0,0,0,"No","No",0,"*",null,"No","No","No",null,0]
[null,null,null,null,null,null,null,null,null,null,null,null,null,null,null,0,0,null,0,null,null,{"$f":"IF(AND($B$4>\"BC-\",M2915>0),$B$4,\"\")","v":""},null,null,null,null,null,null,null,null,null,null,{"$error":"#DIV/0!"},0,0,0,0,0,0,0,0,"100%",null,null,0,0,0,0,1,0,0,0,0,0,1,"0","0","0","0","0","0",0,null,null,null,null,null,null,null,null,null,"0","0",0,"0","0","0","0",0,8,8,0,null,"0","0","0",0,0,0,0,0,"No","No",0,"*",null,"No","No","No",null,0]
[null,null,null,null,null,null,null,null,null,null,null,null,null,null,null,0,0,null,0,null,null,{"$f":"IF(AND($B$4>\"BC-\",M2921>0),$B$4,\"\")","v":""},null,null,null,null,null,null,null,null,null,null,{"$error":"#DIV/0!"},0,0,0,0,0,0,0,0,"100%",null,null,0,0,0,0,1,0,0,0,0,0,1,"0","0","0","0","0","0",0,null,null,null,null,null,null,null,null,null,"0","0",0,"0","0","0","0",0,8,8,0,null,"0","0","0",0,0,0,0,0,"No","No",0,"*",null,"No","No","No",null,0]
[null,null,null,null,null,null,null,null,null,null,null,null,null,null,null,0,0,null,0,null,null,{"$f":"IF(AND($B$4>\"BC-\",M2940>0),$B$4,\"\")","v":""},null,null,null,null,null,null,null,null,null,null,{"$error":"#DIV/0!"},0,0,0,0,0,0,0,0,"100%",null,null,0,0,0,0,1,0,0,0,0,0,1,"0","0","0","0","0","0",0,null,null,null,null,null,null,null,null,null,"0","0",0,"0","0","0","0",0,8,8,0,null,"0","0","0",0,0,0,0,0,"No","No",0,"*",null,"No","No","No",null,0]
[null,null,null,null,null,null,null,null,null,null,null,null,null,null,null,0,0,null,0,null,null,{"$f":"IF(AND($B$4>\"BC-\",M2962>0),$B$4,\"\")","v":""},null,null,null,null,null,null,null,null,null,null,{"$error":"#DIV/0!"},0,0,0,0,0,0,0,0,"100%",null,null,0,0,0,0,1,0,0,0,0,0,1,"0","0","0","0","0","0",0,null,null,null,null,null,null,null,null,null,"0","0",0,"0","0","0","0",0,8,8,0,null,"0","0","0",0,0,0,0,0,"No","No",0,"*",null,"No","No","No",null,0]
[null,null,null,null,null,null,null,null,null,null,null,null,null,null,null,0,0,null,0,null,null,{"$f":"IF(AND($B$4>\"BC-\",M2983>0),$B$4,\"\")","v":""},null,null,null,null,null,null,null,null,null,null,{"$error":"#DIV/0!"},0,0,0,0,0,0,0,0,"100%",null,null,0,0,0,0,1,0,0,0,0,0,1,"0","0","0","0","0","0",0,null,null,null,null,null,null,null,null,null,"0","0",0,"0","0","0","0",0,8,8,0,null,"0","0","0",0,0,0,0,0,"No","No",0,"*",null,"No","No","No",null,0]
[null,null,null,null,null,null,null,null,null,null,null,null,null,null,null,0,0,null,0,null,null,{"$f":"IF(AND($B$4>\"BC-\",M3002>0),$B$4,\"\")","v":""},null,null,null,null,null,null,null,null,null,null,{"$error":"#DIV/0!"},0,0,0,0,0,0,0,0,"100%",null,null,0,0,0,0,1,0,0,0,0,0,1,"0","0","0","0","0","0",0,null,null,null,null,null,null,null,null,null,"0","0",0,"0","0","0","0",0,8,8,0,null,"0","0","0",0,0,0,0,0,"No","No",0,"*",null,"No","No","No",null,0]
[null,null,null,null,null,null,null,null,null,null,null,null,null,null,null,0,0,null,0,null,null,{"$f":"IF(AND($B$4>\"BC-\",M3027>0),$B$4,\"\")","v":""},null,null,null,null,null,null,null,null,null,null,{"$error":"#DIV/0!"},0,0,0,0,0,0,0,0,"100%",null,null,0,0,0,0,1,0,0,0,0,0,1,"0","0","0","0","0","0",0,null,null,null,null,null,null,null,null,null,"0","0",0,"0","0","0","0",0,8,8,0,null,"0","0","0",0,0,0,0,0,"No","No",0,"*",null,"No","No","No",null,0]
[null,null,null,null,null,null,null,null,null,null,null,null,null,null,null,0,0,null,0,null,null,{"$f":"IF(AND($B$4>\"BC-\",M3046>0),$B$4,\"\")","v":""},null,null,null,null,null,null,null,null,null,null,{"$error":"#DIV/0!"},0,0,0,0,0,0,0,0,"100%",null,null,0,0,0,0,1,0,0,0,0,0,1,"0","0","0","0","0","0",0,null,null,null,null,null,null,null,null,null,"0","0",0,"0","0","0","0",0,8,8,0,null,"0","0","0",0,0,0,0,0,"No","No",0,"*",null,"No","No","No",null,0]
[null,null,null,null,null,null,null,null,null,null,null,null,null,null,null,0,0,null,0,null,null,{"$f":"IF(AND($B$4>\"BC-\",M3057>0),$B$4,\"\")","v":""},null,null,null,null,null,null,null,null,null,null,{"$error":"#DIV/0!"},0,0,0,0,0,0,0,0,"100%",null,null,0,0,0,0,1,0,0,0,0,0,1,"0","0","0","0","0","0",0,null,null,null,null,null,null,null,null,null,"0","0",0,"0","0","0","0",0,8,8,0,null,"0","0","0",0,0,0,0,0,"No","No",0,"*",null,"No","No","No",null,0]
[null,null,null,null,null,null,null,null,null,null,null,null,null,null,null,0,0,null,0,null,null,{"$f":"IF(AND($B$4>\"BC-\",M3070>0),$B$4,\"\")","v":""},null,null,null,null,null,null,null,null,null,null,{"$error":"#DIV/0!"},0,0,0,0,0,0,0,0,"100%",null,null,0,0,0,0,1,0,0,0,0,0,1,"0","0","0","0","0","0",0,null,null,null,null,null,null,null,null,null,"0","0",0,"0","0","0","0",0,8,8,0,null,"0","0","0",0,0,0,0,0,"No","No",0,"*",null,"No","No","No",null,0]
[null,null,null,null,null,null,null,null,null,null,null,null,null,null,null,0,0,null,0,null,null,{"$f":"IF(AND($B$4>\"BC-\",M3089>0),$B$4,\"\")","v":""},null,null,null,null,null,null,null,null,null,null,{"$error":"#DIV/0!"},0,0,0,0,0,0,0,0,"100%",null,null,0,0,0,0,1,0,0,0,0,0,1,"0","0","0","0","0","0",0,null,null,null,null,null,null,null,null,null,"0","0",0,"0","0","0","0",0,8,8,0,null,"0","0","0",0,0,0,0,0,"No","No",0,"*",null,"No","No","No",null,0]
[null,null,null,null,null,null,null,null,null,null,null,null,null,null,null,0,0,null,0,null,null,{"$f":"IF(AND($B$4>\"BC-\",M3114>0),$B$4,\"\")","v":""},null,null,null,null,null,null,null,null,null,null,{"$error":"#DIV/0!"},0,0,0,0,0,0,0,0,"100%",null,null,0,0,0,0,1,0,0,0,0,0,1,"0","0","0","0","0","0",0,null,null,null,null,null,null,null,null,null,"0","0",0,"0","0","0","0",0,8,8,0,null,"0","0","0",0,0,0,0,0,"No","No",0,"*",null,"No","No","No",null,0]
[null,null,null,null,null,null,null,null,null,null,null,null,null,null,null,0,0,null,0,null,null,{"$f":"IF(AND($B$4>\"BC-\",M3134>0),$B$4,\"\")","v":""},null,null,null,null,null,null,null,null,null,null,{"$error":"#DIV/0!"},0,0,0,0,0,0,0,0,"100%",null,null,0,0,0,0,1,0,0,0,0,0,1,"0","0","0","0","0","0",0,null,null,null,null,null,null,null,null,null,"0","0",0,"0","0","0","0",0,8,8,0,null,"0","0","0",0,0,0,0,0,"No","No",0,"*",null,"No","No","No",null,0]
[null,null,null,null,null,null,null,null,null,null,null,null,null,null,null,0,0,null,0,null,null,{"$f":"IF(AND($B$4>\"BC-\",M3151>0),$B$4,\"\")","v":""},null,null,null,null,null,null,null,null,null,null,{"$error":"#DIV/0!"},0,0,0,0,0,0,0,0,"100%",null,null,0,0,0,0,1,0,0,0,0,0,1,"0","0","0","0","0","0",0,null,null,null,null,null,null,null,null,null,"0","0",0,"0","0","0","0",0,8,8,0,null,"0","0","0",0,0,0,0,0,"No","No",0,"*",null,"No","No","No",null,0]
[null,null,null,null,null,null,null,null,null,null,null,null,null,null,null,0,0,null,0,null,null,{"$f":"IF(AND($B$4>\"BC-\",M3176>0),$B$4,\"\")","v":""},null,null,null,null,null,null,null,null,null,null,{"$error":"#DIV/0!"},0,0,0,0,0,0,0,0,"100%",null,null,0,0,0,0,1,0,0,0,0,0,1,"0","0","0","0","0","0",0,null,null,null,null,null,null,null,null,null,"0","0",0,"0","0","0","0",0,8,8,0,null,"0","0","0",0,0,0,0,0,"No","No",0,"*",null,"No","No","No",null,0]
[null,null,null,null,null,null,null,null,null,null,null,null,null,null,null,0,0,null,0,null,null,{"$f":"IF(AND($B$4>\"BC-\",M3195>0),$B$4,\"\")","v":""},null,null,null,null,null,null,null,null,null,null,{"$error":"#DIV/0!"},0,0,0,0,0,0,0,0,"100%",null,null,0,0,0,0,1,0,0,0,0,0,1,"0","0","0","0","0","0",0,null,null,null,null,null,null,null,null,null,"0","0",0,"0","0","0","0",0,8,8,0,null,"0","0","0",0,0,0,0,0,"No","No",0,"*",null,"No","No","No",null,0]
[null,null,null,null,null,null,null,null,null,null,null,null,null,null,null,0,0,null,0,null,null,{"$f":"IF(AND($B$4>\"BC-\",M3214>0),$B$4,\"\")","v":""},null,null,null,null,null,null,null,null,null,null,{"$error":"#DIV/0!"},0,0,0,0,0,0,0,0,"100%",null,null,0,0,0,0,1,0,0,0,0,0,1,"0","0","0","0","0","0",0,null,null,null,null,null,null,null,null,null,"0","0",0,"0","0","0","0",0,8,8,0,null,"0","0","0",0,0,0,0,0,"No","No",0,"*",null,"No","No","No",null,0]
[null,null,null,null,null,null,null,null,null,null,null,null,null,null,null,0,0,null,0,null,null,{"$f":"IF(AND($B$4>\"BC-\",M3233>0),$B$4,\"\")","v":""},null,null,null,null,null,null,null,null,null,null,{"$error":"#DIV/0!"},0,0,0,0,0,0,0,0,"100%",null,null,0,0,0,0,1,0,0,0,0,0,1,"0","0","0","0","0","0",0,null,null,null,null,null,null,null,null,null,"0","0",0,"0","0","0","0",0,8,8,0,null,"0","0","0",0,0,0,0,0,"No","No",0,"*",null,"No","No","No",null,0]
[null,null,null,null,null,null,null,null,null,null,null,null,null,null,null,0,0,null,0,null,null,{"$f":"IF(AND($B$4>\"BC-\",M3238>0),$B$4,\"\")","v":""},null,null,null,null,null,null,null,null,null,null,{"$error":"#DIV/0!"},0,0,0,0,0,0,0,0,"100%",null,null,0,0,0,0,1,0,0,0,0,0,1,"0","0","0","0","0","0",0,null,null,null,null,null,null,null,null,null,"0","0",0,"0","0","0","0",0,8,8,0,null,"0","0","0",0,0,0,0,0,"No","No",0,"*",null,"No","No","No",null,0]
[null,null,null,null,null,null,null,null,null,null,null,null,null,null,null,0,0,null,0,null,null,{"$f":"IF(AND($B$4>\"BC-\",M3263>0),$B$4,\"\")","v":""},null,null,null,null,null,null,null,null,null,null,{"$error":"#DIV/0!"},0,0,0,0,0,0,0,0,"100%",null,null,0,0,0,0,1,0,0,0,0,0,1,"0","0","0","0","0","0",0,null,null,null,null,null,null,null,null,null,"0","0",0,"0","0","0","0",0,8,8,0,null,"0","0","0",0,0,0,0,0,"No","No",0,"*",null,"No","No","No",null,0]
[null,null,null,null,null,null,null,null,null,null,null,null,null,null,null,0,0,null,0,null,null,{"$f":"IF(AND($B$4>\"BC-\",M3282>0),$B$4,\"\")","v":""},null,null,null,null,null,null,null,null,null,null,{"$error":"#DIV/0!"},0,0,0,0,0,0,0,0,"100%",null,null,0,0,0,0,1,0,0,0,0,0,1,"0","0","0","0","0","0",0,null,null,null,null,null,null,null,null,null,"0","0",0,"0","0","0","0",0,8,8,0,null,"0","0","0",0,0,0,0,0,"No","No",0,"*",null,"No","No","No",null,0]
[null,null,null,null,null,null,null,null,null,null,null,null,null,null,null,0,0,null,0,null,null,{"$f":"IF(AND($B$4>\"BC-\",M3301>0),$B$4,\"\")","v":""},null,null,null,null,null,null,null,null,null,null,{"$error":"#DIV/0!"},0,0,0,0,0,0,0,0,"100%",null,null,0,0,0,0,1,0,0,0,0,0,1,"0","0","0","0","0","0",0,null,null,null,null,null,null,null,null,null,"0","0",0,"0","0","0","0",0,8,8,0,null,"0","0","0",0,0,0,0,0,"No","No",0,"*",null,"No","No","No",null,0]
[null,null,null,null,null,null,null,null,null,null,null,null,null,null,null,0,0,null,0,null,null,{"$f":"IF(AND($B$4>\"BC-\",M3314>0),$B$4,\"\")","v":""},null,null,null,null,null,null,null,null,null,null,{"$error":"#DIV/0!"},0,0,0,0,0,0,0,0,"100%",null,null,0,0,0,0,1,0,0,0,0,0,1,"0","0","0","0","0","0",0,null,null,null,null,null,null,null,null,null,"0","0",0,"0","0","0","0",0,8,8,0,null,"0","0","0",0,0,0,0,0,"No","No",0,"*",null,"No","No","No",null,0]
[null,null,null,null,null,null,null,null,null,null,null,null,null,null,null,0,0,null,0,null,null,{"$f":"IF(AND($B$4>\"BC-\",M3344>0),$B$4,\"\")","v":""},null,null,null,null,null,null,null,null,null,null,{"$error":"#DIV/0!"},0,0,0,0,0,0,0,0,"100%",null,null,0,0,0,0,1,0,0,0,0,0,1,"0","0","0","0","0","0",0,null,null,null,null,null,null,null,null,null,"0","0",0,"0","0","0","0",0,8,8,0,null,"0","0","0",0,0,0,0,0,"No","No",0,"*",null,"No","No","No",null,0]
[null,null,null,null,null,null,null,null,null,null,null,null,null,null,null,0,0,null,0,null,null,{"$f":"IF(AND($B$4>\"BC-\",M3369>0),$B$4,\"\")","v":""},null,null,null,null,null,null,null,null,null,null,{"$error":"#DIV/0!"},0,0,0,0,0,0,0,0,"100%",null,null,0,0,0,0,1,0,0,0,0,0,1,"0","0","0","0","0","0",0,null,null,null,null,null,null,null,null,null,"0","0",0,"0","0","0","0",0,8,8,0,null,"0","0","0",0,0,0,0,0,"No","No",0,"*",null,"No","No","No",null,0]
[null,null,null,null,null,null,null,null,null,null,null,null,null,null,null,0,0,null,0,null,null,{"$f":"IF(AND($B$4>\"BC-\",M3388>0),$B$4,\"\")","v":""},null,null,null,null,null,null,null,null,null,null,{"$error":"#DIV/0!"},0,0,0,0,0,0,0,0,"100%",null,null,0,0,0,0,1,0,0,0,0,0,1,"0","0","0","0","0","0",0,null,null,null,null,null,null,null,null,null,"0","0",0,"0","0","0","0",0,8,8,0,null,"0","0","0",0,0,0,0,0,"No","No",0,"*",null,"No","No","No",null,0]
[null,null,null,null,null,null,null,null,null,null,null,null,null,null,null,0,0,null,0,null,null,{"$f":"IF(AND($B$4>\"BC-\",M3407>0),$B$4,\"\")","v":""},null,null,null,null,null,null,null,null,null,null,{"$error":"#DIV/0!"},0,0,0,0,0,0,0,0,"100%",null,null,0,0,0,0,1,0,0,0,0,0,1,"0","0","0","0","0","0",0,null,null,null,null,null,null,null,null,null,"0","0",0,"0","0","0","0",0,8,8,0,null,"0","0","0",0,0,0,0,0,"No","No",0,"*",null,"No","No","No",null,0]
[null,null,null,null,null,null,null,null,null,null,null,null,null,null,null,0,0,null,0,null,null,{"$f":"IF(AND($B$4>\"BC-\",M3413>0),$B$4,\"\")","v":""},null,null,null,null,null,null,null,null,null,null,{"$error":"#DIV/0!"},0,0,0,0,0,0,0,0,"100%",null,null,0,0,0,0,1,0,0,0,0,0,1,"0","0","0","0","0","0",0,null,null,null,null,null,null,null,null,null,"0","0",0,"0","0","0","0",0,8,8,0,null,"0","0","0",0,0,0,0,0,"No","No",0,"*",null,"No","No","No",null,0]
[null,null,null,null,null,null,null,null,null,null,null,null,null,null,null,0,0,null,0,null,null,{"$f":"IF(AND($B$4>\"BC-\",M3431>0),$B$4,\"\")","v":""},null,null,null,null,null,null,null,null,null,null,{"$error":"#DIV/0!"},0,0,0,0,0,0,0,0,"100%",null,null,0,0,0,0,1,0,0,0,0,0,1,"0","0","0","0","0","0",0,null,null,null,null,null,null,null,null,null,"0","0",0,"0","0","0","0",0,8,8,0,null,"0","0","0",0,0,0,0,0,"No","No",0,"*",null,"No","No","No",null,0]
[null,null,null,null,null,null,null,null,null,null,null,null,null,null,null,0,0,null,0,null,null,{"$f":"IF(AND($B$4>\"BC-\",M3450>0),$B$4,\"\")","v":""},null,null,null,null,null,null,null,null,null,null,{"$error":"#DIV/0!"},0,0,0,0,0,0,0,0,"100%",null,null,0,0,0,0,1,0,0,0,0,0,1,"0","0","0","0","0","0",0,null,null,null,null,null,null,null,null,null,"0","0",0,"0","0","0","0",0,8,8,0,null,"0","0","0",0,0,0,0,0,"No","No",0,"*",null,"No","No","No",null,0]
[null,null,null,null,null,null,null,null,null,null,null,null,null,null,null,0,0,null,0,null,null,{"$f":"IF(AND($B$4>\"BC-\",M3475>0),$B$4,\"\")","v":""},null,null,null,null,null,null,null,null,null,null,{"$error":"#DIV/0!"},0,0,0,0,0,0,0,0,"100%",null,null,0,0,0,0,1,0,0,0,0,0,1,"0","0","0","0","0","0",0,null,null,null,null,null,null,null,null,null,"0","0",0,"0","0","0","0",0,8,8,0,null,"0","0","0",0,0,0,0,0,"No","No",0,"*",null,"No","No","No",null,0]
[null,null,null,null,null,null,null,null,null,null,null,null,null,null,null,0,0,null,0,null,null,{"$f":"IF(AND($B$4>\"BC-\",M3494>0),$B$4,\"\")","v":""},null,null,null,null,null,null,null,null,null,null,{"$error":"#DIV/0!"},0,0,0,0,0,0,0,0,"100%",null,null,0,0,0,0,1,0,0,0,0,0,1,"0","0","0","0","0","0",0,null,null,null,null,null,null,null,null,null,"0","0",0,"0","0","0","0",0,8,8,0,null,"0","0","0",0,0,0,0,0,"No","No",0,"*",null,"No","No","No",null,0]
[null,null,null,null,null,null,null,null,null,null,null,null,null,null,null,0,0,null,0,null,null,{"$f":"IF(AND($B$4>\"BC-\",M3512>0),$B$4,\"\")","v":""},null,null,null,null,null,null,null,null,null,null,{"$error":"#DIV/0!"},0,0,0,0,0,0,0,0,"100%",null,null,0,0,0,0,1,0,0,0,0,0,1,"0","0","0","0","0","0",0,null,null,null,null,null,null,null,null,null,"0","0",0,"0","0","0","0",0,8,8,0,null,"0","0","0",0,0,0,0,0,"No","No",0,"*",null,"No","No","No",null,0]
[null,null,null,null,null,null,null,null,null,null,null,null,null,null,null,0,0,null,0,null,null,{"$f":"IF(AND($B$4>\"BC-\",M3537>0),$B$4,\"\")","v":""},null,null,null,null,null,null,null,null,null,null,{"$error":"#DIV/0!"},0,0,0,0,0,0,0,0,"100%",null,null,0,0,0,0,1,0,0,0,0,0,1,"0","0","0","0","0","0",0,null,null,null,null,null,null,null,null,null,"0","0",0,"0","0","0","0",0,8,8,0,null,"0","0","0",0,0,0,0,0,"No","No",0,"*",null,"No","No","No",null,0]
[null,null,null,null,null,null,null,null,null,null,null,null,null,null,null,0,0,null,0,null,null,{"$f":"IF(AND($B$4>\"BC-\",M3556>0),$B$4,\"\")","v":""},null,null,null,null,null,null,null,null,null,null,{"$error":"#DIV/0!"},0,0,0,0,0,0,0,0,"100%",null,null,0,0,0,0,1,0,0,0,0,0,1,"0","0","0","0","0","0",0,null,null,null,null,null,null,null,null,null,"0","0",0,"0","0","0","0",0,8,8,0,null,"0","0","0",0,0,0,0,0,"No","No",0,"*",null,"No","No","No",null,0]
[null,null,null,null,null,null,null,null,null,null,null,null,null,null,null,0,0,null,0,null,null,{"$f":"IF(AND($B$4>\"BC-\",M3562>0),$B$4,\"\")","v":""},null,null,null,null,null,null,null,null,null,null,{"$error":"#DIV/0!"},0,0,0,0,0,0,0,0,"100%",null,null,0,0,0,0,1,0,0,0,0,0,1,"0","0","0","0","0","0",0,null,null,null,null,null,null,null,null,null,"0","0",0,"0","0","0","0",0,8,8,0,null,"0","0","0",0,0,0,0,0,"No","No",0,"*",null,"No","No","No",null,0]
[null,null,null,null,null,null,null,null,null,null,null,null,null,null,null,0,0,null,0,null,null,{"$f":"IF(AND($B$4>\"BC-\",M3585>0),$B$4,\"\")","v":""},null,null,null,null,null,null,null,null,null,null,{"$error":"#DIV/0!"},0,0,0,0,0,0,0,0,"100%",null,null,0,0,0,0,1,0,0,0,0,0,1,"0","0","0","0","0","0",0,null,null,null,null,null,null,null,null,null,"0","0",0,"0","0","0","0",0,8,8,0,null,"0","0","0",0,0,0,0,0,"No","No",0,"*",null,"No","No","No",null,0]
[null,null,null,null,null,null,null,null,null,null,null,null,null,null,null,0,0,null,0,null,null,{"$f":"IF(AND($B$4>\"BC-\",M3599>0),$B$4,\"\")","v":""},null,null,null,null,null,null,null,null,null,null,{"$error":"#DIV/0!"},0,0,0,0,0,0,0,0,"100%",null,null,0,0,0,0,1,0,0,0,0,0,1,"0","0","0","0","0","0",0,null,null,null,null,null,null,null,null,null,"0","0",0,"0","0","0","0",0,8,8,0,null,"0","0","0",0,0,0,0,0,"No","No",0,"*",null,"No","No","No",null,0]
[null,null,null,null,null,null,null,null,null,null,null,null,null,null,null,0,0,null,0,null,null,{"$f":"IF(AND($B$4>\"BC-\",M3624>0),$B$4,\"\")","v":""},null,null,null,null,null,null,null,null,null,null,{"$error":"#DIV/0!"},0,0,0,0,0,0,0,0,"100%",null,null,0,0,0,0,1,0,0,0,0,0,1,"0","0","0","0","0","0",0,null,null,null,null,null,null,null,null,null,"0","0",0,"0","0","0","0",0,8,8,0,null,"0","0","0",0,0,0,0,0,"No","No",0,"*",null,"No","No","No",null,0]
[null,null,null,null,null,null,null,null,null,null,null,null,null,null,null,0,0,null,0,null,null,{"$f":"IF(AND($B$4>\"BC-\",M3643>0),$B$4,\"\")","v":""},null,null,null,null,null,null,null,null,null,null,{"$error":"#DIV/0!"},0,0,0,0,0,0,0,0,"100%",null,null,0,0,0,0,1,0,0,0,0,0,1,"0","0","0","0","0","0",0,null,null,null,null,null,null,null,null,null,"0","0",0,"0","0","0","0",0,8,8,0,null,"0","0","0",0,0,0,0,0,"No","No",0,"*",null,"No","No","No",null,0]
[null,null,null,null,null,null,null,null,null,null,null,null,null,null,null,0,0,null,0,null,null,{"$f":"IF(AND($B$4>\"BC-\",M3668>0),$B$4,\"\")","v":""},null,null,null,null,null,null,null,null,null,null,{"$error":"#DIV/0!"},0,0,0,0,0,0,0,0,"100%",null,null,0,0,0,0,1,0,0,0,0,0,1,"0","0","0","0","0","0",0,null,null,null,null,null,null,null,null,null,"0","0",0,"0","0","0","0",0,8,8,0,null,"0","0","0",0,0,0,0,0,"No","No",0,"*",null,"No","No","No",null,0]
[null,null,null,null,null,null,null,null,null,null,null,null,null,null,null,0,0,null,0,null,null,{"$f":"IF(AND($B$4>\"BC-\",M3684>0),$B$4,\"\")","v":""},null,null,null,null,null,null,null,null,null,null,{"$error":"#DIV/0!"},0,0,0,0,0,0,0,0,"100%",null,null,0,0,0,0,1,0,0,0,0,0,1,"0","0","0","0","0","0",0,null,null,null,null,null,null,null,null,null,"0","0",0,"0","0","0","0",0,8,8,0,null,"0","0","0",0,0,0,0,0,"No","No",0,"*",null,"No","No","No",null,0]
[null,null,null,null,null,null,null,null,null,null,null,null,null,null,null,0,0,null,0,null,null,{"$f":"IF(AND($B$4>\"BC-\",M3705>0),$B$4,\"\")","v":""},null,null,null,null,null,null,null,null,null,null,{"$error":"#DIV/0!"},0,0,0,0,0,0,0,0,"100%",null,null,0,0,0,0,1,0,0,0,0,0,1,"0","0","0","0","0","0",0,null,null,null,null,null,null,null,null,null,"0","0",0,"0","0","0","0",0,8,8,0,null,"0","0","0",0,0,0,0,0,"No","No",0,"*",null,"No","No","No",null,0]
[null,null,null,null,null,null,null,null,null,null,null,null,null,null,null,0,0,null,0,null,null,{"$f":"IF(AND($B$4>\"BC-\",M3711>0),$B$4,\"\")","v":""},null,null,null,null,null,null,null,null,null,null,{"$error":"#DIV/0!"},0,0,0,0,0,0,0,0,"100%",null,null,0,0,0,0,1,0,0,0,0,0,1,"0","0","0","0","0","0",0,null,null,null,null,null,null,null,null,null,"0","0",0,"0","0","0","0",0,8,8,0,null,"0","0","0",0,0,0,0,0,"No","No",0,"*",null,"No","No","No",null,0]
[null,null,null,null,null,null,null,null,null,null,null,null,null,null,null,0,0,null,0,null,null,{"$f":"IF(AND($B$4>\"BC-\",M3730>0),$B$4,\"\")","v":""},null,null,null,null,null,null,null,null,null,null,{"$error":"#DIV/0!"},0,0,0,0,0,0,0,0,"100%",null,null,0,0,0,0,1,0,0,0,0,0,1,"0","0","0","0","0","0",0,null,null,null,null,null,null,null,null,null,"0","0",0,"0","0","0","0",0,8,8,0,null,"0","0","0",0,0,0,0,0,"No","No",0,"*",null,"No","No","No",null,0]
[null,null,null,null,null,null,null,null,null,null,null,null,null,null,null,0,0,null,0,null,null,{"$f":"IF(AND($B$4>\"BC-\",M3755>0),$B$4,\"\")","v":""},null,null,null,null,null,null,null,null,null,null,{"$error":"#DIV/0!"},0,0,0,0,0,0,0,0,"100%",null,null,0,0,0,0,1,0,0,0,0,0,1,"0","0","0","0","0","0",0,null,null,null,null,null,null,null,null,null,"0","0",0,"0","0","0","0",0,8,8,0,null,"0","0","0",0,0,0,0,0,"No","No",0,"*",null,"No","No","No",null,0]
[null,null,null,null,null,null,null,null,null,null,null,null,null,null,null,{"$f":"IF(M3765>0,INDEX($BM$1:$BS$903,BT3765,CB3765),0)","v":0},0,null,0,null,null,{"$f":"IF(AND($B$4>\"BC-\",M3765>0),$B$4,\"\")","v":""},null,null,null,null,null,null,null,null,null,null,{"$error":"#DIV/0!"},0,0,0,0,0,0,0,0,"100%",null,null,0,0,0,0,1,0,0,0,0,0,1,"0","0","0","0","0","0",0,null,null,null,null,null,null,null,null,null,"0","0",0,"0","0","0","0",0,8,8,0,null,"0","0","0",0,0,0,0,0,"No","No",0,"*",null,"No","No","No",null,0]
[null,null,null,null,null,null,null,null,null,null,null,null,null,null,null,0,0,null,0,null,null,{"$f":"IF(AND($B$4>\"BC-\",M3792>0),$B$4,\"\")","v":""},null,null,null,null,null,null,null,null,null,null,{"$error":"#DIV/0!"},0,0,0,0,0,0,0,0,"100%",null,null,0,0,0,0,1,0,0,0,0,0,1,"0","0","0","0","0","0",0,null,null,null,null,null,null,null,null,null,"0","0",0,"0","0","0","0",0,8,8,0,null,"0","0","0",0,0,0,0,0,"No","No",0,"*",null,"No","No","No",null,0]
[null,null,null,null,null,null,null,null,null,null,null,null,null,null,null,0,0,null,0,null,null,{"$f":"IF(AND($B$4>\"BC-\",M3817>0),$B$4,\"\")","v":""},null,null,null,null,null,null,null,null,null,null,{"$error":"#DIV/0!"},0,0,0,0,0,0,0,0,"100%",null,null,0,0,0,0,1,0,0,0,0,0,1,"0","0","0","0","0","0",0,null,null,null,null,null,null,null,null,null,"0","0",0,"0","0","0","0",0,8,8,0,null,"0","0","0",0,0,0,0,0,"No","No",0,"*",null,"No","No","No",null,0]
[null,null,null,null,null,null,null,null,null,null,null,null,null,null,null,0,0,null,0,null,null,{"$f":"IF(AND($B$4>\"BC-\",M3836>0),$B$4,\"\")","v":""},null,null,null,null,null,null,null,null,null,null,{"$error":"#DIV/0!"},0,0,0,0,0,0,0,0,"100%",null,null,0,0,0,0,1,0,0,0,0,0,1,"0","0","0","0","0","0",0,null,null,null,null,null,null,null,null,null,"0","0",0,"0","0","0","0",0,8,8,0,null,"0","0","0",0,0,0,0,0,"No","No",0,"*",null,"No","No","No",null,0]
[null,null,null,null,null,null,null,null,null,null,null,null,null,null,null,0,0,null,0,null,null,{"$f":"IF(AND($B$4>\"BC-\",M3855>0),$B$4,\"\")","v":""},null,null,null,null,null,null,null,null,null,null,{"$error":"#DIV/0!"},0,0,0,0,0,0,0,0,"100%",null,null,0,0,0,0,1,0,0,0,0,0,1,"0","0","0","0","0","0",0,null,null,null,null,null,null,null,null,null,"0","0",0,"0","0","0","0",0,8,8,0,null,"0","0","0",0,0,0,0,0,"No","No",0,"*",null,"No","No","No",null,0]
[null,null,null,null,null,null,null,null,null,null,null,null,null,null,null,0,0,null,0,null,null,{"$f":"IF(AND($B$4>\"BC-\",M3864>0),$B$4,\"\")","v":""},null,null,null,null,null,null,null,null,null,null,{"$error":"#DIV/0!"},0,0,0,0,0,0,0,0,"100%",null,null,0,0,0,0,1,0,0,0,0,0,1,"0","0","0","0","0","0",0,null,null,null,null,null,null,null,null,null,"0","0",0,"0","0","0","0",0,8,8,0,null,"0","0","0",0,0,0,0,0,"No","No",0,"*",null,"No","No","No",null,0]
[null,null,null,null,null,null,null,null,null,null,null,null,null,null,null,0,0,null,0,null,null,{"$f":"IF(AND($B$4>\"BC-\",M3879>0),$B$4,\"\")","v":""},null,null,null,null,null,null,null,null,null,null,{"$error":"#DIV/0!"},0,0,0,0,0,0,0,0,"100%",null,null,0,0,0,0,1,0,0,0,0,0,1,"0","0","0","0","0","0",0,null,null,null,null,null,null,null,null,null,"0","0",0,"0","0","0","0",0,8,8,0,null,"0","0","0",0,0,0,0,0,"No","No",0,"*",null,"No","No","No",null,0]
[null,null,null,null,null,null,null,null,null,null,null,null,null,null,null,0,0,null,0,null,null,{"$f":"IF(AND($B$4>\"BC-\",M3904>0),$B$4,\"\")","v":""},null,null,null,null,null,null,null,null,null,null,{"$error":"#DIV/0!"},0,0,0,0,0,0,0,0,"100%",null,null,0,0,0,0,1,0,0,0,0,0,1,"0","0","0","0","0","0",0,null,null,null,null,null,null,null,null,null,"0","0",0,"0","0","0","0",0,8,8,0,null,"0","0","0",0,0,0,0,0,"No","No",0,"*",null,"No","No","No",null,0]
[null,null,null,null,null,null,null,null,null,null,null,null,null,null,null,0,0,null,0,null,null,{"$f":"IF(AND($B$4>\"BC-\",M3923>0),$B$4,\"\")","v":""},null,null,null,null,null,null,null,null,null,null,{"$error":"#DIV/0!"},0,0,0,0,0,0,0,0,"100%",null,null,0,0,0,0,1,0,0,0,0,0,1,"0","0","0","0","0","0",0,null,null,null,null,null,null,null,null,null,"0","0",0,"0","0","0","0",0,8,8,0,null,"0","0","0",0,0,0,0,0,"No","No",0,"*",null,"No","No","No",null,0]
[null,null,null,null,null,null,null,null,null,null,null,null,null,null,null,0,0,null,0,null,null,{"$f":"IF(AND($B$4>\"BC-\",M3942>0),$B$4,\"\")","v":""},null,null,null,null,null,null,null,null,null,null,{"$error":"#DIV/0!"},0,0,0,0,0,0,0,0,"100%",null,null,0,0,0,0,1,0,0,0,0,0,1,"0","0","0","0","0","0",0,null,null,null,null,null,null,null,null,null,"0","0",0,"0","0","0","0",0,8,8,0,null,"0","0","0",0,0,0,0,0,"No","No",0,"*",null,"No","No","No",null,0]
[null,null,null,null,null,null,null,null,null,null,null,null,null,null,null,0,0,null,0,null,null,{"$f":"IF(AND($B$4>\"BC-\",M3963>0),$B$4,\"\")","v":""},null,null,null,null,null,null,null,null,null,null,{"$error":"#DIV/0!"},0,0,0,0,0,0,0,0,"100%",null,null,0,0,0,0,1,0,0,0,0,0,1,"0","0","0","0","0","0",0,null,null,null,null,null,null,null,null,null,"0","0",0,"0","0","0","0",0,8,8,0,null,"0","0","0",0,0,0,0,0,"No","No",0,"*",null,"No","No","No",null,0]
[null,null,null,null,null,null,null,null,null,null,null,null,null,null,null,0,0,null,0,null,null,{"$f":"IF(AND($B$4>\"BC-\",M3985>0),$B$4,\"\")","v":""},null,null,null,null,null,null,null,null,null,null,{"$error":"#DIV/0!"},0,0,0,0,0,0,0,0,"100%",null,null,0,0,0,0,1,0,0,0,0,0,1,"0","0","0","0","0","0",0,null,null,null,null,null,null,null,null,null,"0","0",0,"0","0","0","0",0,8,8,0,null,"0","0","0",0,0,0,0,0,"No","No",0,"*",null,"No","No","No",null,0]
[null,null,null,null,null,null,null,null,null,null,null,null,null,null,null,0,0,null,0,null,null,{"$f":"IF(AND($B$4>\"BC-\",M3991>0),$B$4,\"\")","v":""},null,null,null,null,null,null,null,null,null,null,{"$error":"#DIV/0!"},0,0,0,0,0,0,0,0,"100%",null,null,0,0,0,0,1,0,0,0,0,0,1,"0","0","0","0","0","0",0,null,null,null,null,null,null,null,null,null,"0","0",0,"0","0","0","0",0,8,8,0,null,"0","0","0",0,0,0,0,0,"No","No",0,"*",null,"No","No","No",null,0]
[null,null,null,null,null,null,null,null,null,null,null,null,null,null,null,0,0,null,0,null,null,{"$f":"IF(AND($B$4>\"BC-\",M4010>0),$B$4,\"\")","v":""},null,null,null,null,null,null,null,null,null,null,{"$error":"#DIV/0!"},0,0,0,0,0,0,0,0,"100%",null,null,0,0,0,0,1,0,0,0,0,0,1,"0","0","0","0","0","0",0,null,null,null,null,null,null,null,null,null,"0","0",0,"0","0","0","0",0,8,8,0,null,"0","0","0",0,0,0,0,0,"No","No",0,"*",null,"No","No","No",null,0]
[null,null,null,null,null,null,null,null,null,null,null,null,null,null,null,0,0,null,0,null,null,{"$f":"IF(AND($B$4>\"BC-\",M4036>0),$B$4,\"\")","v":""},null,null,null,null,null,null,null,null,null,null,{"$error":"#DIV/0!"},0,0,0,0,0,0,0,0,"100%",null,null,0,0,0,0,1,0,0,0,0,0,1,"0","0","0","0","0","0",0,null,null,null,null,null,null,null,null,null,"0","0",0,"0","0","0","0",0,8,8,0,null,"0","0","0",0,0,0,0,0,"No","No",0,"*",null,"No","No","No",null,0]
[null,null,null,null,null,null,null,null,null,null,null,null,null,null,null,0,0,null,0,null,null,{"$f":"IF(AND($B$4>\"BC-\",M4053>0),$B$4,\"\")","v":""},null,null,null,null,null,null,null,null,null,null,{"$error":"#DIV/0!"},0,0,0,0,0,0,0,0,"100%",null,null,0,0,0,0,1,0,0,0,0,0,1,"0","0","0","0","0","0",0,null,null,null,null,null,null,null,null,null,"0","0",0,"0","0","0","0",0,8,8,0,null,"0","0","0",0,0,0,0,0,"No","No",0,"*",null,"No","No","No",null,0]
[null,null,null,null,null,null,null,null,null,null,null,null,null,null,null,0,0,null,0,null,null,{"$f":"IF(AND($B$4>\"BC-\",M4072>0),$B$4,\"\")","v":""},null,null,null,null,null,null,null,null,null,null,{"$error":"#DIV/0!"},0,0,0,0,0,0,0,0,"100%",null,null,0,0,0,0,1,0,0,0,0,0,1,"0","0","0","0","0","0",0,null,null,null,null,null,null,null,null,null,"0","0",0,"0","0","0","0",0,8,8,0,null,"0","0","0",0,0,0,0,0,"No","No",0,"*",null,"No","No","No",null,0]
[null,null,null,null,null,null,null,null,null,null,null,null,null,null,null,0,0,null,0,null,null,{"$f":"IF(AND($B$4>\"BC-\",M4091>0),$B$4,\"\")","v":""},null,null,null,null,null,null,null,null,null,null,{"$error":"#DIV/0!"},0,0,0,0,0,0,0,0,"100%",null,null,0,0,0,0,1,0,0,0,0,0,1,"0","0","0","0","0","0",0,null,null,null,null,null,null,null,null,null,"0","0",0,"0","0","0","0",0,8,8,0,null,"0","0","0",0,0,0,0,0,"No","No",0,"*",null,"No","No","No",null,0]
[null,null,null,null,null,null,null,null,null,null,null,null,null,null,null,0,0,null,0,null,null,{"$f":"IF(AND($B$4>\"BC-\",M4116>0),$B$4,\"\")","v":""},null,null,null,null,null,null,null,null,null,null,{"$error":"#DIV/0!"},0,0,0,0,0,0,0,0,"100%",null,null,0,0,0,0,1,0,0,0,0,0,1,"0","0","0","0","0","0",0,null,null,null,null,null,null,null,null,null,"0","0",0,"0","0","0","0",0,8,8,0,null,"0","0","0",0,0,0,0,0,"No","No",0,"*",null,"No","No","No",null,0]
[null,null,null,null,null,null,null,null,null,null,null,null,null,null,null,0,0,null,0,null,null,{"$f":"IF(AND($B$4>\"BC-\",M4135>0),$B$4,\"\")","v":""},null,null,null,null,null,null,null,null,null,null,{"$error":"#DIV/0!"},0,0,0,0,0,0,0,0,"100%",null,null,0,0,0,0,1,0,0,0,0,0,1,"0","0","0","0","0","0",0,null,null,null,null,null,null,null,null,null,"0","0",0,"0","0","0","0",0,8,8,0,null,"0","0","0",0,0,0,0,0,"No","No",0,"*",null,"No","No","No",null,0]
[null,null,null,null,null,null,null,null,null,null,null,null,null,null,null,0,0,null,0,null,null,{"$f":"IF(AND($B$4>\"BC-\",M4140>0),$B$4,\"\")","v":""},null,null,null,null,null,null,null,null,null,null,{"$error":"#DIV/0!"},0,0,0,0,0,0,0,0,"100%",null,null,0,0,0,0,1,0,0,0,0,0,1,"0","0","0","0","0","0",0,null,null,null,null,null,null,null,null,null,"0","0",0,"0","0","0","0",0,8,8,0,null,"0","0","0",0,0,0,0,0,"No","No",0,"*",null,"No","No","No",null,0]
[null,null,null,null,null,null,null,null,null,null,null,null,null,null,null,0,0,null,0,null,null,{"$f":"IF(AND($B$4>\"BC-\",M4159>0),$B$4,\"\")","v":""},null,null,null,null,null,null,null,null,null,null,{"$error":"#DIV/0!"},0,0,0,0,0,0,0,0,"100%",null,null,0,0,0,0,1,0,0,0,0,0,1,"0","0","0","0","0","0",0,null,null,null,null,null,null,null,null,null,"0","0",0,"0","0","0","0",0,8,8,0,null,"0","0","0",0,0,0,0,0,"No","No",0,"*",null,"No","No","No",null,0]
[null,null,null,null,null,null,null,null,null,null,null,null,null,null,null,0,0,null,0,null,null,{"$f":"IF(AND($B$4>\"BC-\",M4178>0),$B$4,\"\")","v":""},null,null,null,null,null,null,null,null,null,null,{"$error":"#DIV/0!"},0,0,0,0,0,0,0,0,"100%",null,null,0,0,0,0,1,0,0,0,0,0,1,"0","0","0","0","0","0",0,null,null,null,null,null,null,null,null,null,"0","0",0,"0","0","0","0",0,8,8,0,null,"0","0","0",0,0,0,0,0,"No","No",0,"*",null,"No","No","No",null,0]
[null,null,null,null,null,null,null,null,null,null,null,null,null,null,null,0,0,null,0,null,null,{"$f":"IF(AND($B$4>\"BC-\",M4203>0),$B$4,\"\")","v":""},null,null,null,null,null,null,null,null,null,null,{"$error":"#DIV/0!"},0,0,0,0,0,0,0,0,"100%",null,null,0,0,0,0,1,0,0,0,0,0,1,"0","0","0","0","0","0",0,null,null,null,null,null,null,null,null,null,"0","0",0,"0","0","0","0",0,8,8,0,null,"0","0","0",0,0,0,0,0,"No","No",0,"*",null,"No","No","No",null,0]
[null,null,null,null,null,null,null,null,null,null,null,null,null,null,null,0,0,null,0,null,null,{"$f":"IF(AND($B$4>\"BC-\",M4216>0),$B$4,\"\")","v":""},null,null,null,null,null,null,null,null,null,null,{"$error":"#DIV/0!"},0,0,0,0,0,0,0,0,"100%",null,null,0,0,0,0,1,0,0,0,0,0,1,"0","0","0","0","0","0",0,null,null,null,null,null,null,null,null,null,"0","0",0,"0","0","0","0",0,8,8,0,null,"0","0","0",0,0,0,0,0,"No","No",0,"*",null,"No","No","No",null,0]
[null,null,null,null,null,null,null,null,null,null,null,null,null,null,null,0,0,null,0,null,null,{"$f":"IF(AND($B$4>\"BC-\",M4240>0),$B$4,\"\")","v":""},null,null,null,null,null,null,null,null,null,null,{"$error":"#DIV/0!"},0,0,0,0,0,0,0,0,"100%",null,null,0,0,0,0,1,0,0,0,0,0,1,"0","0","0","0","0","0",0,null,null,null,null,null,null,null,null,null,"0","0",0,"0","0","0","0",0,8,8,0,null,"0","0","0",0,0,0,0,0,"No","No",0,"*",null,"No","No","No",null,0]
[null,null,null,null,null,null,null,null,null,null,null,null,null,null,null,0,0,null,0,null,null,{"$f":"IF(AND($B$4>\"BC-\",M4265>0),$B$4,\"\")","v":""},null,null,null,null,null,null,null,null,null,null,{"$error":"#DIV/0!"},0,0,0,0,0,0,0,0,"100%",null,null,0,0,0,0,1,0,0,0,0,0,1,"0","0","0","0","0","0",0,null,null,null,null,null,null,null,null,null,"0","0",0,"0","0","0","0",0,8,8,0,null,"0","0","0",0,0,0,0,0,"No","No",0,"*",null,"No","No","No",null,0]
[null,null,null,null,null,null,null,null,null,null,null,null,null,null,null,0,0,null,0,null,null,{"$f":"IF(AND($B$4>\"BC-\",M4284>0),$B$4,\"\")","v":""},null,null,null,null,null,null,null,null,null,null,{"$error":"#DIV/0!"},0,0,0,0,0,0,0,0,"100%",null,null,0,0,0,0,1,0,0,0,0,0,1,"0","0","0","0","0","0",0,null,null,null,null,null,null,null,null,null,"0","0",0,"0","0","0","0",0,8,8,0,null,"0","0","0",0,0,0,0,0,"No","No",0,"*",null,"No","No","No",null,0]
[null,null,null,null,null,null,null,null,null,null,null,null,null,null,null,0,0,null,0,null,null,{"$f":"IF(AND($B$4>\"BC-\",M4309>0),$B$4,\"\")","v":""},null,null,null,null,null,null,null,null,null,null,{"$error":"#DIV/0!"},0,0,0,0,0,0,0,0,"100%",null,null,0,0,0,0,1,0,0,0,0,0,1,"0","0","0","0","0","0",0,null,null,null,null,null,null,null,null,null,"0","0",0,"0","0","0","0",0,8,8,0,null,"0","0","0",0,0,0,0,0,"No","No",0,"*",null,"No","No","No",null,0]
[null,null,null,null,null,null,null,null,null,null,null,null,null,null,null,0,0,null,0,null,null,{"$f":"IF(AND($B$4>\"BC-\",M4315>0),$B$4,\"\")","v":""},null,null,null,null,null,null,null,null,null,null,{"$error":"#DIV/0!"},0,0,0,0,0,0,0,0,"100%",null,null,0,0,0,0,1,0,0,0,0,0,1,"0","0","0","0","0","0",0,null,null,null,null,null,null,null,null,null,"0","0",0,"0","0","0","0",0,8,8,0,null,"0","0","0",0,0,0,0,0,"No","No",0,"*",null,"No","No","No",null,0]
[null,null,null,null,null,null,null,null,null,null,null,null,null,null,null,0,0,null,0,null,null,{"$f":"IF(AND($B$4>\"BC-\",M4346>0),$B$4,\"\")","v":""},null,null,null,null,null,null,null,null,null,null,{"$error":"#DIV/0!"},0,0,0,0,0,0,0,0,"100%",null,null,0,0,0,0,1,0,0,0,0,0,1,"0","0","0","0","0","0",0,null,null,null,null,null,null,null,null,null,"0","0",0,"0","0","0","0",0,8,8,0,null,"0","0","0",0,0,0,0,0,"No","No",0,"*",null,"No","No","No",null,0]
[null,null,null,null,null,null,null,null,null,null,null,null,null,null,null,0,0,null,0,null,null,{"$f":"IF(AND($B$4>\"BC-\",M4352>0),$B$4,\"\")","v":""},null,null,null,null,null,null,null,null,null,null,{"$error":"#DIV/0!"},0,0,0,0,0,0,0,0,"100%",null,null,0,0,0,0,1,0,0,0,0,0,1,"0","0","0","0","0","0",0,null,null,null,null,null,null,null,null,null,"0","0",0,"0","0","0","0",0,8,8,0,null,"0","0","0",0,0,0,0,0,"No","No",0,"*",null,"No","No","No",null,0]
[null,null,null,null,null,null,null,null,null,null,null,null,null,null,null,0,0,null,0,null,null,{"$f":"IF(AND($B$4>\"BC-\",M4371>0),$B$4,\"\")","v":""},null,null,null,null,null,null,null,null,null,null,{"$error":"#DIV/0!"},0,0,0,0,0,0,0,0,"100%",null,null,0,0,0,0,1,0,0,0,0,0,1,"0","0","0","0","0","0",0,null,null,null,null,null,null,null,null,null,"0","0",0,"0","0","0","0",0,8,8,0,null,"0","0","0",0,0,0,0,0,"No","No",0,"*",null,"No","No","No",null,0]
[null,null,null,null,null,null,null,null,null,null,null,null,null,null,null,0,0,null,0,null,null,{"$f":"IF(AND($B$4>\"BC-\",M4396>0),$B$4,\"\")","v":""},null,null,null,null,null,null,null,null,null,null,{"$error":"#DIV/0!"},0,0,0,0,0,0,0,0,"100%",null,null,0,0,0,0,1,0,0,0,0,0,1,"0","0","0","0","0","0",0,null,null,null,null,null,null,null,null,null,"0","0",0,"0","0","0","0",0,8,8,0,null,"0","0","0",0,0,0,0,0,"No","No",0,"*",null,"No","No","No",null,0]
[null,null,null,null,null,null,null,null,null,null,null,null,null,null,null,0,0,null,0,null,null,{"$f":"IF(AND($B$4>\"BC-\",M4414>0),$B$4,\"\")","v":""},null,null,null,null,null,null,null,null,null,null,{"$error":"#DIV/0!"},0,0,0,0,0,0,0,0,"100%",null,null,0,0,0,0,1,0,0,0,0,0,1,"0","0","0","0","0","0",0,null,null,null,null,null,null,null,null,null,"0","0",0,"0","0","0","0",0,8,8,0,null,"0","0","0",0,0,0,0,0,"No","No",0,"*",null,"No","No","No",null,0]
[null,null,null,null,null,null,null,null,null,null,null,null,null,null,null,0,0,null,0,null,null,{"$f":"IF(AND($B$4>\"BC-\",M4433>0),$B$4,\"\")","v":""},null,null,null,null,null,null,null,null,null,null,{"$error":"#DIV/0!"},0,0,0,0,0,0,0,0,"100%",null,null,0,0,0,0,1,0,0,0,0,0,1,"0","0","0","0","0","0",0,null,null,null,null,null,null,null,null,null,"0","0",0,"0","0","0","0",0,8,8,0,null,"0","0","0",0,0,0,0,0,"No","No",0,"*",null,"No","No","No",null,0]
[null,null,null,null,null,null,null,null,null,null,null,null,null,null,null,0,0,null,0,null,null,{"$f":"IF(AND($B$4>\"BC-\",M4458>0),$B$4,\"\")","v":""},null,null,null,null,null,null,null,null,null,null,{"$error":"#DIV/0!"},0,0,0,0,0,0,0,0,"100%",null,null,0,0,0,0,1,0,0,0,0,0,1,"0","0","0","0","0","0",0,null,null,null,null,null,null,null,null,null,"0","0",0,"0","0","0","0",0,8,8,0,null,"0","0","0",0,0,0,0,0,"No","No",0,"*",null,"No","No","No",null,0]
[null,null,null,null,null,null,null,null,null,null,null,null,null,null,null,0,0,null,0,null,null,{"$f":"IF(AND($B$4>\"BC-\",M4477>0),$B$4,\"\")","v":""},null,null,null,null,null,null,null,null,null,null,{"$error":"#DIV/0!"},0,0,0,0,0,0,0,0,"100%",null,null,0,0,0,0,1,0,0,0,0,0,1,"0","0","0","0","0","0",0,null,null,null,null,null,null,null,null,null,"0","0",0,"0","0","0","0",0,8,8,0,null,"0","0","0",0,0,0,0,0,"No","No",0,"*",null,"No","No","No",null,0]
[null,null,null,null,null,null,null,null,null,null,null,null,null,null,null,0,0,null,0,null,null,{"$f":"IF(AND($B$4>\"BC-\",M4487>0),$B$4,\"\")","v":""},null,null,null,null,null,null,null,null,null,null,{"$error":"#DIV/0!"},0,0,0,0,0,0,0,0,"100%",null,null,0,0,0,0,1,0,0,0,0,0,1,"0","0","0","0","0","0",0,null,null,null,null,null,null,null,null,null,"0","0",0,"0","0","0","0",0,8,8,0,null,"0","0","0",0,0,0,0,0,"No","No",0,"*",null,"No","No","No",null,0]
[null,null,null,null,null,null,null,null,null,null,null,null,null,null,null,0,0,null,0,null,null,{"$f":"IF(AND($B$4>\"BC-\",M4501>0),$B$4,\"\")","v":""},null,null,null,null,null,null,null,null,null,null,{"$error":"#DIV/0!"},0,0,0,0,0,0,0,0,"100%",null,null,0,0,0,0,1,0,0,0,0,0,1,"0","0","0","0","0","0",0,null,null,null,null,null,null,null,null,null,"0","0",0,"0","0","0","0",0,8,8,0,null,"0","0","0",0,0,0,0,0,"No","No",0,"*",null,"No","No","No",null,0]
[null,null,null,null,null,null,null,null,null,null,null,null,null,null,null,0,0,null,0,null,null,{"$f":"IF(AND($B$4>\"BC-\",M4520>0),$B$4,\"\")","v":""},null,null,null,null,null,null,null,null,null,null,{"$error":"#DIV/0!"},0,0,0,0,0,0,0,0,"100%",null,null,0,0,0,0,1,0,0,0,0,0,1,"0","0","0","0","0","0",0,null,null,null,null,null,null,null,null,null,"0","0",0,"0","0","0","0",0,8,8,0,null,"0","0","0",0,0,0,0,0,"No","No",0,"*",null,"No","No","No",null,0]
[null,null,null,null,null,null,null,null,null,null,null,null,null,null,null,0,0,null,0,null,null,{"$f":"IF(AND($B$4>\"BC-\",M4545>0),$B$4,\"\")","v":""},null,null,null,null,null,null,null,null,null,null,{"$error":"#DIV/0!"},0,0,0,0,0,0,0,0,"100%",null,null,0,0,0,0,1,0,0,0,0,0,1,"0","0","0","0","0","0",0,null,null,null,null,null,null,null,null,null,"0","0",0,"0","0","0","0",0,8,8,0,null,"0","0","0",0,0,0,0,0,"No","No",0,"*",null,"No","No","No",null,0]
[null,null,null,null,null,null,null,null,null,null,null,null,null,null,null,0,0,null,0,null,null,{"$f":"IF(AND($B$4>\"BC-\",M4564>0),$B$4,\"\")","v":""},null,null,null,null,null,null,null,null,null,null,{"$error":"#DIV/0!"},0,0,0,0,0,0,0,0,"100%",null,null,0,0,0,0,1,0,0,0,0,0,1,"0","0","0","0","0","0",0,null,null,null,null,null,null,null,null,null,"0","0",0,"0","0","0","0",0,8,8,0,null,"0","0","0",0,0,0,0,0,"No","No",0,"*",null,"No","No","No",null,0]
[null,null,null,null,null,null,null,null,null,null,null,null,null,null,null,0,0,null,0,null,null,{"$f":"IF(AND($B$4>\"BC-\",M4586>0),$B$4,\"\")","v":""},null,null,null,null,null,null,null,null,null,null,{"$error":"#DIV/0!"},0,0,0,0,0,0,0,0,"100%",null,null,0,0,0,0,1,0,0,0,0,0,1,"0","0","0","0","0","0",0,null,null,null,null,null,null,null,null,null,"0","0",0,"0","0","0","0",0,8,8,0,null,"0","0","0",0,0,0,0,0,"No","No",0,"*",null,"No","No","No",null,0]
[null,null,null,null,null,null,null,null,null,null,null,null,null,null,null,0,0,null,0,null,null,{"$f":"IF(AND($B$4>\"BC-\",M4607>0),$B$4,\"\")","v":""},null,null,null,null,null,null,null,null,null,null,{"$error":"#DIV/0!"},0,0,0,0,0,0,0,0,"100%",null,null,0,0,0,0,1,0,0,0,0,0,1,"0","0","0","0","0","0",0,null,null,null,null,null,null,null,null,null,"0","0",0,"0","0","0","0",0,8,8,0,null,"0","0","0",0,0,0,0,0,"No","No",0,"*",null,"No","No","No",null,0]
[null,null,null,null,null,null,null,null,null,null,null,null,null,null,null,0,0,null,0,null,null,{"$f":"IF(AND($B$4>\"BC-\",M4626>0),$B$4,\"\")","v":""},null,null,null,null,null,null,null,null,null,null,{"$error":"#DIV/0!"},0,0,0,0,0,0,0,0,"100%",null,null,0,0,0,0,1,0,0,0,0,0,1,"0","0","0","0","0","0",0,null,null,null,null,null,null,null,null,null,"0","0",0,"0","0","0","0",0,8,8,0,null,"0","0","0",0,0,0,0,0,"No","No",0,"*",null,"No","No","No",null,0]
[null,null,null,null,null,null,null,null,null,null,null,null,null,null,null,0,0,null,0,null,null,{"$f":"IF(AND($B$4>\"BC-\",M4645>0),$B$4,\"\")","v":""},null,null,null,null,null,null,null,null,null,null,{"$error":"#DIV/0!"},0,0,0,0,0,0,0,0,"100%",null,null,0,0,0,0,1,0,0,0,0,0,1,"0","0","0","0","0","0",0,null,null,null,null,null,null,null,null,null,"0","0",0,"0","0","0","0",0,8,8,0,null,"0","0","0",0,0,0,0,0,"No","No",0,"*",null,"No","No","No",null,0]
[null,null,null,null,null,null,null,null,null,null,null,null,null,null,null,0,0,null,0,null,null,{"$f":"IF(AND($B$4>\"BC-\",M4651>0),$B$4,\"\")","v":""},null,null,null,null,null,null,null,null,null,null,{"$error":"#DIV/0!"},0,0,0,0,0,0,0,0,"100%",null,null,0,0,0,0,1,0,0,0,0,0,1,"0","0","0","0","0","0",0,null,null,null,null,null,null,null,null,null,"0","0",0,"0","0","0","0",0,8,8,0,null,"0","0","0",0,0,0,0,0,"No","No",0,"*",null,"No","No","No",null,0]
[null,null,null,null,null,null,null,null,null,null,null,null,null,null,null,0,0,null,0,null,null,{"$f":"IF(AND($B$4>\"BC-\",M4667>0),$B$4,\"\")","v":""},null,null,null,null,null,null,null,null,null,null,{"$error":"#DIV/0!"},0,0,0,0,0,0,0,0,"100%",null,null,0,0,0,0,1,0,0,0,0,0,1,"0","0","0","0","0","0",0,null,null,null,null,null,null,null,null,null,"0","0",0,"0","0","0","0",0,8,8,0,null,"0","0","0",0,0,0,0,0,"No","No",0,"*",null,"No","No","No",null,0]
[null,null,null,null,null,null,null,null,null,null,null,null,null,null,null,0,0,null,0,null,null,{"$f":"IF(AND($B$4>\"BC-\",M4694>0),$B$4,\"\")","v":""},null,null,null,null,null,null,null,null,null,null,{"$error":"#DIV/0!"},0,0,0,0,0,0,0,0,"100%",null,null,0,0,0,0,1,0,0,0,0,0,1,"0","0","0","0","0","0",0,null,null,null,null,null,null,null,null,null,"0","0",0,"0","0","0","0",0,8,8,0,null,"0","0","0",0,0,0,0,0,"No","No",0,"*",null,"No","No","No",null,0]
[null,null,null,null,null,null,null,null,null,null,null,null,null,null,null,0,0,null,0,null,null,{"$f":"IF(AND($B$4>\"BC-\",M4713>0),$B$4,\"\")","v":""},null,null,null,null,null,null,null,null,null,null,{"$error":"#DIV/0!"},0,0,0,0,0,0,0,0,"100%",null,null,0,0,0,0,1,0,0,0,0,0,1,"0","0","0","0","0","0",0,null,null,null,null,null,null,null,null,null,"0","0",0,"0","0","0","0",0,8,8,0,null,"0","0","0",0,0,0,0,0,"No","No",0,"*",null,"No","No","No",null,0]
[null,null,null,null,null,null,null,null,null,null,null,null,null,null,null,0,0,null,0,null,null,{"$f":"IF(AND($B$4>\"BC-\",M4732>0),$B$4,\"\")","v":""},null,null,null,null,null,null,null,null,null,null,{"$error":"#DIV/0!"},0,0,0,0,0,0,0,0,"100%",null,null,0,0,0,0,1,0,0,0,0,0,1,"0","0","0","0","0","0",0,null,null,null,null,null,null,null,null,null,"0","0",0,"0","0","0","0",0,8,8,0,null,"0","0","0",0,0,0,0,0,"No","No",0,"*",null,"No","No","No",null,0]
[null,null,null,null,null,null,null,null,null,null,null,null,null,null,null,0,0,null,0,null,null,{"$f":"IF(AND($B$4>\"BC-\",M4757>0),$B$4,\"\")","v":""},null,null,null,null,null,null,null,null,null,null,{"$error":"#DIV/0!"},0,0,0,0,0,0,0,0,"100%",null,null,0,0,0,0,1,0,0,0,0,0,1,"0","0","0","0","0","0",0,null,null,null,null,null,null,null,null,null,"0","0",0,"0","0","0","0",0,8,8,0,null,"0","0","0",0,0,0,0,0,"No","No",0,"*",null,"No","No","No",null,0]
[null,null,null,null,null,null,null,null,null,null,null,null,null,null,null,0,0,null,0,null,null,{"$f":"IF(AND($B$4>\"BC-\",M4766>0),$B$4,\"\")","v":""},null,null,null,null,null,null,null,null,null,null,{"$error":"#DIV/0!"},0,0,0,0,0,0,0,0,"100%",null,null,0,0,0,0,1,0,0,0,0,0,1,"0","0","0","0","0","0",0,null,null,null,null,null,null,null,null,null,"0","0",0,"0","0","0","0",0,8,8,0,null,"0","0","0",0,0,0,0,0,"No","No",0,"*",null,"No","No","No",null,0]
[null,null,null,null,null,null,null,null,null,null,null,null,null,null,null,0,0,null,0,null,null,{"$f":"IF(AND($B$4>\"BC-\",M4781>0),$B$4,\"\")","v":""},null,null,null,null,null,null,null,null,null,null,{"$error":"#DIV/0!"},0,0,0,0,0,0,0,0,"100%",null,null,0,0,0,0,1,0,0,0,0,0,1,"0","0","0","0","0","0",0,null,null,null,null,null,null,null,null,null,"0","0",0,"0","0","0","0",0,8,8,0,null,"0","0","0",0,0,0,0,0,"No","No",0,"*",null,"No","No","No",null,0]
[null,null,null,null,null,null,null,null,null,null,null,null,null,null,null,0,0,null,0,null,null,{"$f":"IF(AND($B$4>\"BC-\",M4800>0),$B$4,\"\")","v":""},null,null,null,null,null,null,null,null,null,null,{"$error":"#DIV/0!"},0,0,0,0,0,0,0,0,"100%",null,null,0,0,0,0,1,0,0,0,0,0,1,"0","0","0","0","0","0",0,null,null,null,null,null,null,null,null,null,"0","0",0,"0","0","0","0",0,8,8,0,null,"0","0","0",0,0,0,0,0,"No","No",0,"*",null,"No","No","No",null,0]
[null,null,null,null,null,null,null,null,null,null,null,null,null,null,null,0,0,null,0,null,null,{"$f":"IF(AND($B$4>\"BC-\",M4819>0),$B$4,\"\")","v":""},null,null,null,null,null,null,null,null,null,null,{"$error":"#DIV/0!"},0,0,0,0,0,0,0,0,"100%",null,null,0,0,0,0,1,0,0,0,0,0,1,"0","0","0","0","0","0",0,null,null,null,null,null,null,null,null,null,"0","0",0,"0","0","0","0",0,8,8,0,null,"0","0","0",0,0,0,0,0,"No","No",0,"*",null,"No","No","No",null,0]
[null,null,null,null,null,null,null,null,null,null,null,null,null,null,null,0,0,null,0,null,null,{"$f":"IF(AND($B$4>\"BC-\",M4844>0),$B$4,\"\")","v":""},null,null,null,null,null,null,null,null,null,null,{"$error":"#DIV/0!"},0,0,0,0,0,0,0,0,"100%",null,null,0,0,0,0,1,0,0,0,0,0,1,"0","0","0","0","0","0",0,null,null,null,null,null,null,null,null,null,"0","0",0,"0","0","0","0",0,8,8,0,null,"0","0","0",0,0,0,0,0,"No","No",0,"*",null,"No","No","No",null,0]
[null,null,null,null,null,null,null,null,null,null,null,null,null,null,null,0,0,null,0,null,null,{"$f":"IF(AND($B$4>\"BC-\",M4865>0),$B$4,\"\")","v":""},null,null,null,null,null,null,null,null,null,null,{"$error":"#DIV/0!"},0,0,0,0,0,0,0,0,"100%",null,null,0,0,0,0,1,0,0,0,0,0,1,"0","0","0","0","0","0",0,null,null,null,null,null,null,null,null,null,"0","0",0,"0","0","0","0",0,8,8,0,null,"0","0","0",0,0,0,0,0,"No","No",0,"*",null,"No","No","No",null,0]
[null,null,null,null,null,null,null,null,null,null,null,null,null,null,null,0,0,null,0,null,null,{"$f":"IF(AND($B$4>\"BC-\",M4881>0),$B$4,\"\")","v":""},null,null,null,null,null,null,null,null,null,null,{"$error":"#DIV/0!"},0,0,0,0,0,0,0,0,"100%",null,null,0,0,0,0,1,0,0,0,0,0,1,"0","0","0","0","0","0",0,null,null,null,null,null,null,null,null,null,"0","0",0,"0","0","0","0",0,8,8,0,null,"0","0","0",0,0,0,0,0,"No","No",0,"*",null,"No","No","No",null,0]
[null,null,null,null,null,null,null,null,null,null,null,null,null,null,null,0,0,null,0,null,null,{"$f":"IF(AND($B$4>\"BC-\",M4906>0),$B$4,\"\")","v":""},null,null,null,null,null,null,null,null,null,null,{"$error":"#DIV/0!"},0,0,0,0,0,0,0,0,"100%",null,null,0,0,0,0,1,0,0,0,0,0,1,"0","0","0","0","0","0",0,null,null,null,null,null,null,null,null,null,"0","0",0,"0","0","0","0",0,8,8,0,null,"0","0","0",0,0,0,0,0,"No","No",0,"*",null,"No","No","No",null,0]
[null,null,null,null,null,null,null,null,null,null,null,null,null,null,null,0,0,null,0,null,null,{"$f":"IF(AND($B$4>\"BC-\",M4925>0),$B$4,\"\")","v":""},null,null,null,null,null,null,null,null,null,null,{"$error":"#DIV/0!"},0,0,0,0,0,0,0,0,"100%",null,null,0,0,0,0,1,0,0,0,0,0,1,"0","0","0","0","0","0",0,null,null,null,null,null,null,null,null,null,"0","0",0,"0","0","0","0",0,8,8,0,null,"0","0","0",0,0,0,0,0,"No","No",0,"*",null,"No","No","No",null,0]
[null,null,null,null,null,null,null,null,null,null,null,null,null,null,null,0,0,null,0,null,null,{"$f":"IF(AND($B$4>\"BC-\",M4931>0),$B$4,\"\")","v":""},null,null,null,null,null,null,null,null,null,null,{"$error":"#DIV/0!"},0,0,0,0,0,0,0,0,"100%",null,null,0,0,0,0,1,0,0,0,0,0,1,"0","0","0","0","0","0",0,null,null,null,null,null,null,null,null,null,"0","0",0,"0","0","0","0",0,8,8,0,null,"0","0","0",0,0,0,0,0,"No","No",0,"*",null,"No","No","No",null,0]
[null,null,null,null,null,null,null,null,null,null,null,null,null,null,null,0,0,null,0,null,null,{"$f":"IF(AND($B$4>\"BC-\",M4949>0),$B$4,\"\")","v":""},null,null,null,null,null,null,null,null,null,null,{"$error":"#DIV/0!"},0,0,0,0,0,0,0,0,"100%",null,null,0,0,0,0,1,0,0,0,0,0,1,"0","0","0","0","0","0",0,null,null,null,null,null,null,null,null,null,"0","0",0,"0","0","0","0",0,8,8,0,null,"0","0","0",0,0,0,0,0,"No","No",0,"*",null,"No","No","No",null,0]
[null,null,null,null,null,null,null,null,null,null,null,null,null,null,null,0,0,null,0,null,null,{"$f":"IF(AND($B$4>\"BC-\",M4950>0),$B$4,\"\")","v":""},null,null,null,null,null,null,null,null,null,null,{"$error":"#DIV/0!"},0,0,0,0,0,0,0,0,"100%",null,null,0,0,0,0,1,0,0,0,0,0,1,"0","0","0","0","0","0",0,null,null,null,null,null,null,null,null,null,"0","0",0,"0","0","0","0",0,8,8,0,null,"0","0","0",0,0,0,0,0,"No","No",0,"*",null,"No","No","No",null,0]
[null,null,null,null,null,null,null,null,null,null,null,null,null,null,null,0,0,null,0,null,null,{"$f":"IF(AND($B$4>\"BC-\",M4951>0),$B$4,\"\")","v":""},null,null,null,null,null,null,null,null,null,null,{"$error":"#DIV/0!"},0,0,0,0,0,0,0,0,"100%",null,null,0,0,0,0,1,0,0,0,0,0,1,"0","0","0","0","0","0",0,null,null,null,null,null,null,null,null,null,"0","0",0,"0","0","0","0",0,8,8,0,null,"0","0","0",0,0,0,0,0,"No","No",0,"*",null,"No","No","No",null,0]
[null,null,null,null,null,null,null,null,null,null,null,null,null,null,null,0,0,null,0,null,null,{"$f":"IF(AND($B$4>\"BC-\",M4952>0),$B$4,\"\")","v":""},null,null,null,null,null,null,null,null,null,null,{"$error":"#DIV/0!"},0,0,0,0,0,0,0,0,"100%",null,null,0,0,0,0,1,0,0,0,0,0,1,"0","0","0","0","0","0",0,null,null,null,null,null,null,null,null,null,"0","0",0,"0","0","0","0",0,8,8,0,null,"0","0","0",0,0,0,0,0,"No","No",0,"*",null,"No","No","No",null,0]
[null,null,null,null,null,null,null,null,null,null,null,null,null,null,null,0,0,null,0,null,null,{"$f":"IF(AND($B$4>\"BC-\",M4953>0),$B$4,\"\")","v":""},null,null,null,null,null,null,null,null,null,null,{"$error":"#DIV/0!"},0,0,0,0,0,0,0,0,"100%",null,null,0,0,0,0,1,0,0,0,0,0,1,"0","0","0","0","0","0",0,null,null,null,null,null,null,null,null,null,"0","0",0,"0","0","0","0",0,8,8,0,null,"0","0","0",0,0,0,0,0,"No","No",0,"*",null,"No","No","No",null,0]
[null,null,null,null,null,null,null,null,null,null,null,null,null,null,null,0,0,null,0,null,null,{"$f":"IF(AND($B$4>\"BC-\",M4954>0),$B$4,\"\")","v":""},null,null,null,null,null,null,null,null,null,null,{"$error":"#DIV/0!"},0,0,0,0,0,0,0,0,"100%",null,null,0,0,0,0,1,0,0,0,0,0,1,"0","0","0","0","0","0",0,null,null,null,null,null,null,null,null,null,"0","0",0,"0","0","0","0",0,8,8,0,null,"0","0","0",0,0,0,0,0,"No","No",0,"*",null,"No","No","No",null,0]
[null,null,null,null,null,null,null,null,null,null,null,null,null,null,null,0,0,null,0,null,null,{"$f":"IF(AND($B$4>\"BC-\",M4955>0),$B$4,\"\")","v":""},null,null,null,null,null,null,null,null,null,null,{"$error":"#DIV/0!"},0,0,0,0,0,0,0,0,"100%",null,null,0,0,0,0,1,0,0,0,0,0,1,"0","0","0","0","0","0",0,null,null,null,null,null,null,null,null,null,"0","0",0,"0","0","0","0",0,8,8,0,null,"0","0","0",0,0,0,0,0,"No","No",0,"*",null,"No","No","No",null,0]
[null,null,null,null,null,null,null,null,null,null,null,null,null,null,null,0,0,null,0,null,null,{"$f":"IF(AND($B$4>\"BC-\",M4956>0),$B$4,\"\")","v":""},null,null,null,null,null,null,null,null,null,null,{"$error":"#DIV/0!"},0,0,0,0,0,0,0,0,"100%",null,null,0,0,0,0,1,0,0,0,0,0,1,"0","0","0","0","0","0",0,null,null,null,null,null,null,null,null,null,"0","0",0,"0","0","0","0",0,8,8,0,null,"0","0","0",0,0,0,0,0,"No","No",0,"*",null,"No","No","No",null,0]
[null,null,null,null,null,null,null,null,null,null,null,null,null,null,null,0,0,null,0,null,null,{"$f":"IF(AND($B$4>\"BC-\",M4957>0),$B$4,\"\")","v":""},null,null,null,null,null,null,null,null,null,null,{"$error":"#DIV/0!"},0,0,0,0,0,0,0,0,"100%",null,null,0,0,0,0,1,0,0,0,0,0,1,"0","0","0","0","0","0",0,null,null,null,null,null,null,null,null,null,"0","0",0,"0","0","0","0",0,8,8,0,null,"0","0","0",0,0,0,0,0,"No","No",0,"*",null,"No","No","No",null,0]
[null,null,null,null,null,null,null,null,null,null,null,null,null,null,null,0,0,null,0,null,null,{"$f":"IF(AND($B$4>\"BC-\",M4958>0),$B$4,\"\")","v":""},null,null,null,null,null,null,null,null,null,null,{"$error":"#DIV/0!"},0,0,0,0,0,0,0,0,"100%",null,null,0,0,0,0,1,0,0,0,0,0,1,"0","0","0","0","0","0",0,null,null,null,null,null,null,null,null,null,"0","0",0,"0","0","0","0",0,8,8,0,null,"0","0","0",0,0,0,0,0,"No","No",0,"*",null,"No","No","No",null,0]
[null,null,null,null,null,null,null,null,null,null,null,null,null,null,null,0,0,null,0,null,null,{"$f":"IF(AND($B$4>\"BC-\",M4959>0),$B$4,\"\")","v":""},null,null,null,null,null,null,null,null,null,null,{"$error":"#DIV/0!"},0,0,0,0,0,0,0,0,"100%",null,null,0,0,0,0,1,0,0,0,0,0,1,"0","0","0","0","0","0",0,null,null,null,null,null,null,null,null,null,"0","0",0,"0","0","0","0",0,8,8,0,null,"0","0","0",0,0,0,0,0,"No","No",0,"*",null,"No","No","No",null,0]
[null,null,null,null,null,null,null,null,null,null,null,null,null,null,null,0,0,null,0,null,null,{"$f":"IF(AND($B$4>\"BC-\",M4960>0),$B$4,\"\")","v":""},null,null,null,null,null,null,null,null,null,null,{"$error":"#DIV/0!"},0,0,0,0,0,0,0,0,"100%",null,null,0,0,0,0,1,0,0,0,0,0,1,"0","0","0","0","0","0",0,null,null,null,null,null,null,null,null,null,"0","0",0,"0","0","0","0",0,8,8,0,null,"0","0","0",0,0,0,0,0,"No","No",0,"*",null,"No","No","No",null,0]
[null,null,null,null,null,null,null,null,null,null,null,null,null,null,null,0,0,null,0,null,null,{"$f":"IF(AND($B$4>\"BC-\",M4961>0),$B$4,\"\")","v":""},null,null,null,null,null,null,null,null,null,null,{"$error":"#DIV/0!"},0,0,0,0,0,0,0,0,"100%",null,null,0,0,0,0,1,0,0,0,0,0,1,"0","0","0","0","0","0",0,null,null,null,null,null,null,null,null,null,"0","0",0,"0","0","0","0",0,8,8,0,null,"0","0","0",0,0,0,0,0,"No","No",0,"*",null,"No","No","No",null,0]
[null,null,null,null,null,null,null,null,null,null,null,null,null,null,null,0,0,null,0,null,null,{"$f":"IF(AND($B$4>\"BC-\",M4962>0),$B$4,\"\")","v":""},null,null,null,null,null,null,null,null,null,null,{"$error":"#DIV/0!"},0,0,0,0,0,0,0,0,"100%",null,null,0,0,0,0,1,0,0,0,0,0,1,"0","0","0","0","0","0",0,null,null,null,null,null,null,null,null,null,"0","0",0,"0","0","0","0",0,8,8,0,null,"0","0","0",0,0,0,0,0,"No","No",0,"*",null,"No","No","No",null,0]
[null,null,null,null,null,null,null,null,null,null,null,null,null,null,null,0,0,null,0,null,null,{"$f":"IF(AND($B$4>\"BC-\",M4963>0),$B$4,\"\")","v":""},null,null,null,null,null,null,null,null,null,null,{"$error":"#DIV/0!"},0,0,0,0,0,0,0,0,"100%",null,null,0,0,0,0,1,0,0,0,0,0,1,"0","0","0","0","0","0",0,null,null,null,null,null,null,null,null,null,"0","0",0,"0","0","0","0",0,8,8,0,null,"0","0","0",0,0,0,0,0,"No","No",0,"*",null,"No","No","No",null,0]
[null,null,null,null,null,null,null,null,null,null,null,null,null,null,null,0,0,null,0,null,null,{"$f":"IF(AND($B$4>\"BC-\",M4964>0),$B$4,\"\")","v":""},null,null,null,null,null,null,null,null,null,null,{"$error":"#DIV/0!"},0,0,0,0,0,0,0,0,"100%",null,null,0,0,0,0,1,0,0,0,0,0,1,"0","0","0","0","0","0",0,null,null,null,null,null,null,null,null,null,"0","0",0,"0","0","0","0",0,8,8,0,null,"0","0","0",0,0,0,0,0,"No","No",0,"*",null,"No","No","No",null,0]
[null,null,null,null,null,null,null,null,null,null,null,null,null,null,null,0,0,null,0,null,null,{"$f":"IF(AND($B$4>\"BC-\",M4965>0),$B$4,\"\")","v":""},null,null,null,null,null,null,null,null,null,null,{"$error":"#DIV/0!"},0,0,0,0,0,0,0,0,"100%",null,null,0,0,0,0,1,0,0,0,0,0,1,"0","0","0","0","0","0",0,null,null,null,null,null,null,null,null,null,"0","0",0,"0","0","0","0",0,8,8,0,null,"0","0","0",0,0,0,0,0,"No","No",0,"*",null,"No","No","No",null,0]
[null,null,null,null,null,null,null,null,null,null,null,null,null,null,null,0,0,null,0,null,null,{"$f":"IF(AND($B$4>\"BC-\",M4966>0),$B$4,\"\")","v":""},null,null,null,null,null,null,null,null,null,null,{"$error":"#DIV/0!"},0,0,0,0,0,0,0,0,"100%",null,null,0,0,0,0,1,0,0,0,0,0,1,"0","0","0","0","0","0",0,null,null,null,null,null,null,null,null,null,"0","0",0,"0","0","0","0",0,8,8,0,null,"0","0","0",0,0,0,0,0,"No","No",0,"*",null,"No","No","No",null,0]
[null,null,null,null,null,null,null,null,null,null,null,null,null,null,null,0,0,null,0,null,null,{"$f":"IF(AND($B$4>\"BC-\",M4967>0),$B$4,\"\")","v":""},null,null,null,null,null,null,null,null,null,null,{"$error":"#DIV/0!"},0,0,0,0,0,0,0,0,"100%",null,null,0,0,0,0,1,0,0,0,0,0,1,"0","0","0","0","0","0",0,null,null,null,null,null,null,null,null,null,"0","0",0,"0","0","0","0",0,8,8,0,null,"0","0","0",0,0,0,0,0,"No","No",0,"*",null,"No","No","No",null,0]
[null,null,null,null,null,null,null,null,null,null,null,null,null,null,null,0,0,null,0,null,null,{"$f":"IF(AND($B$4>\"BC-\",M4968>0),$B$4,\"\")","v":""},null,null,null,null,null,null,null,null,null,null,{"$error":"#DIV/0!"},0,0,0,0,0,0,0,0,"100%",null,null,0,0,0,0,1,0,0,0,0,0,1,"0","0","0","0","0","0",0,null,null,null,null,null,null,null,null,null,"0","0",0,"0","0","0","0",0,8,8,0,null,"0","0","0",0,0,0,0,0,"No","No",0,"*",null,"No","No","No",null,0]
[null,null,null,null,null,null,null,null,null,null,null,null,null,null,null,0,0,null,0,null,null,{"$f":"IF(AND($B$4>\"BC-\",M4969>0),$B$4,\"\")","v":""},null,null,null,null,null,null,null,null,null,null,{"$error":"#DIV/0!"},0,0,0,0,0,0,0,0,"100%",null,null,0,0,0,0,1,0,0,0,0,0,1,"0","0","0","0","0","0",0,null,null,null,null,null,null,null,null,null,"0","0",0,"0","0","0","0",0,8,8,0,null,"0","0","0",0,0,0,0,0,"No","No",0,"*",null,"No","No","No",null,0]
[null,null,null,null,null,null,null,null,null,null,null,null,null,null,null,0,0,null,0,null,null,{"$f":"IF(AND($B$4>\"BC-\",M4970>0),$B$4,\"\")","v":""},null,null,null,null,null,null,null,null,null,null,{"$error":"#DIV/0!"},0,0,0,0,0,0,0,0,"100%",null,null,0,0,0,0,1,0,0,0,0,0,1,"0","0","0","0","0","0",0,null,null,null,null,null,null,null,null,null,"0","0",0,"0","0","0","0",0,8,8,0,null,"0","0","0",0,0,0,0,0,"No","No",0,"*",null,"No","No","No",null,0]
[null,null,null,null,null,null,null,null,null,null,null,null,null,null,null,0,0,null,0,null,null,{"$f":"IF(AND($B$4>\"BC-\",M4971>0),$B$4,\"\")","v":""},null,null,null,null,null,null,null,null,null,null,{"$error":"#DIV/0!"},0,0,0,0,0,0,0,0,"100%",null,null,0,0,0,0,1,0,0,0,0,0,1,"0","0","0","0","0","0",0,null,null,null,null,null,null,null,null,null,"0","0",0,"0","0","0","0",0,8,8,0,null,"0","0","0",0,0,0,0,0,"No","No",0,"*",null,"No","No","No",null,0]
[null,null,null,null,null,null,null,null,null,null,null,null,null,null,null,0,0,null,0,null,null,{"$f":"IF(AND($B$4>\"BC-\",M4972>0),$B$4,\"\")","v":""},null,null,null,null,null,null,null,null,null,null,{"$error":"#DIV/0!"},0,0,0,0,0,0,0,0,"100%",null,null,0,0,0,0,1,0,0,0,0,0,1,"0","0","0","0","0","0",0,null,null,null,null,null,null,null,null,null,"0","0",0,"0","0","0","0",0,8,8,0,null,"0","0","0",0,0,0,0,0,"No","No",0,"*",null,"No","No","No",null,0]
[null,null,null,null,null,null,null,null,null,null,null,null,null,null,null,0,0,null,0,null,null,{"$f":"IF(AND($B$4>\"BC-\",M4973>0),$B$4,\"\")","v":""},null,null,null,null,null,null,null,null,null,null,{"$error":"#DIV/0!"},0,0,0,0,0,0,0,0,"100%",null,null,0,0,0,0,1,0,0,0,0,0,1,"0","0","0","0","0","0",0,null,null,null,null,null,null,null,null,null,"0","0",0,"0","0","0","0",0,8,8,0,null,"0","0","0",0,0,0,0,0,"No","No",0,"*",null,"No","No","No",null,0]
[null,null,null,null,null,null,null,null,null,null,null,null,null,null,null,0,0,null,0,null,null,{"$f":"IF(AND($B$4>\"BC-\",M4974>0),$B$4,\"\")","v":""},null,null,null,null,null,null,null,null,null,null,{"$error":"#DIV/0!"},0,0,0,0,0,0,0,0,"100%",null,null,0,0,0,0,1,0,0,0,0,0,1,"0","0","0","0","0","0",0,null,null,null,null,null,null,null,null,null,"0","0",0,"0","0","0","0",0,8,8,0,null,"0","0","0",0,0,0,0,0,"No","No",0,"*",null,"No","No","No",null,0]
[null,null,null,null,null,null,null,null,null,null,null,null,null,null,null,0,0,null,0,null,null,{"$f":"IF(AND($B$4>\"BC-\",M4975>0),$B$4,\"\")","v":""},null,null,null,null,null,null,null,null,null,null,{"$error":"#DIV/0!"},0,0,0,0,0,0,0,0,"100%",null,null,0,0,0,0,1,0,0,0,0,0,1,"0","0","0","0","0","0",0,null,null,null,null,null,null,null,null,null,"0","0",0,"0","0","0","0",0,8,8,0,null,"0","0","0",0,0,0,0,0,"No","No",0,"*",null,"No","No","No",null,0]
[null,null,null,null,null,null,null,null,null,null,null,null,null,null,null,0,0,null,0,null,null,{"$f":"IF(AND($B$4>\"BC-\",M4976>0),$B$4,\"\")","v":""},null,null,null,null,null,null,null,null,null,null,{"$error":"#DIV/0!"},0,0,0,0,0,0,0,0,"100%",null,null,0,0,0,0,1,0,0,0,0,0,1,"0","0","0","0","0","0",0,null,null,null,null,null,null,null,null,null,"0","0",0,"0","0","0","0",0,8,8,0,null,"0","0","0",0,0,0,0,0,"No","No",0,"*",null,"No","No","No",null,0]
[null,null,null,null,null,null,null,null,null,null,null,null,null,null,null,0,0,null,0,null,null,{"$f":"IF(AND($B$4>\"BC-\",M4977>0),$B$4,\"\")","v":""},null,null,null,null,null,null,null,null,null,null,{"$error":"#DIV/0!"},0,0,0,0,0,0,0,0,"100%",null,null,0,0,0,0,1,0,0,0,0,0,1,"0","0","0","0","0","0",0,null,null,null,null,null,null,null,null,null,"0","0",0,"0","0","0","0",0,8,8,0,null,"0","0","0",0,0,0,0,0,"No","No",0,"*",null,"No","No","No",null,0]
[null,null,null,null,null,null,null,null,null,null,null,null,null,null,null,0,0,null,0,null,null,{"$f":"IF(AND($B$4>\"BC-\",M4978>0),$B$4,\"\")","v":""},null,null,null,null,null,null,null,null,null,null,{"$error":"#DIV/0!"},0,0,0,0,0,0,0,0,"100%",null,null,0,0,0,0,1,0,0,0,0,0,1,"0","0","0","0","0","0",0,null,null,null,null,null,null,null,null,null,"0","0",0,"0","0","0","0",0,8,8,0,null,"0","0","0",0,0,0,0,0,"No","No",0,"*",null,"No","No","No",null,0]
[null,null,null,null,null,null,null,null,null,null,null,null,null,null,null,0,0,null,0,null,null,{"$f":"IF(AND($B$4>\"BC-\",M4979>0),$B$4,\"\")","v":""},null,null,null,null,null,null,null,null,null,null,{"$error":"#DIV/0!"},0,0,0,0,0,0,0,0,"100%",null,null,0,0,0,0,1,0,0,0,0,0,1,"0","0","0","0","0","0",0,null,null,null,null,null,null,null,null,null,"0","0",0,"0","0","0","0",0,8,8,0,null,"0","0","0",0,0,0,0,0,"No","No",0,"*",null,"No","No","No",null,0]
[null,null,null,null,null,null,null,null,null,null,null,null,null,null,null,0,0,null,0,null,null,{"$f":"IF(AND($B$4>\"BC-\",M4980>0),$B$4,\"\")","v":""},null,null,null,null,null,null,null,null,null,null,{"$f":"VALUE(AJ4980)*((AO4980+BJ4980)*$AA$1)/AI4980","v":{"$error":"#DIV/0!"}},{"$f":"((AO4980+BJ4980)*$AA$1)","v":0},0,0,{"$f":"P4980/365","v":0},{"$f":"AI4980*AK4980","v":0},{"$f":"AL4980*AP4980","v":0},{"$f":"AW4980*AM4980","v":0},{"$f":"BC4980*AN4980","v":0},{"$f":"IF(OR(I4980=1,I4980=0),\"100%\",I4980)","v":"100%"},null,null,{"$f":"IF(J4980=8,50%,0)","v":0},{"$f":"IF(J4980=16,65%,0)","v":0},{"$f":"IF(J4980=24,80%,0)","v":0},{"$f":"SUM(AS4980:AU4980)","v":0},{"$f":"IF(AV4980=0,100%,AV4980)","v":1},{"$f":"IF(OR(K4980=\"R\", K4980=\"F\"),50%,0)","v":0},{"$f":"IF(K4980=\"Y1\",25%,0)","v":0},{"$f":"IF(K4980=\"Y2\",50%,0)","v":0},{"$f":"IF(K4980=\"Y3\",75%,0)","v":0},{"$f":"SUM(AX4980:BA4980)","v":0},{"$f":"IF(BB4980=0,100%,BB4980)","v":1},{"$f":"IF(AND(L4980=\"DX\",N4980<\"02001\"),IF(OR(M4980=51),10106),\"0\")","v":"0"},{"$f":"IF(AND(L4980=\"DX\",N4980<\"02001\",M4980<>23,M4980<>51,M4980<>2,M4980<>43,M4980<>63,M4980<>65,M4980<>9,M4980<>46,M4980<>54,M4980<>15,M4980<>35,M4980<>45,M4980<>6,M4980<>7,M4980<>21,M4980<>22,M4980<>25,M4980<>39,M4980<>40,M4980<>48,M4980<>67),5558,\"0\")","v":"0"},{"$f":"IF(AND(L4980=\"DX\",N4980<\"02001\"),IF(OR(M4980=2,M4980=3,M4980=22,M4980=33,M4980=63,M4980=65),6063),\"0\")","v":"0"},{"$f":"IF(AND(L4980=\"DX\",N4980<\"02001\"),IF(OR(M4980=9,M4980=26,M4980=35,M4980=40,M4980=43,M4980=46),8591),\"0\")","v":"0"},{"$f":"IF(AND(L4980=\"DX\",N4980<\"02001\"),IF(OR(M4980=23),8591),\"0\")","v":"0"},{"$f":"IF(AND(L4980=\"DX\",N4980<\"02001\"),IF(OR(M4980=7,M4980=15,M4980=19,M4980=20,M4980=25,M4980=37,M4980=45,M4980=48,M4980=54),6063),\"0\")","v":"0"},{"$f":"SUM(BD4980:BI4980)","v":0},null,null,null,null,null,null,null,null,null,{"$f":"LEFT(CD4980,3)","v":"0"},{"$f":"IF(OR(M4980=51),1,\"0\")","v":"0"},{"$f":"IF(OR(M4980=4,M4980=13,M4980=17,M4980=3,M4980=33,M4980=23,M4980=51,M4980=2,M4980=26,M4980=37,M4980=63,M4980=65,M4980=9,M4980=35,M4980=46,M4980=15,M4980=45,M4980=7,M4980=19,M4980=20,M4980=22,M4980=25,M4980=39,M4980=40,M4980=43,M4980=48, M4980=54,M4980=0),0,\"2\")","v":0},{"$f":"IF(OR(M4980=2,M4980=3,M4980=4,M4980=13,M4980=17,M4980=22,M4980=33,M4980=63),3,\"0\")","v":"0"},{"$f":"IF(OR(M4980=23,M4980=26,M4980=40,M4980=43),4,\"0\")","v":"0"},{"$f":"IF(OR(M4980=35),5,\"0\")","v":"0"},{"$f":"IF(OR(M4980=9,M4980=15,M4980=19,M4980=20,M4980=25,M4980=37,M4980=39,M4980=45,M4980=46,M4980=48,M4980=54,M4980=65),6,\"0\")","v":"0"},{"$f":"IF(M4980=7,7,0)","v":0},{"$f":"SUM(BU4980+BV4980+BW4980+BX4980+BY4980+BZ4980+CA4980+CC4980)","v":8},{"$f":"IF(M4980=0,8,0)","v":8},{"$f":"IF(N4980=\"00651\",\"00551\",IF(AND(N4980=\"80993\"),\"12093\",IF(AND(N4980=\"80994\"),\"13094\",N4980)))","v":0},null,{"$f":"IF(OR(CJ4980=70, CJ4980=80, CJ4980=90, CJ4980=100, CJ4980=801),CK4980*0%,\"0\")","v":"0"},{"$f":"IF(OR(CJ4980=6,CJ4980=7,CJ4980=10,CJ4980=12,CJ4980=15,CJ4980=20,CJ4980=22,CJ4980=30,CJ4980=35,CJ4980=50,CJ4980=60),CK4980*50%,\"0\")","v":"0"},{"$f":"IF(OR(CJ4980=120,CJ4980=130),CK4980,\"0\")","v":"0"},{"$f":"SUM(CF4980:CH4980)","v":0},{"$f":"VALUE(BT4980)","v":0},{"$f":"ROUND(IF(E4980>1,VALUE(AG4980),VALUE(AH4980)),0)","v":0},{"$f":"IF(OR(CJ4980=120,CJ4980=130),CK4980,CK4980)","v":0},0,{"$f":"IF(AND(U4980=\"New\",F4980<C4980),\"Yes\",\"No\")","v":"No"},{"$f":"IF(AND(U4980=\"New\",F4980=C4980),\"Yes\",\"No\")","v":"No"},{"$f":"IF(CO4980=\"Yes\",CQ4980,G4980)","v":0},{"$f":"CONCATENATE(G4980,$CP$9)","v":"*"},null,"No","No","No",null,0]
[null,null,null,null,null,null,null,null,null,null,null,null,null,null,null,{"$f":"IF(M4981>0,INDEX($BM$1:$BS$903,BT4981,CB4981),0)","v":0},0,null,0,null,null,{"$f":"IF(AND($B$4>\"BC-\",M4981>0),$B$4,\"\")","v":""},null,null,null,null,null,null,null,null,null,null,{"$error":"#DIV/0!"},0,0,0,0,0,0,0,0,"100%",null,null,0,0,0,0,1,0,0,0,0,0,1,"0","0","0","0","0","0",0,null,null,null,null,null,null,null,null,null,"0","0",0,"0","0","0","0",0,8,8,0,null,"0","0","0",0,0,0,0,0,"No","No",0,"*",null,"No","No","No",null,0]
[null,null,null,null,null,null,null,null,null,null,null,null,null,null,null,0,0,null,0,null,null,{"$f":"IF(AND($B$4>\"BC-\",M4982>0),$B$4,\"\")","v":""},null,null,null,null,null,null,null,null,null,null,{"$error":"#DIV/0!"},0,0,0,0,0,0,0,0,"100%",null,null,0,0,0,0,1,0,0,0,0,0,1,"0","0","0","0","0","0",0,null,null,null,null,null,null,null,null,null,"0","0",0,"0","0","0","0",0,8,8,0,null,"0","0","0",0,0,0,0,0,"No","No",0,"*",null,"No","No","No",null,0]
[null,null,null,null,null,null,null,null,null,null,null,null,null,null,null,0,0,null,0,null,null,{"$f":"IF(AND($B$4>\"BC-\",M4983>0),$B$4,\"\")","v":""},null,null,null,null,null,null,null,null,null,null,{"$error":"#DIV/0!"},0,0,0,0,0,0,0,0,"100%",null,null,0,0,0,0,1,0,0,0,0,0,1,"0","0","0","0","0","0",0,null,null,null,null,null,null,null,null,null,"0","0",0,"0","0","0","0",0,8,8,0,null,"0","0","0",0,0,0,0,0,"No","No",0,"*",null,"No","No","No",null,0]
[null,null,null,null,null,null,null,null,null,null,null,null,null,null,null,0,0,null,0,null,null,{"$f":"IF(AND($B$4>\"BC-\",M4984>0),$B$4,\"\")","v":""},null,null,null,null,null,null,null,null,null,null,{"$error":"#DIV/0!"},0,0,0,0,0,0,0,0,"100%",null,null,0,0,0,0,1,0,0,0,0,0,1,"0","0","0","0","0","0",0,null,null,null,null,null,null,null,null,null,"0","0",0,"0","0","0","0",0,8,8,0,null,"0","0","0",0,0,0,0,0,"No","No",0,"*",null,"No","No","No",null,0]
[null,null,null,null,null,null,null,null,null,null,null,null,null,null,null,0,0,null,0,null,null,{"$f":"IF(AND($B$4>\"BC-\",M4985>0),$B$4,\"\")","v":""},null,null,null,null,null,null,null,null,null,null,{"$error":"#DIV/0!"},0,0,0,0,0,0,0,0,"100%",null,null,0,0,0,0,1,0,0,0,0,0,1,"0","0","0","0","0","0",0,null,null,null,null,null,null,null,null,null,"0","0",0,"0","0","0","0",0,8,8,0,null,"0","0","0",0,0,0,0,0,"No","No",0,"*",null,"No","No","No",null,0]
[null,null,null,null,null,null,null,null,null,null,null,null,null,null,null,0,0,null,0,null,null,{"$f":"IF(AND($B$4>\"BC-\",M4986>0),$B$4,\"\")","v":""},null,null,null,null,null,null,null,null,null,null,{"$error":"#DIV/0!"},0,0,0,0,0,0,0,0,"100%",null,null,0,0,0,0,1,0,0,0,0,0,1,"0","0","0","0","0","0",0,null,null,null,null,null,null,null,null,null,"0","0",0,"0","0","0","0",0,8,8,0,null,"0","0","0",0,0,0,0,0,"No","No",0,"*",null,"No","No","No",null,0]
[null,null,null,null,null,null,null,null,null,null,null,null,null,null,null,0,0,null,0,null,null,{"$f":"IF(AND($B$4>\"BC-\",M4987>0),$B$4,\"\")","v":""},null,null,null,null,null,null,null,null,null,null,{"$error":"#DIV/0!"},0,0,0,0,0,0,0,0,"100%",null,null,0,0,0,0,1,0,0,0,0,0,1,"0","0","0","0","0","0",0,null,null,null,null,null,null,null,null,null,"0","0",0,"0","0","0","0",0,8,8,0,null,"0","0","0",0,0,0,0,0,"No","No",0,"*",null,"No","No","No",null,0]
[null,null,null,null,null,null,null,null,null,null,null,null,null,null,null,0,0,null,0,null,null,{"$f":"IF(AND($B$4>\"BC-\",M4988>0),$B$4,\"\")","v":""},null,null,null,null,null,null,null,null,null,null,{"$error":"#DIV/0!"},0,0,0,0,0,0,0,0,"100%",null,null,0,0,0,0,1,0,0,0,0,0,1,"0","0","0","0","0","0",0,null,null,null,null,null,null,null,null,null,"0","0",0,"0","0","0","0",0,8,8,0,null,"0","0","0",0,0,0,0,0,"No","No",0,"*",null,"No","No","No",null,0]
[null,null,null,null,null,null,null,null,null,null,null,null,null,null,null,0,0,null,0,null,null,{"$f":"IF(AND($B$4>\"BC-\",M4989>0),$B$4,\"\")","v":""},null,null,null,null,null,null,null,null,null,null,{"$error":"#DIV/0!"},0,0,0,0,0,0,0,0,"100%",null,null,0,0,0,0,1,0,0,0,0,0,1,"0","0","0","0","0","0",0,null,null,null,null,null,null,null,null,null,"0","0",0,"0","0","0","0",0,8,8,0,null,"0","0","0",0,0,0,0,0,"No","No",0,"*",null,"No","No","No",null,0]
[null,null,null,null,null,null,null,null,null,null,null,null,null,null,null,0,0,null,0,null,null,{"$f":"IF(AND($B$4>\"BC-\",M4990>0),$B$4,\"\")","v":""},null,null,null,null,null,null,null,null,null,null,{"$error":"#DIV/0!"},0,0,0,0,0,0,0,0,"100%",null,null,0,0,0,0,1,0,0,0,0,0,1,"0","0","0","0","0","0",0,null,null,null,null,null,null,null,null,null,"0","0",0,"0","0","0","0",0,8,8,0,null,"0","0","0",0,0,0,0,0,"No","No",0,"*",null,"No","No","No",null,0]
[null,null,null,null,null,null,null,null,null,null,null,null,null,null,null,0,0,null,0,null,null,{"$f":"IF(AND($B$4>\"BC-\",M4991>0),$B$4,\"\")","v":""},null,null,null,null,null,null,null,null,null,null,{"$error":"#DIV/0!"},0,0,0,0,0,0,0,0,"100%",null,null,0,0,0,0,1,0,0,0,0,0,1,"0","0","0","0","0","0",0,null,null,null,null,null,null,null,null,null,"0","0",0,"0","0","0","0",0,8,8,0,null,"0","0","0",0,0,0,0,0,"No","No",0,"*",null,"No","No","No",null,0]
[null,null,null,null,null,null,null,null,null,null,null,null,null,null,null,0,0,null,0,null,null,{"$f":"IF(AND($B$4>\"BC-\",M4992>0),$B$4,\"\")","v":""},null,null,null,null,null,null,null,null,null,null,{"$error":"#DIV/0!"},0,0,0,0,0,0,0,0,"100%",null,null,0,0,0,0,1,0,0,0,0,0,1,"0","0","0","0","0","0",0,null,null,null,null,null,null,null,null,null,"0","0",0,"0","0","0","0",0,8,8,0,null,"0","0","0",0,0,0,0,0,"No","No",0,"*",null,"No","No","No",null,0]
[null,null,null,null,null,null,null,null,null,null,null,null,null,null,null,0,0,null,0,null,null,{"$f":"IF(AND($B$4>\"BC-\",M4993>0),$B$4,\"\")","v":""},null,null,null,null,null,null,null,null,null,null,{"$error":"#DIV/0!"},0,0,0,0,0,0,0,0,"100%",null,null,0,0,0,0,1,0,0,0,0,0,1,"0","0","0","0","0","0",0,null,null,null,null,null,null,null,null,null,"0","0",0,"0","0","0","0",0,8,8,0,null,"0","0","0",0,0,0,0,0,"No","No",0,"*",null,"No","No","No",null,0]
[null,null,null,null,null,null,null,null,null,null,null,null,null,null,null,0,0,null,0,null,null,{"$f":"IF(AND($B$4>\"BC-\",M4994>0),$B$4,\"\")","v":""},null,null,null,null,null,null,null,null,null,null,{"$error":"#DIV/0!"},0,0,0,0,0,0,0,0,"100%",null,null,0,0,0,0,1,0,0,0,0,0,1,"0","0","0","0","0","0",0,null,null,null,null,null,null,null,null,null,"0","0",0,"0","0","0","0",0,8,8,0,null,"0","0","0",0,0,0,0,0,"No","No",0,"*",null,"No","No","No",null,0]
[null,null,null,null,null,null,null,null,null,null,null,null,null,null,null,0,0,null,0,null,null,{"$f":"IF(AND($B$4>\"BC-\",M4995>0),$B$4,\"\")","v":""},null,null,null,null,null,null,null,null,null,null,{"$error":"#DIV/0!"},0,0,0,0,0,0,0,0,"100%",null,null,0,0,0,0,1,0,0,0,0,0,1,"0","0","0","0","0","0",0,null,null,null,null,null,null,null,null,null,"0","0",0,"0","0","0","0",0,8,8,0,null,"0","0","0",0,0,0,0,0,"No","No",0,"*",null,"No","No","No",null,0]
[null,null,null,null,null,null,null,null,null,null,null,null,null,null,null,0,0,null,0,null,null,{"$f":"IF(AND($B$4>\"BC-\",M4996>0),$B$4,\"\")","v":""},null,null,null,null,null,null,null,null,null,null,{"$error":"#DIV/0!"},0,0,0,0,0,0,0,0,"100%",null,null,0,0,0,0,1,0,0,0,0,0,1,"0","0","0","0","0","0",0,null,null,null,null,null,null,null,null,null,"0","0",0,"0","0","0","0",0,8,8,0,null,"0","0","0",0,0,0,0,0,"No","No",0,"*",null,"No","No","No",null,0]
[null,null,null,null,null,null,null,null,null,null,null,null,null,null,null,0,0,null,0,null,null,{"$f":"IF(AND($B$4>\"BC-\",M4997>0),$B$4,\"\")","v":""},null,null,null,null,null,null,null,null,null,null,{"$error":"#DIV/0!"},0,0,0,0,0,0,0,0,"100%",null,null,0,0,0,0,1,0,0,0,0,0,1,"0","0","0","0","0","0",0,null,null,null,null,null,null,null,null,null,"0","0",0,"0","0","0","0",0,8,8,0,null,"0","0","0",0,0,0,0,0,"No","No",0,"*",null,"No","No","No",null,0]
[null,null,null,null,null,null,null,null,null,null,null,null,null,null,null,0,0,null,0,null,null,{"$f":"IF(AND($B$4>\"BC-\",M4998>0),$B$4,\"\")","v":""},null,null,null,null,null,null,null,null,null,null,{"$error":"#DIV/0!"},0,0,0,0,0,0,0,0,"100%",null,null,0,0,0,0,1,0,0,0,0,0,1,"0","0","0","0","0","0",0,null,null,null,null,null,null,null,null,null,"0","0",0,"0","0","0","0",0,8,8,0,null,"0","0","0",0,0,0,0,0,"No","No",0,"*",null,"No","No","No",null,0]
[null,null,null,null,null,null,null,null,null,null,null,null,null,null,null,0,0,null,0,null,null,{"$f":"IF(AND($B$4>\"BC-\",M4999>0),$B$4,\"\")","v":""},null,null,null,null,null,null,null,null,null,null,{"$error":"#DIV/0!"},0,0,0,0,0,0,0,0,"100%",null,null,0,0,0,0,1,0,0,0,0,0,1,"0","0","0","0","0","0",0,null,null,null,null,null,null,null,null,null,"0","0",0,"0","0","0","0",0,8,8,0,null,"0","0","0",0,0,0,0,0,"No","No",0,"*",null,"No","No","No",null,0]
[null,null,null,null,null,null,null,null,null,null,null,null,null,null,null,0,0,null,0,null,null,{"$f":"IF(AND($B$4>\"BC-\",M5000>0),$B$4,\"\")","v":""},null,null,null,null,null,null,null,null,null,null,{"$error":"#DIV/0!"},0,0,0,0,0,0,0,0,"100%",null,null,0,0,0,0,1,0,0,0,0,0,1,"0","0","0","0","0","0",0,null,null,null,null,null,null,null,null,null,"0","0",0,"0","0","0","0",0,8,8,0,null,"0","0","0",0,0,0,0,0,"No","No",0,"*",null,"No","No","No",null,0]
[null,null,null,null,null,null,null,null,null,null,null,null,null,null,null,{"$f":"IF(M5001>0,INDEX($BM$1:$BS$903,BT5001,CB5001),0)","v":0},0,null,0,null,null,{"$f":"IF(AND($B$4>\"BC-\",M5001>0),$B$4,\"\")","v":""},null,null,null,null,null,null,null,null,null,null,{"$f":"VALUE(AJ5001)*((AO5001+BJ5001)*$AA$1)/AI5001","v":{"$error":"#DIV/0!"}},{"$f":"((AO5001+BJ5001)*$AA$1)","v":0},0,0,{"$f":"P5001/365","v":0},{"$f":"AI5001*AK5001","v":0},{"$f":"AL5001*AP5001","v":0},{"$f":"AW5001*AM5001","v":0},{"$f":"BC5001*AN5001","v":0},{"$f":"IF(OR(I5001=1,I5001=0),\"100%\",I5001)","v":"100%"},null,null,{"$f":"IF(J5001=8,50%,0)","v":0},{"$f":"IF(J5001=16,65%,0)","v":0},{"$f":"IF(J5001=24,80%,0)","v":0},{"$f":"SUM(AS5001:AU5001)","v":0},{"$f":"IF(AV5001=0,100%,AV5001)","v":1},{"$f":"IF(OR(K5001=\"R\", K5001=\"F\"),50%,0)","v":0},{"$f":"IF(K5001=\"Y1\",25%,0)","v":0},{"$f":"IF(K5001=\"Y2\",50%,0)","v":0},{"$f":"IF(K5001=\"Y3\",75%,0)","v":0},{"$f":"SUM(AX5001:BA5001)","v":0},{"$f":"IF(BB5001=0,100%,BB5001)","v":1},{"$f":"IF(AND(L5001=\"DX\",N5001<\"02001\"),IF(OR(M5001=51),10106),\"0\")","v":"0"},{"$f":"IF(AND(L5001=\"DX\",N5001<\"02001\",M5001<>23,M5001<>51,M5001<>2,M5001<>43,M5001<>63,M5001<>65,M5001<>9,M5001<>46,M5001<>54,M5001<>15,M5001<>35,M5001<>45,M5001<>6,M5001<>7,M5001<>21,M5001<>22,M5001<>25,M5001<>39,M5001<>40,M5001<>48,M5001<>67),5558,\"0\")","v":"0"},{"$f":"IF(AND(L5001=\"DX\",N5001<\"02001\"),IF(OR(M5001=2,M5001=3,M5001=22,M5001=33,M5001=63,M5001=65),6063),\"0\")","v":"0"},{"$f":"IF(AND(L5001=\"DX\",N5001<\"02001\"),IF(OR(M5001=9,M5001=26,M5001=35,M5001=40,M5001=43,M5001=46),8591),\"0\")","v":"0"},{"$f":"IF(AND(L5001=\"DX\",N5001<\"02001\"),IF(OR(M5001=23),8591),\"0\")","v":"0"},{"$f":"IF(AND(L5001=\"DX\",N5001<\"02001\"),IF(OR(M5001=7,M5001=15,M5001=19,M5001=20,M5001=25,M5001=37,M5001=45,M5001=48,M5001=54),6063),\"0\")","v":"0"},{"$f":"SUM(BD5001:BI5001)","v":0},null,null,null,null,null,null,null,null,null,{"$f":"LEFT(CD5001,3)","v":"0"},{"$f":"IF(OR(M5001=51),1,\"0\")","v":"0"},{"$f":"IF(OR(M5001=4,M5001=13,M5001=17,M5001=3,M5001=33,M5001=23,M5001=51,M5001=2,M5001=26,M5001=37,M5001=63,M5001=65,M5001=9,M5001=35,M5001=46,M5001=15,M5001=45,M5001=7,M5001=19,M5001=20,M5001=22,M5001=25,M5001=39,M5001=40,M5001=43,M5001=48, M5001=54,M5001=0),0,\"2\")","v":0},{"$f":"IF(OR(M5001=2,M5001=3,M5001=4,M5001=13,M5001=17,M5001=22,M5001=33,M5001=63),3,\"0\")","v":"0"},{"$f":"IF(OR(M5001=23,M5001=26,M5001=40,M5001=43),4,\"0\")","v":"0"},{"$f":"IF(OR(M5001=35),5,\"0\")","v":"0"},{"$f":"IF(OR(M5001=9,M5001=15,M5001=19,M5001=20,M5001=25,M5001=37,M5001=39,M5001=45,M5001=46,M5001=48,M5001=54,M5001=65),6,\"0\")","v":"0"},{"$f":"IF(M5001=7,7,0)","v":0},{"$f":"SUM(BU5001+BV5001+BW5001+BX5001+BY5001+BZ5001+CA5001+CC5001)","v":8},{"$f":"IF(M5001=0,8,0)","v":8},{"$f":"IF(N5001=\"00651\",\"00551\",IF(AND(N5001=\"80993\"),\"12093\",IF(AND(N5001=\"80994\"),\"13094\",N5001)))","v":0},null,{"$f":"IF(OR(CJ5001=70, CJ5001=80, CJ5001=90, CJ5001=100, CJ5001=801),CK5001*0%,\"0\")","v":"0"},{"$f":"IF(OR(CJ5001=6,CJ5001=7,CJ5001=10,CJ5001=12,CJ5001=15,CJ5001=20,CJ5001=22,CJ5001=30,CJ5001=35,CJ5001=50,CJ5001=60),CK5001*50%,\"0\")","v":"0"},{"$f":"IF(OR(CJ5001=120,CJ5001=130),CK5001,\"0\")","v":"0"},{"$f":"SUM(CF5001:CH5001)","v":0},{"$f":"VALUE(BT5001)","v":0},{"$f":"ROUND(IF(E5001>1,VALUE(AG5001),VALUE(AH5001)),0)","v":0},{"$f":"IF(OR(CJ5001=120,CJ5001=130),CK5001,CK5001)","v":0},0,{"$f":"IF(AND(U5001=\"New\",F5001<C5001),\"Yes\",\"No\")","v":"No"},{"$f":"IF(AND(U5001=\"New\",F5001=C5001),\"Yes\",\"No\")","v":"No"},{"$f":"IF(CO5001=\"Yes\",CQ5001,G5001)","v":0},{"$f":"CONCATENATE(G5001,$CP$9)","v":"*"},null,{"$f":"IF(OR(N5001=\"02083\",N5001=\"01520\",N5001=\"07043\",N5001=\"00508\",N5001=\"01522\"),\"Yes\",\"No\")","v":"No"},{"$f":"IF(L5001=\"S\",\"Yes\",\"No\")","v":"No"},{"$f":"IF(AND(CS5001=\"Yes\", CT5001=\"Yes\"),\"Yes\",\"No\")","v":"No"},null,0]
[null,null,null,null,null,null,null,null,null,null,null,null,null,null,null,0,0,null,0,null,null,{"$f":"IF(AND($B$4>\"BC-\",M5002>0),$B$4,\"\")","v":""},null,null,null,null,null,null,null,null,null,null,{"$error":"#DIV/0!"},0,0,0,0,0,0,0,0,"100%",null,null,{"$f":"IF(J5002=8,50%,0)","v":0},{"$f":"IF(J5002=16,65%,0)","v":0},0,0,1,0,0,0,0,0,1,"0","0","0","0","0","0",0,null,null,null,null,null,null,null,null,null,"0","0",0,"0","0","0","0",0,8,8,0,null,"0","0","0",0,0,0,0,0,"No","No",0,"*",null,"No","No","No",null,0]
[null,null,null,null,null,null,null,null,null,null,null,null,null,null,null,0,{"$f":"IF(AND(NOT(ISBLANK(I5003)),I5003=0),0,CM5003)","v":0},null,0,null,null,{"$f":"IF(AND($B$4>\"BC-\",M5003>0),$B$4,\"\")","v":""},null,null,null,null,null,null,null,null,null,null,{"$error":"#DIV/0!"},0,{"$f":"IF(AND(C5003<45351,D5003>45351),(D5003-C5003)-1,D5003-C5003)","v":0},{"$f":"IF(AND(C5003<45351,D5003>45351,E5003<45351),(E5003-D5003)+1,(E5003-D5003))","v":0},0,0,0,0,0,"100%",null,null,0,0,0,0,1,0,0,0,0,0,1,"0","0","0","0","0","0",0,null,null,null,null,null,null,null,null,null,"0","0",0,"0","0","0","0",0,8,8,0,null,"0","0","0",0,0,0,0,0,"No","No",0,"*",null,"No","No","No",null,0]
[null,null,null,null,null,null,null,null,null,null,null,null,null,null,null,0,0,null,{"$f":"IF(OR(H5004=\"ERP\",H5004=\"PA\",H5004=\"SAT\",H5004=\"IT\"),CM5004,Q5004*(100%-R5004)+T5004)","v":0},null,null,{"$f":"IF(AND($B$4>\"BC-\",M5004>0),$B$4,\"\")","v":""},null,null,null,null,null,null,null,null,null,null,{"$error":"#DIV/0!"},0,0,0,0,0,0,0,0,"100%",null,null,0,0,0,0,1,0,0,0,0,0,1,"0","0","0","0","0","0",0,null,null,null,null,null,null,null,null,null,"0","0",0,"0","0","0","0",0,8,8,0,null,"0","0","0",0,0,0,0,{"$f":"IF(OR(H5004=\"ERP\",H5004=\"PA\",H5004=\"SAT\",H5004=\"IT\"),\"0\",CL5004)","v":0},"No","No",0,"*",null,"No","No","No",null,0]
[null,null,null,null,null,null,null,null,null,null,null,null,null,null,null,0,0,null,0,null,null,{"$f":"IF(AND($B$4>\"BC-\",M5005>0),$B$4,\"\")","v":""},null,null,null,null,null,null,null,null,null,null,{"$error":"#DIV/0!"},0,0,0,0,0,0,0,0,"100%",null,null,0,0,0,0,1,0,0,0,0,0,1,"0","0","0","0","0","0",0,null,null,null,null,null,null,null,null,null,"0","0",0,"0","0","0","0",0,8,8,0,null,"0","0","0",0,0,0,0,0,"No","No",0,"*",null,"No","No","No",null,{"$f":"IF(OR(H5005=\"ERP\",H5005=\"PA\",H5005=\"SAT\"),CM5005,Q5005*(100%-R5005)+T5005)","v":0}]
[null,null,null,null,null,null,null,null,null,null,null,null,null,null,null,0,0,null,0,null,null,{"$f":"IF(AND($B$4>\"BC-\",M5006>0),$B$4,\"\")","v":""},null,null,null,null,null,null,null,null,null,null,{"$error":"#DIV/0!"},0,0,0,0,0,0,0,0,"100%",null,null,0,0,0,0,1,0,0,0,0,0,1,"0","0","0","0","0","0",0,null,null,null,null,null,null,null,null,null,"0","0",0,"0","0","0","0",0,8,8,0,null,"0","0","0",0,0,0,0,0,"No","No",0,"*",null,"No","No","No",null,0]
[null,null,null,null,null,null,null,null,null,null,null,null,null,null,null,0,0,null,0,null,null,{"$f":"IF(AND($B$4>\"BC-\",M5007>0),$B$4,\"\")","v":""},null,null,null,null,null,null,null,null,null,null,{"$error":"#DIV/0!"},0,0,0,0,0,0,0,0,"100%",null,null,0,0,0,0,1,0,0,0,0,0,1,"0","0","0","0","0","0",0,null,null,null,null,null,null,null,null,null,"0","0",0,"0","0","0","0",0,8,8,0,null,"0","0","0",0,0,0,0,0,"No","No",0,"*",null,"No","No","No",null,0]
[null,null,null,null,null,null,null,null,null,null,null,null,null,null,null,0,0,null,0,null,null,{"$f":"IF(AND($B$4>\"BC-\",M5008>0),$B$4,\"\")","v":""},null,null,null,null,null,null,null,null,null,null,{"$error":"#DIV/0!"},0,0,0,0,0,0,0,0,"100%",null,null,0,0,0,0,1,0,0,0,0,0,1,"0","0","0","0","0","0",0,null,null,null,null,null,null,null,null,null,"0","0",0,"0","0","0","0",0,8,8,0,null,"0","0","0",0,0,0,0,0,"No","No",0,"*",null,"No","No","No",null,0]
[null,null,null,null,null,null,null,null,null,null,null,null,null,null,null,0,0,null,0,null,null,{"$f":"IF(AND($B$4>\"BC-\",M5009>0),$B$4,\"\")","v":""},null,null,null,null,null,null,null,null,null,null,{"$error":"#DIV/0!"},0,0,0,0,0,0,0,0,"100%",null,null,0,0,0,0,1,0,0,0,0,0,1,"0","0","0","0","0","0",0,null,null,null,null,null,null,null,null,null,"0","0",0,"0","0","0","0",0,8,8,0,null,"0","0","0",0,0,0,0,0,"No","No",0,"*",null,"No","No","No",null,0]
[null,null,null,null,null,null,null,null,null,null,null,null,null,null,null,0,0,null,0,null,null,{"$f":"IF(AND($B$4>\"BC-\",M5010>0),$B$4,\"\")","v":""},null,null,null,null,null,null,null,null,null,null,{"$error":"#DIV/0!"},0,0,0,0,0,0,0,0,"100%",null,null,0,0,0,0,1,0,0,0,0,0,1,"0","0","0","0","0","0",0,null,null,null,null,null,null,null,null,null,"0","0",0,"0","0","0","0",0,8,8,0,null,"0","0","0",0,0,0,0,0,"No","No",0,"*",null,"No","No","No",null,0]

{"sheet":"Exhibit 1","index":1,"n_rows":37,"n_cols":16,"rows_kept":37,"cut":false,"hidden":true,"merged":[[3,13,3,14],[0,0,0,15],[1,0,2,6],[1,9,2,15],[2,7,2,8],[3,1,3,2],[3,3,3,4],[3,5,3,6],[3,7,3,8],[3,9,3,10],[3,11,3,12]]}
["EXHIBIT 1"]
[null,null,null,null,null,null,null,"Year",2024]
[null,null,null,null,null,null,null,0.26]
["Class","Territory 1",null,"Territory 2",null,"Territory 3",null,"Territory 4",null,"Territory 5",null,"Territory 6",null,"Territory 7",null,"Class"]
[null,"PPP","Assess","PPP","Assess","PPP","Assess","PPP","Assess","PPP","Assess","PPP","Assess","PPP","Assess"]
["005",4243,{"$f":"ROUND(PRODUCT(H3,B6),0)","v":1103},2309,{"$f":"ROUND(PRODUCT(H3,D6),0)","v":600},2703,{"$f":"ROUND(PRODUCT(H3,F6),0)","v":703},3324,{"$f":"ROUND(PRODUCT(H3,H6),0)","v":864},3573,{"$f":"ROUND(PRODUCT(H3,J6),0)","v":929},2838,{"$f":"ROUND(PRODUCT(H3,L6),0)","v":738},3324,{"$f":"ROUND(PRODUCT(H3,N6),0)","v":864},"005"]
["006",8310,{"$f":"ROUND(PRODUCT(H3,B7),0)","v":2161},4099,{"$f":"ROUND(PRODUCT(H3,D7),0)","v":1066},4956,{"$f":"ROUND(PRODUCT(H3,F7),0)","v":1289},6309,{"$f":"ROUND(PRODUCT(H3,H7),0)","v":1640},6851,{"$f":"ROUND(PRODUCT(H3,J7),0)","v":1781},5249,{"$f":"ROUND(PRODUCT(H3,L7),0)","v":1365},6221,{"$f":"ROUND(PRODUCT(H3,N7),0)","v":1617},"006"]
["007",14812,{"$f":"ROUND(PRODUCT(H3,B8),0)","v":3851},6960,{"$f":"ROUND(PRODUCT(H3,D8),0)","v":1810},8558,{"$f":"ROUND(PRODUCT(H3,F8),0)","v":2225},11082,{"$f":"ROUND(PRODUCT(H3,H8),0)","v":2881},12092,{"$f":"ROUND(PRODUCT(H3,J8),0)","v":3144},9105,{"$f":"ROUND(PRODUCT(H3,L8),0)","v":2367},11082,{"$f":"ROUND(PRODUCT(H3,N8),0)","v":2881},"007"]
["010",10682,{"$f":"ROUND(PRODUCT(H3,B9),0)","v":2777},5143,{"$f":"ROUND(PRODUCT(H3,D9),0)","v":1337},6270,{"$f":"ROUND(PRODUCT(H3,F9),0)","v":1630},8051,{"$f":"ROUND(PRODUCT(H3,H9),0)","v":2093},8763,{"$f":"ROUND(PRODUCT(H3,J9),0)","v":2278},6656,{"$f":"ROUND(PRODUCT(H3,L9),0)","v":1731},8051,{"$f":"ROUND(PRODUCT(H3,N9),0)","v":2093},"010"]
["012",30762,{"$f":"ROUND(PRODUCT(H3,B10),0)","v":7998},13978,{"$f":"ROUND(PRODUCT(H3,D10),0)","v":3634},17395,{"$f":"ROUND(PRODUCT(H3,F10),0)","v":4523},22790,{"$f":"ROUND(PRODUCT(H3,H10),0)","v":5925},24948,{"$f":"ROUND(PRODUCT(H3,J10),0)","v":6486},18564,{"$f":"ROUND(PRODUCT(H3,L10),0)","v":4827},21404,{"$f":"ROUND(PRODUCT(H3,N10),0)","v":5565},"012"]
["015",21972,{"$f":"ROUND(PRODUCT(H3,B11),0)","v":5713},10110,{"$f":"ROUND(PRODUCT(H3,D11),0)","v":2629},12525,{"$f":"ROUND(PRODUCT(H3,F11),0)","v":3257},16337,{"$f":"ROUND(PRODUCT(H3,H11),0)","v":4248},17862,{"$f":"ROUND(PRODUCT(H3,J11),0)","v":4644},13351,{"$f":"ROUND(PRODUCT(H3,L11),0)","v":3471},15616,{"$f":"ROUND(PRODUCT(H3,N11),0)","v":4060},"015"]
["017",21506,{"$f":"ROUND(PRODUCT(H3,B12),0)","v":5592},9905,{"$f":"ROUND(PRODUCT(H3,D12),0)","v":2575},12267,{"$f":"ROUND(PRODUCT(H3,F12),0)","v":3189},15995,{"$f":"ROUND(PRODUCT(H3,H12),0)","v":4159},17487,{"$f":"ROUND(PRODUCT(H3,J12),0)","v":4547},13074,{"$f":"ROUND(PRODUCT(H3,L12),0)","v":3399},15853,{"$f":"ROUND(PRODUCT(H3,N12),0)","v":4122},"017"]
["020",24916,{"$f":"ROUND(PRODUCT(H3,B13),0)","v":6478},11405,{"$f":"ROUND(PRODUCT(H3,D13),0)","v":2965},14156,{"$f":"ROUND(PRODUCT(H3,F13),0)","v":3681},18498,{"$f":"ROUND(PRODUCT(H3,H13),0)","v":4809},20236,{"$f":"ROUND(PRODUCT(H3,J13),0)","v":5261},15097,{"$f":"ROUND(PRODUCT(H3,L13),0)","v":3925},17252,{"$f":"ROUND(PRODUCT(H3,N13),0)","v":4486},"020"]
["022",34532,{"$f":"ROUND(PRODUCT(H3,B14),0)","v":8978},15637,{"$f":"ROUND(PRODUCT(H3,D14),0)","v":4066},19483,{"$f":"ROUND(PRODUCT(H3,F14),0)","v":5066},25557,{"$f":"ROUND(PRODUCT(H3,H14),0)","v":6645},27986,{"$f":"ROUND(PRODUCT(H3,J14),0)","v":7276},20799,{"$f":"ROUND(PRODUCT(H3,L14),0)","v":5408},23481,{"$f":"ROUND(PRODUCT(H3,N14),0)","v":6105},"022"]
["025",37519,{"$f":"ROUND(PRODUCT(H3,B15),0)","v":9755},16951,{"$f":"ROUND(PRODUCT(H3,D15),0)","v":4407},21138,{"$f":"ROUND(PRODUCT(H3,F15),0)","v":5496},27749,{"$f":"ROUND(PRODUCT(H3,H15),0)","v":7215},28893,{"$f":"ROUND(PRODUCT(H3,J15),0)","v":7512},22570,{"$f":"ROUND(PRODUCT(H3,L15),0)","v":5868},24468,{"$f":"ROUND(PRODUCT(H3,N15),0)","v":6362},"025"]
["030",34109,{"$f":"ROUND(PRODUCT(H3,B16),0)","v":8868},15450,{"$f":"ROUND(PRODUCT(H3,D16),0)","v":4017},19249,{"$f":"ROUND(PRODUCT(H3,F16),0)","v":5005},25246,{"$f":"ROUND(PRODUCT(H3,H16),0)","v":6564},27645,{"$f":"ROUND(PRODUCT(H3,J16),0)","v":7188},20548,{"$f":"ROUND(PRODUCT(H3,L16),0)","v":5342},23938,{"$f":"ROUND(PRODUCT(H3,N16),0)","v":6224},"030"]
["035",51478,{"$f":"ROUND(PRODUCT(H3,B17),0)","v":13384},23093,{"$f":"ROUND(PRODUCT(H3,D17),0)","v":6004},28871,{"$f":"ROUND(PRODUCT(H3,F17),0)","v":7506},37995,{"$f":"ROUND(PRODUCT(H3,H17),0)","v":9879},41265,{"$f":"ROUND(PRODUCT(H3,J17),0)","v":10729},30848,{"$f":"ROUND(PRODUCT(H3,L17),0)","v":8020},34246,{"$f":"ROUND(PRODUCT(H3,N17),0)","v":8904},"035"]
["050",44678,{"$f":"ROUND(PRODUCT(H3,B18),0)","v":11616},20101,{"$f":"ROUND(PRODUCT(H3,D18),0)","v":5226},25104,{"$f":"ROUND(PRODUCT(H3,F18),0)","v":6527},33004,{"$f":"ROUND(PRODUCT(H3,H18),0)","v":8581},36164,{"$f":"ROUND(PRODUCT(H3,J18),0)","v":9403},26816,{"$f":"ROUND(PRODUCT(H3,L18),0)","v":6972},32523,{"$f":"ROUND(PRODUCT(H3,N18),0)","v":8456},"050"]
["060",52092,{"$f":"ROUND(PRODUCT(H3,B19),0)","v":13544},23363,{"$f":"ROUND(PRODUCT(H3,D19),0)","v":6074},29211,{"$f":"ROUND(PRODUCT(H3,F19),0)","v":7595},38446,{"$f":"ROUND(PRODUCT(H3,H19),0)","v":9996},42139,{"$f":"ROUND(PRODUCT(H3,J19),0)","v":10956},31212,{"$f":"ROUND(PRODUCT(H3,L19),0)","v":8115},38267,{"$f":"ROUND(PRODUCT(H3,N19),0)","v":9949},"060"]
["070",82509,{"$f":"ROUND(PRODUCT(H3,B20),0)","v":21452},36746,{"$f":"ROUND(PRODUCT(H3,D20),0)","v":9554},46062,{"$f":"ROUND(PRODUCT(H3,F20),0)","v":11976},60772,{"$f":"ROUND(PRODUCT(H3,H20),0)","v":15801},66655,{"$f":"ROUND(PRODUCT(H3,J20),0)","v":17330},49249,{"$f":"ROUND(PRODUCT(H3,L20),0)","v":12805},58428,{"$f":"ROUND(PRODUCT(H3,N20),0)","v":15191},"070"]
["080",102525,{"$f":"ROUND(PRODUCT(H3,B21),0)","v":26657},45554,{"$f":"ROUND(PRODUCT(H3,D21),0)","v":11844},57151,{"$f":"ROUND(PRODUCT(H3,F21),0)","v":14859},75464,{"$f":"ROUND(PRODUCT(H3,H21),0)","v":19621},82789,{"$f":"ROUND(PRODUCT(H3,J21),0)","v":21525},61119,{"$f":"ROUND(PRODUCT(H3,L21),0)","v":15891},69988,{"$f":"ROUND(PRODUCT(H3,N21),0)","v":18197},"080"]
["090",55121,{"$f":"ROUND(PRODUCT(H3,B22),0)","v":14331},24696,{"$f":"ROUND(PRODUCT(H3,D22),0)","v":6421},30889,{"$f":"ROUND(PRODUCT(H3,F22),0)","v":8031},40669,{"$f":"ROUND(PRODUCT(H3,H22),0)","v":10574},44581,{"$f":"ROUND(PRODUCT(H3,J22),0)","v":11591},33008,{"$f":"ROUND(PRODUCT(H3,L22),0)","v":8582},40669,{"$f":"ROUND(PRODUCT(H3,N22),0)","v":10574},"090"]
["100",158466,{"$f":"ROUND(PRODUCT(H3,B23),0)","v":41201},70168,{"$f":"ROUND(PRODUCT(H3,D23),0)","v":18244},88143,{"$f":"ROUND(PRODUCT(H3,F23),0)","v":22917},116524,{"$f":"ROUND(PRODUCT(H3,H23),0)","v":30296},127877,{"$f":"ROUND(PRODUCT(H3,J23),0)","v":33248},94292,{"$f":"ROUND(PRODUCT(H3,L23),0)","v":24516},111901,{"$f":"ROUND(PRODUCT(H3,N23),0)","v":29094},"100"]
["120",4984,{"$f":"ROUND(PRODUCT(H3,B24),0)","v":1296},2635,{"$f":"ROUND(PRODUCT(H3,D24),0)","v":685},3114,{"$f":"ROUND(PRODUCT(H3,F24),0)","v":810},3868,{"$f":"ROUND(PRODUCT(H3,H24),0)","v":1006},4170,{"$f":"ROUND(PRODUCT(H3,J24),0)","v":1084},3277,{"$f":"ROUND(PRODUCT(H3,L24),0)","v":852},3868,{"$f":"ROUND(PRODUCT(H3,N24),0)","v":1006},"120"]
["130",36058,{"$f":"ROUND(PRODUCT(H3,B25),0)","v":9375},16308,{"$f":"ROUND(PRODUCT(H3,D25),0)","v":4240},20328,{"$f":"ROUND(PRODUCT(H3,F25),0)","v":5285},26676,{"$f":"ROUND(PRODUCT(H3,H25),0)","v":6936},27683,{"$f":"ROUND(PRODUCT(H3,J25),0)","v":7198},21704,{"$f":"ROUND(PRODUCT(H3,L25),0)","v":5643},23024,{"$f":"ROUND(PRODUCT(H3,N25),0)","v":5986},"130"]
["900",33071,{"$f":"ROUND(PRODUCT(H3,B26),0)","v":8598},14994,{"$f":"ROUND(PRODUCT(H3,D26),0)","v":3898},18674,{"$f":"ROUND(PRODUCT(H3,F26),0)","v":4855},24484,{"$f":"ROUND(PRODUCT(H3,H26),0)","v":6366},26434,{"$f":"ROUND(PRODUCT(H3,J26),0)","v":6873},19933,{"$f":"ROUND(PRODUCT(H3,L26),0)","v":5183},21993,{"$f":"ROUND(PRODUCT(H3,N26),0)","v":5718},"900"]
[null,null,null,null,null,null,null,null,null,"Certified Nurse Midwife = 900",null,null,80116]
[null,null,null,null,null,null,null,null,null,"Podiatrist Non-surgical = 120",null,null,80993]
[null,null,null,null,null,null,null,null,null,"Podiatrist Surgical = 130",null,null,80994]
["Territory 1 = Philadelphia (51)"]
["Territory 2 = Remainder of State (01, 05, 06, 08, 10-12, 14, 16, 18, 21, 24, 27-32, 34, 36, 38, 41, 42, 44, 47, 49, 50, 52, 53, 55-62, 64, 66, 67)"]
["Territory 3 = Allegheny (02), Armstrong (03), Beaver (04), Carbon (13), Clearfield (17), Dauphin (22), Jefferson (33), Washington (63)"]
["Territory 4 = Delaware (23), Fayette (26), Luzerne (40), Mercer (43)"]
["Territory 5 = Lackawanna (35)"]
["Territory 6 = Bucks (09), Chester (15), Columbia (19), Crawford (20), Erie (25), Lawrence (37), Lehigh (39), Monroe (45), Montgomery (46), Northampton (48),"]
[null,"Schuylkill (54), westmoreland (65)"]
["Territory 7 = Blair (07)"]

{"sheet":"HS WS","index":2,"n_rows":49,"n_cols":41,"rows_kept":49,"cut":false,"hidden":false,"merged":[[48,1,48,6],[41,1,41,7],[13,1,14,7],[25,1,26,7],[10,1,10,7],[42,1,43,7],[44,1,44,6],[46,1,46,6],[47,1,47,6],[7,2,7,7],[8,6,8,7],[0,1,1,7],[2,2,2,7],[3,2,3,7],[4,2,4,7],[5,2,5,7],[6,2,6,7]]}
[null,"2024 EXHIBIT 6 - HOSPITAL WORKSHEET (SPECIALTY CODE 80612)"]
[null,null,null,null,null,null,null,null,null,null,null,null,null,null,null,null,null,null,null,null,null,null,null,null,null,null,null,null,null,null,null,null,null,null,null,{"$f":"SUM(C:W)","v":23199.739999999998},null,null,null,"2018-07-09T13:16:00","2018 EXHIBIT 6 - HOSPITAL WORKSHEET (SPECIALTY CODE 80612)"]
[null,"Primary Carrier",{"$f":"IF('e-216'!G3=\"Please Select Primary Carrier\",\"\",'e-216'!G3)","v":""},null,null,null,null,null,null,null,null,null,null,null,null,null,null,null,null,null,null,null,null,null,null,null,null,null,null,null,null,null,null,null,null,229756.04738561649]
[null,"Carrier Code",{"$f":"'e-216'!Q1","v":" "},null,null,null,null,null,null,null,null,null,null,null,null,null,null,null,null,null,null,null,null,null,null,null,null,null,null,null,null,null,null,null,null,{"$f":"SUM(C:W)","v":23199.739999999998},null,null,null,"2017-12-21T10:21:00","Insurer's #:"]
[null,"Date",{"$f":"IF('e-216'!B2=\"Completion Date\",\"\",'e-216'!B2)","v":""},null,null,null,null,null,null,null,null,null,null,null,null,null,null,null,null,null,null,null,null,null,null,null,null,null,null,null,null,null,null,null,null,23200.67]
[null,"Hospital's Name"]
[null,"Hospital's Address"]
[null,"Hospital's Assigned #"]
[null,"Basic Insurance Coverage Limits:",null,"$   500,000.00 Per Occ."]
[null,null,null,"$2,500,000.00 Per Agg."]
[null,"Entry Worksheets must be transferred to the e-216 by clicking the \"Transfer to e-216\" button."]
[null,"From Date","To  Date","Retro Date","Policy #","Policy Type","County","Territory",null,null,"Terr 1","Terr 2","Terr 3","Terr 4"]
[null,null,null,null,null,null,null,{"$f":"O13","v":0},null,null,{"$f":"IF(OR(G13=23,G13=51),1,\"0\")","v":"0"},{"$f":"IF(OR(G13=23,G13=51,G13=2,G13=20,G13=25,G13=35,G13=37,G13=40,G13=43,G13=9,G13=15,G13=46,G13=0,G13=\"\"),0,\"2\")","v":0},{"$f":"IF(OR(G13=2,G13=20,G13=25,G13=35,G13=37,G13=40,G13=43),3,\"0\")","v":"0"},{"$f":"IF(OR(G13=9,G13=15,G13=46),4,\"0\")","v":"0"},{"$f":"SUM(K13+L13+M13+N13)","v":0}]
[" ","List of Annual Occupied Bed Counts"]
[]
[null,"Exposure Type:","Bed Count","Terr. 1 Rates","Terr. 2 Rates","Terr. 3 Rates","Terr. 4 Rates","Subtotal",null,null,null,null,null,null,"Daily Rate","# of Days",null,"Rounded Count",null,null,null,null,"Terr 1 PPP","Terr 2 PPP","Terr 3 PPP","Terr 4 PPP"]
[null,"Hospital (acute care)",null,{"$f":"IF(OR(H13=1), W17,\"0\")","v":"0"},{"$f":"IF(OR(H13=2),X17,\"0\")","v":"0"},{"$f":"IF(OR(H13=3),Y17,\"0\")","v":"0"},{"$f":"IF(OR(H13=4),Z17,\"0\")","v":"0"},{"$f":" S17*P17","v":0},null,null,{"$f":"VALUE(D17)","v":0},{"$f":"VALUE(E17)","v":0},{"$f":"VALUE(F17)","v":0},{"$f":"VALUE(G17)","v":0},{"$f":"(K17+L17+M17+N17)*C17/365","v":0},{"$f":"IF(AND(B13<45351,C13>45351),(C13-B13)-1,C13-B13)","v":0},null,{"$f":"ROUND(C17,0)","v":0},{"$f":"(K17+L17+M17+N17)*R17/365","v":0},null,null,"Hospital (acute care)",7600.44,3374.58,4225.83,6756.8]
[]
[null,"Mental Health/Mental Rehab.",null,{"$f":"IF(OR(H13=1),W19,\"0\")","v":"0"},{"$f":"IF(OR(H13=2),X19,\"0\")","v":"0"},{"$f":"IF(OR(H13=3),Y19,\"0\")","v":"0"},{"$f":"IF(OR(H13=4),Z19,\"0\")","v":"0"},{"$f":" S19*P19","v":0},null,null,{"$f":"VALUE(D19)","v":0},0,0,0,{"$f":"(K19+L19+M19+N19)*C19/365","v":0},{"$f":"IF(AND(B13<45351,C13>45351),(C13-B13)-1,C13-B13)","v":0},null,{"$f":"ROUND(C19,0)","v":0},{"$f":"(K19+L19+M19+N19)*R19/365","v":0},null,null,"Mental Health/Mental Rehab.",3803.48,1688.75,2114.73,3381.28]
[]
[null,"Extended Care",null,{"$f":"IF(OR(H13=1),W21,\"0\")","v":"0"},{"$f":"IF(OR(H13=2),X21,\"0\")","v":"0"},{"$f":"IF(OR(H13=3),Y21,\"0\")","v":"0"},{"$f":"IF(OR(H13=4),Z21,\"0\")","v":"0"},{"$f":" S21*P21","v":0},null,null,0,0,0,0,{"$f":"(K21+L21+M21+N21)*C21/365","v":0},{"$f":"IF(AND(B13<45351,C13>45351),(C13-B13)-1,C13-B13)","v":0},null,{"$f":"ROUND(C21,0)","v":0},{"$f":"(K21+L21+M21+N21)*R21/365","v":0},null,null,"Extended Care",338.37,150.22999999999999,188.13,300.8]
[]
[null,"Out-Patient Surgical",null,{"$f":"IF(OR(H13=1),W23,\"0\")","v":"0"},{"$f":"IF(OR(H13=2),X23,\"0\")","v":"0"},{"$f":"IF(OR(H13=3),Y23,\"0\")","v":"0"},{"$f":"IF(OR(H13=4),Z23,\"0\")","v":"0"},{"$f":" S23*P23","v":0},null,null,0,0,0,0,{"$f":"(K23+L23+M23+N23)*C23/365","v":0},{"$f":"IF(AND(B13<45351,C13>45351),(C13-B13)-1,C13-B13)","v":0},null,{"$f":"ROUND(C23,0)","v":0},{"$f":"(K23+L23+M23+N23)*R23/365","v":0},null,null,"Out-Patient Surgical",7600.44,3374.58,4225.83,6756.8]
[]
[null,"Health Institution",null,{"$f":"IF(OR(H13=1),W25,\"0\")","v":"0"},{"$f":"IF(OR(H13=2),X25,\"0\")","v":"0"},{"$f":"IF(OR(H13=3),Y25,\"0\")","v":"0"},{"$f":"IF(OR(H13=4),Z25,\"0\")","v":"0"},{"$f":" S25*P25","v":0},null,null,0,0,0,0,{"$f":"(K25+L25+M25+N25)*C25/365","v":0},{"$f":"IF(AND(B13<45351,C13>45351),(C13-B13)-1,C13-B13)","v":0},null,{"$f":"ROUND(C25,0)","v":0},{"$f":"(K25+L25+M25+N25)*R25/365","v":0},null,null,"Health Institution",1522.7,676.07,846.62,1353.66]
[null,"List of Annual Visit Counts"]
[null,null,null,null,null,null,null,null,null,null,null,null,null,null,null,null,null,null,{"$f":"(K27+L27+M27+N27)*R27/365","v":0}]
[null,"Exposure Type:","Total Visit Count*","Terr. 1 Rates","Terr. 2 Rates","Terr. 3 Rates","Terr. 4 Rates","Subtotal"]
[null,"Emergency",null,{"$f":"IF(OR(H13=1),W29,\"0\")","v":"0"},{"$f":"IF(OR(H13=2),X29,\"0\")","v":"0"},{"$f":"IF(OR(H13=3),Y29,\"0\")","v":"0"},{"$f":"IF(OR(H13=4),Z29,\"0\")","v":"0"},{"$f":" S29*P29","v":0},null,null,{"$f":"VALUE(D29)","v":0},{"$f":"VALUE(E29)","v":0},{"$f":"VALUE(F29)","v":0},{"$f":"VALUE(G29)","v":0},{"$f":"(K29+L29+M29+N29)*(C29/100)/365","v":0},{"$f":"IF(AND(B13<45351,C13>45351),(C13-B13)-1,C13-B13)","v":0},null,{"$f":"ROUND(C29,0)","v":0},{"$f":"(K29+L29+M29+N29)*(R29/100)/365","v":0},null,null,"Emergency",759.73,337.33,422.41,675.4]
[]
[null,"Other",null,{"$f":"IF(OR(H13=1),W31,\"0\")","v":"0"},{"$f":"IF(OR(H13=2),X31,\"0\")","v":"0"},{"$f":"IF(OR(H13=3),Y31,\"0\")","v":"0"},{"$f":"IF(OR(H13=4),Z31,\"0\")","v":"0"},{"$f":" S31*P31","v":0},null,null,{"$f":"VALUE(D31)","v":0},0,0,0,{"$f":"(K31+L31+M31+N31)*(C31/100)/365","v":0},{"$f":"IF(AND(B13<45351,C13>45351),(C13-B13)-1,C13-B13)","v":0},null,{"$f":"ROUND(C31,0)","v":0},{"$f":"(K31+L31+M31+N31)*(R31/100)/365","v":0},null,null,"Other",303.89,134.93,168.97,270.16000000000003]
[]
[null,"Mental Health/Mental Rehab.",null,{"$f":"IF(OR(H13=1),W33,\"0\")","v":"0"},{"$f":"IF(OR(H13=2),X33,\"0\")","v":"0"},{"$f":"IF(OR(H13=3),Y33,\"0\")","v":"0"},{"$f":"IF(OR(H13=4),Z33,\"0\")","v":"0"},{"$f":" S33*P33","v":0},null,null,0,0,0,0,{"$f":"(K33+L33+M33+N33)*(C33/100)/365","v":0},{"$f":"IF(AND(B13<45351,C13>45351),(C13-B13)-1,C13-B13)","v":0},null,{"$f":"ROUND(C33,0)","v":0},{"$f":"(K33+L33+M33+N33)*(R33/100)/365","v":0},null,null,"Mental Health/Mental Rehab.",189.95,84.32,105.58,168.84]
[]
[null,"Extended Care",null,{"$f":"IF(OR(H13=1),W35,\"0\")","v":"0"},{"$f":"IF(OR(H13=2),X35,\"0\")","v":"0"},{"$f":"IF(OR(H13=3),Y35,\"0\")","v":"0"},{"$f":"IF(OR(H13=4),Z35,\"0\")","v":"0"},{"$f":" S35*P35","v":0},null,null,0,0,0,0,{"$f":"(K35+L35+M35+N35)*(C35/100)/365","v":0},{"$f":"IF(AND(B13<45351,C13>45351),(C13-B13)-1,C13-B13)","v":0},null,{"$f":"ROUND(C35,0)","v":0},{"$f":"(K35+L35+M35+N35)*(R35/100)/365","v":0},null,null,"Extended Care",16.86,7.5,9.36,15.01]
[null,null,null,null,null,null,null,null,null,null,null,null,null,null,null,null,null,null,null,null,null,null,"."]
[null,"Out-Patient Surgical",null,{"$f":"IF(OR(H13=1),W37,\"0\")","v":"0"},{"$f":"IF(OR(H13=2),X37,\"0\")","v":"0"},{"$f":"IF(OR(H13=3),Y37,\"0\")","v":"0"},{"$f":"IF(OR(H13=4),Z37,\"0\")","v":"0"},{"$f":" S37*P37","v":0},null,null,0,0,0,0,{"$f":"(K37+L37+M37+N37)*(C37/100)/365","v":0},{"$f":"IF(AND(B13<45351,C13>45351),(C13-B13)-1,C13-B13)","v":0},null,{"$f":"ROUND(C37,0)","v":0},{"$f":"(K37+L37+M37+N37)*(R37/100)/365","v":0},null,null,"Out-Patient Surgical",759.73,337.33,422.41,675.4]
[]
[null,"Health Institution",null,{"$f":"IF(OR(H13=1),W39,\"0\")","v":"0"},{"$f":"IF(OR(H13=2),X39,\"0\")","v":"0"},{"$f":"IF(OR(H13=3),Y39,\"0\")","v":"0"},{"$f":"IF(OR(H13=4),Z39,\"0\")","v":"0"},{"$f":" S39*P39","v":0},null,null,0,0,0,0,{"$f":"(K39+L39+M39+N39)*(C39/100)/365","v":0},{"$f":"IF(AND(B13<45351,C13>45351),(C13-B13)-1,C13-B13)","v":0},null,{"$f":"ROUND(C39,0)","v":0},{"$f":"(K39+L39+M39+N39)*(R39/100)/365","v":0},null,null,"Health Institution",113.94,50.6,63.36,101.3]
[]
[null,"Home Health Care",null,{"$f":"IF(OR(H13=1),W41,\"0\")","v":"0"},{"$f":"IF(OR(H13=2),X41,\"0\")","v":"0"},{"$f":"IF(OR(H13=3),Y41,\"0\")","v":"0"},{"$f":"IF(OR(H13=4),Z41,\"0\")","v":"0"},{"$f":" S41*P41","v":0},null,null,0,0,0,0,{"$f":"(K41+L41+M41+N41)*(C41/100)/365","v":0},{"$f":"IF(AND(B13<45351,C13>45351),(C13-B13)-1,C13-B13)","v":0},null,{"$f":"ROUND(C41,0)","v":0},{"$f":"(K41+L41+M41+N41)*(R41/100)/365","v":0},null,null,"Home Health Care",189.95,84.32,105.58,168.84]
[null,"* Enter the actual \"Visit Count.\"  The spreadsheet will divide the \"Visit Count\" entered by 100."]
[null,"Hospital's Assessment"]
[]
[null,"Prevailing Primary Premium",null,null,null,null,null,{"$f":" H17+H19+H21+H23+H25+H29+H31+H33+H35+H37+H39+H41","v":0}]
[]
[null,"Experience Modification Factor (as provided by Mcare)"]
[null,"2024 Mcare Assessment %",null,null,null,null,null,0.26]
[null,"Mcare Assessment",null,null,null,null,null,{"$f":"ROUND(K49,0)","v":0},null,null,{"$f":"(H45*H47)*H48","v":0}]

{"sheet":"MC WS","index":3,"n_rows":216,"n_cols":41,"rows_kept":216,"cut":false,"hidden":false,"merged":[[179,2,179,3],[191,2,191,3],[205,2,205,3],[206,2,206,3],[194,2,194,3],[195,2,195,3],[196,2,196,3],[184,2,184,3],[207,2,207,3],[180,2,180,3],[208,2,208,3],[197,2,197,3],[198,2,198,3],[199,2,199,3],[200,2,200,3],[201,2,201,3],[202,2,202,3],[185,2,185,3],[186,2,186,3],[187,2,187,3],[188,2,188,3],[189,2,189,3],[190,2,190,3],[215,1,215,7],[3,2,3,7],[209,2,209,3],[210,2,210,3],[211,2,211,3],[212,2,212,3],[213,2,213,3],[214,2,214,3],[203,2,203,3],[204,2,204,3],[192,2,192,3],[193,2,193,3],[169,2,169,3],[170,2,170,3],[171,2,171,3],[172,2,172,3],[173,2,173,3],[174,2,174,3],[175,2,175,3],[178,2,178,3],[181,2,181,3],[182,2,182,3],[183,2,183,3],[176,2,176,3],[177,2,177,3],[160,2,160,3],[161,2,161,3],[162,2,162,3],[163,2,163,3],[164,2,164,3],[151,2,151,3],[152,2,152,3],[149,2,149,3],[150,2,150,3],[159,2,159,3],[165,2,165,3],[166,2,166,3],[167,2,167,3],[168,2,168,3],[153,2,153,3],[154,2,154,3],[155,2,155,3],[156,2,156,3],[157,2,157,3],[158,2,158,3],[131,2,131,3],[132,2,132,3],[148,2,148,3],[133,2,133,3],[134,2,134,3],[135,2,135,3],[136,2,136,3],[137,2,137,3],[146,2,146,3],[147,2,147,3],[138,2,138,3],[139,2,139,3],[142,2,142,3],[143,2,143,3],[144,2,144,3],[145,2,145,3],[140,2,140,3],[141,2,141,3],[128,2,128,3],[129,2,129,3],[130,2,130,3],[116,2,116,3],[106,2,106,3],[107,2,107,3],[109,2,109,3],[110,2,110,3],[111,2,111,3],[117,2,117,3],[118,2,118,3],[114,2,114,3],[112,2,112,3],[113,2,113,3],[119,2,119,3],[120,2,120,3],[121,2,121,3],[122,2,122,3],[123,2,123,3],[124,2,124,3],[125,2,125,3],[126,2,126,3],[127,2,127,3],[94,2,94,3],[108,2,108,3],[104,2,104,3],[105,2,105,3],[115,2,115,3],[103,2,103,3],[95,2,95,3],[96,2,96,3],[97,2,97,3],[98,2,98,3],[101,2,101,3],[102,2,102,3],[99,2,99,3],[100,2,100,3],[87,2,87,3],[88,2,88,3],[89,2,89,3],[90,2,90,3],[91,2,91,3],[93,2,93,3],[81,2,81,3],[82,2,82,3],[83,2,83,3],[84,2,84,3],[85,2,85,3],[86,2,86,3],[92,2,92,3],[79,2,79,3],[80,2,80,3],[66,2,66,3],[67,2,67,3],[70,2,70,3],[71,2,71,3],[72,2,72,3],[73,2,73,3],[74,2,74,3],[75,2,75,3],[59,2,59,3],[60,2,60,3],[76,2,76,3],[77,2,77,3],[78,2,78,3],[61,2,61,3],[62,2,62,3],[63,2,63,3],[64,2,64,3],[65,2,65,3],[68,2,68,3],[69,2,69,3],[54,2,54,3],[55,2,55,3],[56,2,56,3],[57,2,57,3],[58,2,58,3],[47,2,47,3],[48,2,48,3],[49,2,49,3],[50,2,50,3],[51,2,51,3],[38,2,38,3],[39,2,39,3],[40,2,40,3],[41,2,41,3],[42,2,42,3],[53,2,53,3],[52,2,52,3],[32,2,32,3],[33,2,33,3],[43,2,43,3],[44,2,44,3],[45,2,45,3],[46,2,46,3],[34,2,34,3],[35,2,35,3],[36,2,36,3],[37,2,37,3],[31,2,31,3],[19,2,19,3],[20,2,20,3],[21,2,21,3],[22,2,22,3],[23,2,23,3],[24,2,24,3],[25,2,25,3],[26,2,26,3],[27,2,27,3],[29,2,29,3],[30,2,30,3],[16,2,16,3],[17,2,17,3],[18,2,18,3],[28,2,28,3],[0,1,1,7],[2,2,2,7],[4,2,4,7],[5,2,5,7],[6,2,6,7],[7,2,7,7],[10,1,10,7],[13,1,14,7],[15,2,15,3]]}
[null,"2024 EXHIBIT 5 - CORPORATION, ASSOCIATION & COMPANY, & PARTNERSHIP WORKSHEET\n(SPECIALTY CODE 80999)"]
[null,null,null,null,null,null,null,null,null,null,null,null,null,null,null,null,null,null,null,null,null,null,null,null,null,null,null,null,null,null,null,null,null,null,null,"=SUM(C[-33]:C[-13])",null,null,null,"2018-01-16T09:22:00","2018 EXHIBIT 5 - CORPORATION, ASSOCIATION & PARTNERSHIP WORKSHEET\n(SPECIALTY CODE 80999)"]
[null,"Primary Carrier",{"$f":"IF('e-216'!G3=\"Please Select Primary Carrier\",\"\",'e-216'!G3)","v":""},null,null,null,null,null,null,null,null,null,null,null,null,null,null,null,null,null,null,null,null,null,null,null,null,null,null,null,null,null,null,null,null,"=SUM(C[-33]:C[-13])"]
[null,"Carrier Code",{"$f":"'e-216'!Q1","v":" "}]
[null,"Date",{"$f":"IF('e-216'!B2=\"Completion Date\",\"\",'e-216'!B2)","v":""}]
[null,"Entity's Name"]
[null,"Entity's Address"]
[null,"Entity's Assigned #"]
[null,"Basic Insurance Coverage Limits:",null,"$   500,000.00 Per Occ."]
[null,null,null,"$1,500,000.00 Per Agg."]
[null,"Entry Worksheets must be transferred to the e-216 by clicking the \"Transfer to e-216\" button."]
[null,"From Date","To Date","Retro Date","Policy #","Policy Type","County Code","Mcare Assessment"]
[null,null,null,null,null,null,null,{"$f":"P17","v":0}]
[null,"List all shareholders, owners, partners and employed health care providers"]
[" ",null,null,null,null,null,null,null," "]
[" ","License #","Name",null,"Specialty Code","County Code","HCP's Annual Assessment","Other Rating Factors",null,null,null,"Total Assessment","# of Days","Daily Rate","Entity Assessment","Rounded Assesment "]
[null,null,null,null,null,null,null,null,null,null,null,{"$f":"SUM(G17:G215)","v":0},{"$f":"IF(AND(B13<45351,C13>45351),(C13-B13)-1,C13-B13)","v":0},{"$f":"L17/365","v":0},{"$f":"(N17*M17)*15%","v":0},{"$f":"ROUND(O17,0)","v":0}]
[]
[]
[]
[]
[]
[]
[]
[]
[]
[]
[]
[]
[]
[]
[]
[]
[]
[]
[]
[]
[]
[]
[]
[]
[]
[]
[]
[]
[]
[]
[]
[]
[]
[]
[]
[]
[]
[]
[]
[]
[]
[]
[]
[]
[]
[]
[]
[]
[]
[]
[]
[]
[]
[]
[]
[]
[]
[]
[]
[]
[]
[]
[]
[]
[]
[]
[]
[]
[]
[]
[]
[]
[]
[]
[]
[]
[]
[]
[]
[]
[]
[]
[]
[]
[]
[]
[]
[]
[]
[]
[]
[]
[]
[]
[]
[]
[]
[]
[]
[]
[]
[]
[]
[]
[]
[]
[]
[]
[]
[]
[]
[]
[]
[]
[]
[]
[]
[]
[]
[]
[]
[]
[]
[]
[]
[]
[]
[]
[]
[]
[]
[]
[]
[]
[]
[]
[]
[]
[]
[]
[]
[]
[]
[]
[]
[]
[]
[]
[]
[]
[]
[]
[]
[]
[]
[]
[]
[]
[]
[]
[]
[]
[]
[]
[]
[]
[]
[]
[]
[]
[]
[]
[]
[]
[]
[]
[]
[]
[]
[]
[]
[]
[]
[]
[]
[]
[]
[]
[]
[]
[]
[]
[]
[]
[]
[]
[]
[]
[null,"This worksheet will NOT include health care providers listed below this point in the calculation."]

{"sheet":"PC WS","index":4,"n_rows":30,"n_cols":41,"rows_kept":30,"cut":false,"hidden":false,"merged":[[0,0,1,6],[2,1,2,6],[3,1,3,6],[4,1,4,6],[5,1,5,6],[29,0,29,5],[6,1,6,6],[7,1,7,6],[10,0,10,6],[13,0,14,6],[25,0,26,6],[27,0,27,5]]}
["2024 EXHIBIT 8 - PRIMARY HEALTH CENTER WORKSHEET (SPECIALTY CODE 80614)"]
[null,null,null,null,null,null,null,null,null,null,null,null,null,null,null,null,null,null,null,null,null,null,null,null,null,null,null,null,null,null,null,null,null,null,null,{"$f":"SUM(C:W)","v":4336.1100000000006},null,null,null,"2017-12-27T11:01:00","2024 EXHIBIT 8 - PRIMARY HEALTH CENTER WORKSHEET (SPECIALTY CODE 80614)"]
["Primary Carrier",{"$f":"IF('e-216'!G3=\"Please Select Primary Carrier\",\"\",'e-216'!G3)","v":""},null,null,null,null,null,null,null,null,null,null,null,null,null,null,null,null,null,null,null,null,null,null,null,null,null,null,null,null,null,null,null,null,null,97202.381004410869]
["Carrier Code",{"$f":"'e-216'!Q1","v":" "}]
["Date",{"$f":"IF('e-216'!B2=\"Completion Date\",\"\",'e-216'!B2)","v":""}]
["PHC's Name"]
["PHC's Address"]
["PHC's Assigned #"]
["Basic Insurance Coverage Limits:",null,"$   500,000.00 Per Occ."]
[null,null,"$1,500,000.00 Per Agg."]
["Entry Worksheets must be transferred to the e-216 by clicking the \"Transfer to e-216\" button."]
["From Date","To Date","Retro Date","Policy #","Policy Type","County Code","Territory",null,null,null,null,"Terr. 1 ","Terr. 2","Terr. 3","Terr. 4","County"]
[null,null,null,null,null,null,{"$f":"P13","v":0},null,null,null,null,{"$f":"IF(OR(F13=23, F13=51),1,\"0\")","v":"0"},{"$f":"IF(OR(F13=23, F13=51, F13=2, F13=20,F13=25, F13=35,F13=37,F13=40,F13=43,F13=9,F13=15,F13=46,F13=0,F13=\" \"),0,\"2\")","v":0},{"$f":"IF(OR(F13=2, F13=20, F13=25, F13=35, F13=37, F13=40, F13=43),3,\"0\")","v":"0"},{"$f":"IF(OR(F13=9, F13=15, F13=46),4,\"0\")","v":"0"},{"$f":"SUM(L13+M13+N13+O13)","v":0}]
["List Annual Visit Counts"]
[]
["Exposure Type","Total Visit Count","Terr. 1 Rates","Terr. 2 Rates","Terr. 3 Rates","Terr. 4 Rates","Subtotal",null,null,null,null,null,null,"Daily Rate","# of Days",null,"Rounded Visits",null,null,null,"Terr. 1 PPP","Terr. 2 PPP","Terr. 3 PPP","Terr. 4 PPP"]
["Emergency",null,{"$f":"IF(OR(G13=1),U17,\"0\")","v":"0"},{"$f":"IF(OR(G13=2),V17,\"0\")","v":"0"},{"$f":"IF(OR(G13=3),W17,\"0\")","v":"0"},{"$f":"IF(OR(G13=4),X17,\"0\")","v":"0"},{"$f":"(N17*O17)*(Q17/100)","v":0},null,null,null,null,{"$f":"SUM(C17+D17+E17+F17)","v":0},{"$f":"B17/100","v":0},{"$f":"(C17+D17+E17+F17)/365","v":0},{"$f":"IF(AND(A13<45351,B13>45351),(B13-A13)-1,B13-A13)","v":0},{"$f":"(O17*N17)*M17","v":0},{"$f":"ROUND(B17,0)","v":0},null,null,"Emergency",747.59,331.91,415.67,664.6]
[]
["Other",null,{"$f":"IF(OR(G13=1),U19,\"0\")","v":"0"},{"$f":"IF(OR(G13=2),V19,\"0\")","v":"0"},{"$f":"IF(OR(G13=3),W19,\"0\")","v":"0"},{"$f":"IF(OR(G13=4),X19,\"0\")","v":"0"},{"$f":"(N19*O19)*(Q19/100)","v":0},null,null,null,null,{"$f":"SUM(C19+D19+E19+F19)","v":0},{"$f":"B19/100","v":0},{"$f":"(C19+D19+E19+F19)/365","v":0},{"$f":"IF(AND(A13<45351,B13>45351),(B13-A13)-1,B13-A13)","v":0},{"$f":"(O19*N19)*M19","v":0},{"$f":"ROUND(B19,0)","v":0},null,null,"Other",299.04000000000002,132.76,166.27,265.85000000000002]
[]
["Mental Health/Mental Rehab.",null,{"$f":"IF(OR(G13=1),U21,\"0\")","v":"0"},{"$f":"IF(OR(G13=2),V21,\"0\")","v":"0"},{"$f":"IF(OR(G13=3),W21,\"0\")","v":"0"},{"$f":"IF(OR(G13=4),X21,\"0\")","v":"0"},{"$f":"(N21*O21)*(Q21/100)","v":0},null,null,null,null,0,0,0,{"$f":"IF(AND(A13<45351,B13>45351),(B13-A13)-1,B13-A13)","v":0},0,0,null,null,"Mental Health/Mental Rehab.",186.92,83,103.93,166.18]
[]
["Out-Patient Surgical",null,{"$f":"IF(OR(G13=1),U23,\"0\")","v":"0"},{"$f":"IF(OR(G13=2),V23,\"0\")","v":"0"},{"$f":"IF(OR(G13=3),W23,\"0\")","v":"0"},{"$f":"IF(OR(G13=4),X23,\"0\")","v":"0"},{"$f":"(N23*O23)*(Q23/100)","v":0},null,null,null,null,0,0,0,{"$f":"IF(AND(A13<45351,B13>45351),(B13-A13)-1,B13-A13)","v":0},0,0,null,null,"Out-Patient Surgical",747.59,331.91,415.67,664.6]
[]
["Home Health Care",null,{"$f":"IF(OR(G13=1),U25,\"0\")","v":"0"},{"$f":"IF(OR(G13=2),V25,\"0\")","v":"0"},{"$f":"IF(OR(G13=3),W25,\"0\")","v":"0"},{"$f":"IF(OR(G13=4),X25,\"0\")","v":"0"},{"$f":"(N25*O25)*(Q25/100)","v":0},null,null,null,null,0,0,0,{"$f":"IF(AND(A13<45351,B13>45351),(B13-A13)-1,B13-A13)","v":0},0,0,null,null,"Home Health Care",186.92,83,103.93,166.18]
["Primary Health Center's Assessment"]
[]
["Prevailing Primary Premium",null,null,null,null,null,{"$f":"SUM(G17,G19,G21,G23,G25)","v":0}]
[null,null,null,null,null,null,null,null,null,null,null,{"$f":"G28*26%","v":0}]
["Mcare Assessment",null,null,null,null,null,{"$f":"ROUND(L29,0)","v":0}]

{"sheet":"NC WS","index":5,"n_rows":29,"n_cols":26,"rows_kept":29,"cut":false,"hidden":false,"merged":[[27,4,27,6],[28,1,28,6],[7,2,7,7],[8,1,8,2],[10,1,10,7],[14,1,18,7],[24,1,25,7],[26,1,26,6],[6,2,6,7],[0,1,1,7],[2,2,2,7],[3,2,3,7],[4,2,4,7],[5,2,5,7]]}
[null,"2024 EXHIBIT 7 - NURSING HOME WORKSHEET (SPECIALTY CODE 80924)"]
[]
[null,"Primary Carrier",{"$f":"IF('e-216'!G3=\"Please Select Primary Carrier\",\"\",'e-216'!G3)","v":""}]
[null,"Carrier Code",{"$f":"'e-216'!Q1","v":" "}]
[null,"Date",{"$f":"IF('e-216'!B2=\"Completion Date\",\"\",'e-216'!B2)","v":""}]
[null,"Nursing Home Name"]
[null,"Nurs. Home's Address"]
[null,"Nurs. Home's Assigned #"]
[null,"Basic Insurance Coverage Limits:",null,"$   500,000.00 Per Occ."]
[null,null,null,"$1,500,000.00 Per Agg."]
[null,"Entry Worksheets must be transferred to the e-216 by clicking the \"Transfer to e-216\" button."]
[]
[null,"From Date","To Date","Retro Date","Policy #","Policy Type","County Code","Territory",null,null,null,"Terr 1","Terr 2","Terr 3","Terr 4"]
[null,null,null,null,null,null,null,{"$f":"P14","v":0},null,null,null,{"$f":"IF(OR(G14=23,G14=51),1,\"0\")","v":"0"},{"$f":"IF(OR(G14=23,G14=51,G14=2,G14=20,G14=25,G14=35,G14=37,G14=40,G14=43,G14=9,G14=15,G14=46,G14=0,G14=\"\"),0,\"2\")","v":0},{"$f":"IF(OR(G14=2,G14=20,G14=25,G14=35,G14=37,G14=40,G14=43),3,\"0\")","v":"0"},{"$f":"IF(OR(G14=9,G14=15,G14=46),4,\"0\")","v":"0"},{"$f":"SUM(L14+M14+N14+O14)","v":0}]
[null,"List Annual Occupied Bed Counts"]
[]
[]
[]
[]
[null,"Exposure Type","Bed Count","Terr. 1 Rates","Terr. 2 Rates","Terr. 3 Rates","Terr. 4 Rates","Prevailing Primary Premium",null,null,null,null,null,null,null,null,null,null,null,null,null,null,"Terr. 1 PPP","Terr. 2 PPP","Terr. 3 PPP","Terr. 4 PPP"]
[null,null,null,null,null,null,null,null,null,null,null,null,null,"Daily Rate","# of Days"]
[null,"Convalescent",null,{"$f":"IF(OR(H14=1),W22,\"0\")","v":"0"},{"$f":"IF(OR(H14=2),X22,\"0\")","v":"0"},{"$f":"IF(OR(H14=3),Y22,\"0\")","v":"0"},{"$f":"IF(OR(H14=4),Z22,\"0\")","v":"0"},{"$f":"(N22*O22)*Q22","v":0},null,null,null,null,{"$f":"SUM(D22+E22+F22+G22)","v":0},{"$f":"M22/365","v":0},{"$f":"IF(AND(B14<45351,C14>45351),(C14-B14)-1,C14-B14)","v":0},null,{"$f":"ROUND(C22,0)","v":0},null,null,null,null,"Convalescent",516.80999999999995,229.49,287.37,459.46]
[null,"or"]
[null,"Skilled Nursing",null,{"$f":"IF(OR(H14=1),W24,\"0\")","v":"0"},{"$f":"IF(OR(H14=2),X24,\"0\")","v":"0"},{"$f":"IF(OR(H14=3),Y24,\"0\")","v":"0"},{"$f":"IF(OR(H14=4),Z24,\"0\")","v":"0"},{"$f":"(N24*O24)*Q24","v":0},null,null,null,null,{"$f":"SUM(D24+E24+F24+G24)","v":0},{"$f":"M24/365","v":0},{"$f":"IF(AND(B14<45351,C14>45351),(C14-B14)-1,C14-B14)","v":0},null,{"$f":"ROUND(C24,0)","v":0},null,null,null,null,"Skilled Nursing",425.63,188.99,236.65,378.39]
[null,"Nursing Home's Assessment"]
[]
[null,"Prevailing Primary Premium",null,null,null,null,null,{"$f":" (H22+H24)","v":0}]
[]
[null,"Mcare Assessment",null,null,null,null,null,{"$f":"ROUND(L29,0)","v":0},null,null,null,{"$f":"H27*26%","v":0}]

{"sheet":"BC WS","index":6,"n_rows":51,"n_cols":40,"rows_kept":51,"cut":false,"hidden":false,"merged":[[49,2,49,3],[49,7,49,8],[45,7,45,8],[42,7,42,8],[43,7,43,8],[44,2,44,3],[48,2,48,3],[48,7,48,8],[46,2,46,3],[46,7,46,8],[45,2,45,3],[47,2,47,3],[43,2,43,3],[36,2,36,3],[36,7,36,8],[37,2,37,3],[37,7,37,8],[50,1,50,8],[41,2,41,3],[41,7,41,8],[47,7,47,8],[42,2,42,3],[44,7,44,8],[38,2,38,3],[38,7,38,8],[39,7,39,8],[40,2,40,3],[40,7,40,8],[39,2,39,3],[33,2,33,3],[33,7,33,8],[34,2,34,3],[34,7,34,8],[35,2,35,3],[35,7,35,8],[30,2,30,3],[30,7,30,8],[31,2,31,3],[31,7,31,8],[32,2,32,3],[32,7,32,8],[27,2,27,3],[27,7,27,8],[28,2,28,3],[28,7,28,8],[29,2,29,3],[29,7,29,8],[24,2,24,3],[24,7,24,8],[25,2,25,3],[25,7,25,8],[26,2,26,3],[26,7,26,8],[21,2,21,3],[21,7,21,8],[22,2,22,3],[22,7,22,8],[23,2,23,3],[23,7,23,8],[18,2,18,3],[18,7,18,8],[19,2,19,3],[19,7,19,8],[20,2,20,3],[20,7,20,8],[15,2,15,3],[15,7,15,8],[16,2,16,3],[16,7,16,8],[17,2,17,3],[17,7,17,8],[13,1,14,8],[0,1,1,8],[2,2,2,8],[3,2,3,8],[4,2,4,8],[5,2,5,8],[6,2,6,8],[7,2,7,8],[8,1,8,2],[10,1,10,8],[11,7,11,8],[12,7,12,8]]}
[null,"2024 EXHIBIT 9 - BIRTH CENTER WORKSHEET (SPECIALTY CODE 80402)"]
[null,null,null,null,null,null,null,null,null,null,null,null,null,null,null,null,null,null,null,null,null,null,null,null,null,null,null,null,null,null,null,null,null,null,null,{"$f":"SUM(C:W)","v":0},null,null,null,"2014-10-27T08:45:00"]
[null,"Primary Carrier",{"$f":"IF('e-216'!G3=\"Please Select Primary Carrier\",\"\",'e-216'!G3)","v":""},null,null,null,null,null,null,null,null,null,null,null,null,null,null,null,null,null,null,null,null,null,null,null,null,null,null,null,null,null,null,null,null,80402]
[null,"Carrier Code",{"$f":"'e-216'!Q1","v":" "}]
[null,"Date",{"$f":"IF('e-216'!B2=\"Completion Date\",\"\",'e-216'!B2)","v":""}]
[null,"Birth Center's Name"]
[null,"Birth Center's Address"]
[null,"Birth Ctr's Assigned #"]
[null,"Basic Insurance Coverage Limits:",null,"$   500,000.00 Per Occ."]
[null,null,null,"$1,500,000.00 Per Agg."]
[null,"Entry Worksheets must be transferred to the e-216 by clicking the \"Transfer to e-216\" button."]
[null,"From Date","To Date","Retro Date","Policy #","Policy Type","County Code","Mcare Assessment"]
[null,null,null,null,null,null,null,{"$f":"Q17","v":0}]
[null,"List all shareholders, owners, partners and employed health care providers"]
[]
[" ","License #","Name",null,"County Code","Specialty Code","HCP's Annual Assessment","Other Rating Factors",null,null,null,null,"Total Assessment","# of Days","Daily Rate","Assessment","Rounded Assessment"]
[null,null,null,null,null,null,null,null,null,null,null,null,{"$f":"SUM(G17:G50)","v":0},{"$f":"IF(AND(B13<45351,C13>45351),(C13-B13)-1,C13-B13)","v":0},{"$f":"M17/365","v":0},{"$f":"(N17*O17)*25%","v":0},{"$f":"ROUND(P17,0)","v":0}]
[]
[]
[]
[]
[]
[]
[]
[]
[]
[]
[]
[]
[]
[]
[]
[]
[]
[]
[]
[]
[]
[]
[]
[]
[]
[]
[]
[]
[]
[]
[]
[]
[]
[null,"This worksheet will NOT include health care providers listed below this point in the calculation."]